BEGIN:VCALENDAR
VERSION:2.0
PRODID:-//West Side Sportsmans Club - ECPv6.15.15//NONSGML v1.0//EN
CALSCALE:GREGORIAN
METHOD:PUBLISH
X-ORIGINAL-URL:https://westsidesportsmens.com
X-WR-CALDESC:Events for West Side Sportsmans Club
REFRESH-INTERVAL;VALUE=DURATION:PT1H
X-Robots-Tag:noindex
X-PUBLISHED-TTL:PT1H
BEGIN:VTIMEZONE
TZID:America/Chicago
BEGIN:DAYLIGHT
TZOFFSETFROM:-0600
TZOFFSETTO:-0500
TZNAME:CDT
DTSTART:20240310T080000
END:DAYLIGHT
BEGIN:STANDARD
TZOFFSETFROM:-0500
TZOFFSETTO:-0600
TZNAME:CST
DTSTART:20241103T070000
END:STANDARD
BEGIN:DAYLIGHT
TZOFFSETFROM:-0600
TZOFFSETTO:-0500
TZNAME:CDT
DTSTART:20250309T080000
END:DAYLIGHT
BEGIN:STANDARD
TZOFFSETFROM:-0500
TZOFFSETTO:-0600
TZNAME:CST
DTSTART:20251102T070000
END:STANDARD
BEGIN:DAYLIGHT
TZOFFSETFROM:-0600
TZOFFSETTO:-0500
TZNAME:CDT
DTSTART:20260308T080000
END:DAYLIGHT
BEGIN:STANDARD
TZOFFSETFROM:-0500
TZOFFSETTO:-0600
TZNAME:CST
DTSTART:20261101T070000
END:STANDARD
END:VTIMEZONE
BEGIN:VTIMEZONE
TZID:UTC
BEGIN:STANDARD
TZOFFSETFROM:+0000
TZOFFSETTO:+0000
TZNAME:UTC
DTSTART:20210101T000000
END:STANDARD
END:VTIMEZONE
BEGIN:VEVENT
DTSTART;VALUE=DATE:20251004
DTEND;VALUE=DATE:20251013
DTSTAMP:20260421T143337
CREATED:20250306T013430Z
LAST-MODIFIED:20250719T215714Z
UID:10001884-1759536000-1760313599@westsidesportsmens.com
SUMMARY:Holiday Havoc Setup
DESCRIPTION:All Event Bays Closed 10/4/25 \nRifle Range and Cowboy Town Closed 10/8/2025 \nStaff Day 10/10/25 \nMain Match 10/11/25 \nRange Reopen 10/12/25020
URL:https://westsidesportsmens.com/calendar/holiday-havoc-setup/
LOCATION:Event Bays
CATEGORIES:Practical Action Shooting
END:VEVENT
BEGIN:VEVENT
DTSTART;VALUE=DATE:20241028
DTEND;VALUE=DATE:20241029
DTSTAMP:20260421T143337
CREATED:20231231T113446Z
LAST-MODIFIED:20231231T113446Z
UID:10001514-1730073600-1730159999@westsidesportsmens.com
SUMMARY:Fall Trap League Ends
DESCRIPTION:
URL:https://westsidesportsmens.com/calendar/fall-trap-league-ends/
LOCATION:Trap Range
CATEGORIES:Trap Range
END:VEVENT
BEGIN:VEVENT
DTSTART;VALUE=DATE:20240812
DTEND;VALUE=DATE:20240813
DTSTAMP:20260421T143337
CREATED:20231231T113347Z
LAST-MODIFIED:20231231T113347Z
UID:10001513-1723420800-1723507199@westsidesportsmens.com
SUMMARY:Fall Trap League Begins
DESCRIPTION:
URL:https://westsidesportsmens.com/calendar/fall-trap-league-begins/
LOCATION:Trap Range
CATEGORIES:Trap Range
END:VEVENT
BEGIN:VEVENT
DTSTART;VALUE=DATE:20240610
DTEND;VALUE=DATE:20240611
DTSTAMP:20260421T143337
CREATED:20231231T112718Z
LAST-MODIFIED:20231231T112718Z
UID:10001510-1717977600-1718063999@westsidesportsmens.com
SUMMARY:Spring Trap League End
DESCRIPTION:
URL:https://westsidesportsmens.com/calendar/spring-trap-league-end/
LOCATION:Trap Range
CATEGORIES:Trap Range
END:VEVENT
BEGIN:VEVENT
DTSTART;VALUE=DATE:20240507
DTEND;VALUE=DATE:20240512
DTSTAMP:20260421T143337
CREATED:20231231T113116Z
LAST-MODIFIED:20231231T113116Z
UID:10001512-1715040000-1715471999@westsidesportsmens.com
SUMMARY:Trap Range Closed
DESCRIPTION:
URL:https://westsidesportsmens.com/calendar/trap-range-closed/
LOCATION:Trap Range
CATEGORIES:Cowboy,Special Events,Trap Range
END:VEVENT
BEGIN:VEVENT
DTSTART;VALUE=DATE:20240325
DTEND;VALUE=DATE:20240326
DTSTAMP:20260421T143337
CREATED:20231231T112601Z
LAST-MODIFIED:20231231T112601Z
UID:10001509-1711324800-1711411199@westsidesportsmens.com
SUMMARY:Spring Trap League Starts
DESCRIPTION:
URL:https://westsidesportsmens.com/calendar/spring-trap-league-starts/
LOCATION:Trap Range
CATEGORIES:Trap Range
END:VEVENT
BEGIN:VEVENT
DTSTART;VALUE=DATE:20221029
DTEND;VALUE=DATE:20221031
DTSTAMP:20260421T143337
CREATED:20220301T081213Z
LAST-MODIFIED:20220816T065639Z
UID:10000398-1667001600-1667174399@westsidesportsmens.com
SUMMARY:Fall Trap League
DESCRIPTION:The dates for 2022 leagues are set. \n\nSpring League is March 28th – June 12th\nFall League is August 15th – October 30th\n\nWork Days \n\nApril 16th 8am to 12 noon\n\n\nJuly 16th 8am to 12 noon\n\n        Dinner \n\nSeptember 10th. Shoot from 9am to 12pm\, eat at noon\n\n        League fees are 80.00 for members and 85.00 for non-members. Youth 18 \n        And younger are 45.00. All fees to be paid by second week of shooting\, if \n        Late 10.00 penalty. No cash. Check or money order only. \n        Please contact Mike Reimann with any questions’ \n        Mike Reimann\, hank.reimann@gmail.com or cell 812-431-5517. \n 
URL:https://westsidesportsmens.com/calendar/fall-trap-league-8/2022-10-29/
LOCATION:Trap Range
END:VEVENT
BEGIN:VEVENT
DTSTART;VALUE=DATE:20221026
DTEND;VALUE=DATE:20221028
DTSTAMP:20260421T143337
CREATED:20220301T081213Z
LAST-MODIFIED:20220816T065639Z
UID:10000397-1666742400-1666915199@westsidesportsmens.com
SUMMARY:Fall Trap League
DESCRIPTION:The dates for 2022 leagues are set. \n\nSpring League is March 28th – June 12th\nFall League is August 15th – October 30th\n\nWork Days \n\nApril 16th 8am to 12 noon\n\n\nJuly 16th 8am to 12 noon\n\n        Dinner \n\nSeptember 10th. Shoot from 9am to 12pm\, eat at noon\n\n        League fees are 80.00 for members and 85.00 for non-members. Youth 18 \n        And younger are 45.00. All fees to be paid by second week of shooting\, if \n        Late 10.00 penalty. No cash. Check or money order only. \n        Please contact Mike Reimann with any questions’ \n        Mike Reimann\, hank.reimann@gmail.com or cell 812-431-5517. \n 
URL:https://westsidesportsmens.com/calendar/fall-trap-league-8/2022-10-26/
LOCATION:Trap Range
END:VEVENT
BEGIN:VEVENT
DTSTART;VALUE=DATE:20221022
DTEND;VALUE=DATE:20221024
DTSTAMP:20260421T143337
CREATED:20220301T081213Z
LAST-MODIFIED:20220816T065639Z
UID:10000396-1666396800-1666569599@westsidesportsmens.com
SUMMARY:Fall Trap League
DESCRIPTION:The dates for 2022 leagues are set. \n\nSpring League is March 28th – June 12th\nFall League is August 15th – October 30th\n\nWork Days \n\nApril 16th 8am to 12 noon\n\n\nJuly 16th 8am to 12 noon\n\n        Dinner \n\nSeptember 10th. Shoot from 9am to 12pm\, eat at noon\n\n        League fees are 80.00 for members and 85.00 for non-members. Youth 18 \n        And younger are 45.00. All fees to be paid by second week of shooting\, if \n        Late 10.00 penalty. No cash. Check or money order only. \n        Please contact Mike Reimann with any questions’ \n        Mike Reimann\, hank.reimann@gmail.com or cell 812-431-5517. \n 
URL:https://westsidesportsmens.com/calendar/fall-trap-league-8/2022-10-22/
LOCATION:Trap Range
END:VEVENT
BEGIN:VEVENT
DTSTART;VALUE=DATE:20221019
DTEND;VALUE=DATE:20221021
DTSTAMP:20260421T143337
CREATED:20220301T081213Z
LAST-MODIFIED:20220816T065639Z
UID:10000395-1666137600-1666310399@westsidesportsmens.com
SUMMARY:Fall Trap League
DESCRIPTION:The dates for 2022 leagues are set. \n\nSpring League is March 28th – June 12th\nFall League is August 15th – October 30th\n\nWork Days \n\nApril 16th 8am to 12 noon\n\n\nJuly 16th 8am to 12 noon\n\n        Dinner \n\nSeptember 10th. Shoot from 9am to 12pm\, eat at noon\n\n        League fees are 80.00 for members and 85.00 for non-members. Youth 18 \n        And younger are 45.00. All fees to be paid by second week of shooting\, if \n        Late 10.00 penalty. No cash. Check or money order only. \n        Please contact Mike Reimann with any questions’ \n        Mike Reimann\, hank.reimann@gmail.com or cell 812-431-5517. \n 
URL:https://westsidesportsmens.com/calendar/fall-trap-league-8/2022-10-19/
LOCATION:Trap Range
END:VEVENT
BEGIN:VEVENT
DTSTART;VALUE=DATE:20221015
DTEND;VALUE=DATE:20221017
DTSTAMP:20260421T143337
CREATED:20220301T081213Z
LAST-MODIFIED:20220816T065639Z
UID:10000394-1665792000-1665964799@westsidesportsmens.com
SUMMARY:Fall Trap League
DESCRIPTION:The dates for 2022 leagues are set. \n\nSpring League is March 28th – June 12th\nFall League is August 15th – October 30th\n\nWork Days \n\nApril 16th 8am to 12 noon\n\n\nJuly 16th 8am to 12 noon\n\n        Dinner \n\nSeptember 10th. Shoot from 9am to 12pm\, eat at noon\n\n        League fees are 80.00 for members and 85.00 for non-members. Youth 18 \n        And younger are 45.00. All fees to be paid by second week of shooting\, if \n        Late 10.00 penalty. No cash. Check or money order only. \n        Please contact Mike Reimann with any questions’ \n        Mike Reimann\, hank.reimann@gmail.com or cell 812-431-5517. \n 
URL:https://westsidesportsmens.com/calendar/fall-trap-league-8/2022-10-15/
LOCATION:Trap Range
END:VEVENT
BEGIN:VEVENT
DTSTART;VALUE=DATE:20221012
DTEND;VALUE=DATE:20221014
DTSTAMP:20260421T143337
CREATED:20220301T081213Z
LAST-MODIFIED:20220816T065639Z
UID:10000393-1665532800-1665705599@westsidesportsmens.com
SUMMARY:Fall Trap League
DESCRIPTION:The dates for 2022 leagues are set. \n\nSpring League is March 28th – June 12th\nFall League is August 15th – October 30th\n\nWork Days \n\nApril 16th 8am to 12 noon\n\n\nJuly 16th 8am to 12 noon\n\n        Dinner \n\nSeptember 10th. Shoot from 9am to 12pm\, eat at noon\n\n        League fees are 80.00 for members and 85.00 for non-members. Youth 18 \n        And younger are 45.00. All fees to be paid by second week of shooting\, if \n        Late 10.00 penalty. No cash. Check or money order only. \n        Please contact Mike Reimann with any questions’ \n        Mike Reimann\, hank.reimann@gmail.com or cell 812-431-5517. \n 
URL:https://westsidesportsmens.com/calendar/fall-trap-league-8/2022-10-12/
LOCATION:Trap Range
END:VEVENT
BEGIN:VEVENT
DTSTART;VALUE=DATE:20221008
DTEND;VALUE=DATE:20221010
DTSTAMP:20260421T143337
CREATED:20220301T081213Z
LAST-MODIFIED:20220816T065639Z
UID:10000392-1665187200-1665359999@westsidesportsmens.com
SUMMARY:Fall Trap League
DESCRIPTION:The dates for 2022 leagues are set. \n\nSpring League is March 28th – June 12th\nFall League is August 15th – October 30th\n\nWork Days \n\nApril 16th 8am to 12 noon\n\n\nJuly 16th 8am to 12 noon\n\n        Dinner \n\nSeptember 10th. Shoot from 9am to 12pm\, eat at noon\n\n        League fees are 80.00 for members and 85.00 for non-members. Youth 18 \n        And younger are 45.00. All fees to be paid by second week of shooting\, if \n        Late 10.00 penalty. No cash. Check or money order only. \n        Please contact Mike Reimann with any questions’ \n        Mike Reimann\, hank.reimann@gmail.com or cell 812-431-5517. \n 
URL:https://westsidesportsmens.com/calendar/fall-trap-league-8/2022-10-08/
LOCATION:Trap Range
END:VEVENT
BEGIN:VEVENT
DTSTART;VALUE=DATE:20221005
DTEND;VALUE=DATE:20221007
DTSTAMP:20260421T143337
CREATED:20220301T081213Z
LAST-MODIFIED:20220816T065639Z
UID:10000391-1664928000-1665100799@westsidesportsmens.com
SUMMARY:Fall Trap League
DESCRIPTION:The dates for 2022 leagues are set. \n\nSpring League is March 28th – June 12th\nFall League is August 15th – October 30th\n\nWork Days \n\nApril 16th 8am to 12 noon\n\n\nJuly 16th 8am to 12 noon\n\n        Dinner \n\nSeptember 10th. Shoot from 9am to 12pm\, eat at noon\n\n        League fees are 80.00 for members and 85.00 for non-members. Youth 18 \n        And younger are 45.00. All fees to be paid by second week of shooting\, if \n        Late 10.00 penalty. No cash. Check or money order only. \n        Please contact Mike Reimann with any questions’ \n        Mike Reimann\, hank.reimann@gmail.com or cell 812-431-5517. \n 
URL:https://westsidesportsmens.com/calendar/fall-trap-league-8/2022-10-05/
LOCATION:Trap Range
END:VEVENT
BEGIN:VEVENT
DTSTART;VALUE=DATE:20221001
DTEND;VALUE=DATE:20221003
DTSTAMP:20260421T143337
CREATED:20220301T081213Z
LAST-MODIFIED:20220816T065639Z
UID:10000390-1664582400-1664755199@westsidesportsmens.com
SUMMARY:Fall Trap League
DESCRIPTION:The dates for 2022 leagues are set. \n\nSpring League is March 28th – June 12th\nFall League is August 15th – October 30th\n\nWork Days \n\nApril 16th 8am to 12 noon\n\n\nJuly 16th 8am to 12 noon\n\n        Dinner \n\nSeptember 10th. Shoot from 9am to 12pm\, eat at noon\n\n        League fees are 80.00 for members and 85.00 for non-members. Youth 18 \n        And younger are 45.00. All fees to be paid by second week of shooting\, if \n        Late 10.00 penalty. No cash. Check or money order only. \n        Please contact Mike Reimann with any questions’ \n        Mike Reimann\, hank.reimann@gmail.com or cell 812-431-5517. \n 
URL:https://westsidesportsmens.com/calendar/fall-trap-league-8/2022-10-01/
LOCATION:Trap Range
END:VEVENT
BEGIN:VEVENT
DTSTART;VALUE=DATE:20220928
DTEND;VALUE=DATE:20220930
DTSTAMP:20260421T143337
CREATED:20220301T081213Z
LAST-MODIFIED:20220816T065639Z
UID:10000389-1664323200-1664495999@westsidesportsmens.com
SUMMARY:Fall Trap League
DESCRIPTION:The dates for 2022 leagues are set. \n\nSpring League is March 28th – June 12th\nFall League is August 15th – October 30th\n\nWork Days \n\nApril 16th 8am to 12 noon\n\n\nJuly 16th 8am to 12 noon\n\n        Dinner \n\nSeptember 10th. Shoot from 9am to 12pm\, eat at noon\n\n        League fees are 80.00 for members and 85.00 for non-members. Youth 18 \n        And younger are 45.00. All fees to be paid by second week of shooting\, if \n        Late 10.00 penalty. No cash. Check or money order only. \n        Please contact Mike Reimann with any questions’ \n        Mike Reimann\, hank.reimann@gmail.com or cell 812-431-5517. \n 
URL:https://westsidesportsmens.com/calendar/fall-trap-league-8/2022-09-28/
LOCATION:Trap Range
END:VEVENT
BEGIN:VEVENT
DTSTART;VALUE=DATE:20220924
DTEND;VALUE=DATE:20220926
DTSTAMP:20260421T143337
CREATED:20220301T081213Z
LAST-MODIFIED:20220816T065639Z
UID:10000388-1663977600-1664150399@westsidesportsmens.com
SUMMARY:Fall Trap League
DESCRIPTION:The dates for 2022 leagues are set. \n\nSpring League is March 28th – June 12th\nFall League is August 15th – October 30th\n\nWork Days \n\nApril 16th 8am to 12 noon\n\n\nJuly 16th 8am to 12 noon\n\n        Dinner \n\nSeptember 10th. Shoot from 9am to 12pm\, eat at noon\n\n        League fees are 80.00 for members and 85.00 for non-members. Youth 18 \n        And younger are 45.00. All fees to be paid by second week of shooting\, if \n        Late 10.00 penalty. No cash. Check or money order only. \n        Please contact Mike Reimann with any questions’ \n        Mike Reimann\, hank.reimann@gmail.com or cell 812-431-5517. \n 
URL:https://westsidesportsmens.com/calendar/fall-trap-league-8/2022-09-24/
LOCATION:Trap Range
END:VEVENT
BEGIN:VEVENT
DTSTART;VALUE=DATE:20220921
DTEND;VALUE=DATE:20220923
DTSTAMP:20260421T143337
CREATED:20220301T081213Z
LAST-MODIFIED:20220816T065639Z
UID:10000387-1663718400-1663891199@westsidesportsmens.com
SUMMARY:Fall Trap League
DESCRIPTION:The dates for 2022 leagues are set. \n\nSpring League is March 28th – June 12th\nFall League is August 15th – October 30th\n\nWork Days \n\nApril 16th 8am to 12 noon\n\n\nJuly 16th 8am to 12 noon\n\n        Dinner \n\nSeptember 10th. Shoot from 9am to 12pm\, eat at noon\n\n        League fees are 80.00 for members and 85.00 for non-members. Youth 18 \n        And younger are 45.00. All fees to be paid by second week of shooting\, if \n        Late 10.00 penalty. No cash. Check or money order only. \n        Please contact Mike Reimann with any questions’ \n        Mike Reimann\, hank.reimann@gmail.com or cell 812-431-5517. \n 
URL:https://westsidesportsmens.com/calendar/fall-trap-league-8/2022-09-21/
LOCATION:Trap Range
END:VEVENT
BEGIN:VEVENT
DTSTART;VALUE=DATE:20220917
DTEND;VALUE=DATE:20220919
DTSTAMP:20260421T143337
CREATED:20220301T081213Z
LAST-MODIFIED:20220816T065639Z
UID:10000386-1663372800-1663545599@westsidesportsmens.com
SUMMARY:Fall Trap League
DESCRIPTION:The dates for 2022 leagues are set. \n\nSpring League is March 28th – June 12th\nFall League is August 15th – October 30th\n\nWork Days \n\nApril 16th 8am to 12 noon\n\n\nJuly 16th 8am to 12 noon\n\n        Dinner \n\nSeptember 10th. Shoot from 9am to 12pm\, eat at noon\n\n        League fees are 80.00 for members and 85.00 for non-members. Youth 18 \n        And younger are 45.00. All fees to be paid by second week of shooting\, if \n        Late 10.00 penalty. No cash. Check or money order only. \n        Please contact Mike Reimann with any questions’ \n        Mike Reimann\, hank.reimann@gmail.com or cell 812-431-5517. \n 
URL:https://westsidesportsmens.com/calendar/fall-trap-league-8/2022-09-17/
LOCATION:Trap Range
END:VEVENT
BEGIN:VEVENT
DTSTART;VALUE=DATE:20220914
DTEND;VALUE=DATE:20220916
DTSTAMP:20260421T143337
CREATED:20220301T081213Z
LAST-MODIFIED:20220816T065639Z
UID:10000385-1663113600-1663286399@westsidesportsmens.com
SUMMARY:Fall Trap League
DESCRIPTION:The dates for 2022 leagues are set. \n\nSpring League is March 28th – June 12th\nFall League is August 15th – October 30th\n\nWork Days \n\nApril 16th 8am to 12 noon\n\n\nJuly 16th 8am to 12 noon\n\n        Dinner \n\nSeptember 10th. Shoot from 9am to 12pm\, eat at noon\n\n        League fees are 80.00 for members and 85.00 for non-members. Youth 18 \n        And younger are 45.00. All fees to be paid by second week of shooting\, if \n        Late 10.00 penalty. No cash. Check or money order only. \n        Please contact Mike Reimann with any questions’ \n        Mike Reimann\, hank.reimann@gmail.com or cell 812-431-5517. \n 
URL:https://westsidesportsmens.com/calendar/fall-trap-league-8/2022-09-14/
LOCATION:Trap Range
END:VEVENT
BEGIN:VEVENT
DTSTART;VALUE=DATE:20220910
DTEND;VALUE=DATE:20220912
DTSTAMP:20260421T143337
CREATED:20220301T081213Z
LAST-MODIFIED:20220816T065639Z
UID:10000384-1662768000-1662940799@westsidesportsmens.com
SUMMARY:Fall Trap League
DESCRIPTION:The dates for 2022 leagues are set. \n\nSpring League is March 28th – June 12th\nFall League is August 15th – October 30th\n\nWork Days \n\nApril 16th 8am to 12 noon\n\n\nJuly 16th 8am to 12 noon\n\n        Dinner \n\nSeptember 10th. Shoot from 9am to 12pm\, eat at noon\n\n        League fees are 80.00 for members and 85.00 for non-members. Youth 18 \n        And younger are 45.00. All fees to be paid by second week of shooting\, if \n        Late 10.00 penalty. No cash. Check or money order only. \n        Please contact Mike Reimann with any questions’ \n        Mike Reimann\, hank.reimann@gmail.com or cell 812-431-5517. \n 
URL:https://westsidesportsmens.com/calendar/fall-trap-league-8/2022-09-10/
LOCATION:Trap Range
END:VEVENT
BEGIN:VEVENT
DTSTART;VALUE=DATE:20220907
DTEND;VALUE=DATE:20220909
DTSTAMP:20260421T143337
CREATED:20220301T081213Z
LAST-MODIFIED:20220816T065639Z
UID:10000383-1662508800-1662681599@westsidesportsmens.com
SUMMARY:Fall Trap League
DESCRIPTION:The dates for 2022 leagues are set. \n\nSpring League is March 28th – June 12th\nFall League is August 15th – October 30th\n\nWork Days \n\nApril 16th 8am to 12 noon\n\n\nJuly 16th 8am to 12 noon\n\n        Dinner \n\nSeptember 10th. Shoot from 9am to 12pm\, eat at noon\n\n        League fees are 80.00 for members and 85.00 for non-members. Youth 18 \n        And younger are 45.00. All fees to be paid by second week of shooting\, if \n        Late 10.00 penalty. No cash. Check or money order only. \n        Please contact Mike Reimann with any questions’ \n        Mike Reimann\, hank.reimann@gmail.com or cell 812-431-5517. \n 
URL:https://westsidesportsmens.com/calendar/fall-trap-league-8/2022-09-07/
LOCATION:Trap Range
END:VEVENT
BEGIN:VEVENT
DTSTART;VALUE=DATE:20220903
DTEND;VALUE=DATE:20220905
DTSTAMP:20260421T143337
CREATED:20220301T081213Z
LAST-MODIFIED:20220816T065639Z
UID:10000382-1662163200-1662335999@westsidesportsmens.com
SUMMARY:Fall Trap League
DESCRIPTION:The dates for 2022 leagues are set. \n\nSpring League is March 28th – June 12th\nFall League is August 15th – October 30th\n\nWork Days \n\nApril 16th 8am to 12 noon\n\n\nJuly 16th 8am to 12 noon\n\n        Dinner \n\nSeptember 10th. Shoot from 9am to 12pm\, eat at noon\n\n        League fees are 80.00 for members and 85.00 for non-members. Youth 18 \n        And younger are 45.00. All fees to be paid by second week of shooting\, if \n        Late 10.00 penalty. No cash. Check or money order only. \n        Please contact Mike Reimann with any questions’ \n        Mike Reimann\, hank.reimann@gmail.com or cell 812-431-5517. \n 
URL:https://westsidesportsmens.com/calendar/fall-trap-league-8/2022-09-03/
LOCATION:Trap Range
END:VEVENT
BEGIN:VEVENT
DTSTART;VALUE=DATE:20220831
DTEND;VALUE=DATE:20220902
DTSTAMP:20260421T143337
CREATED:20220301T081213Z
LAST-MODIFIED:20220816T065639Z
UID:10000381-1661904000-1662076799@westsidesportsmens.com
SUMMARY:Fall Trap League
DESCRIPTION:The dates for 2022 leagues are set. \n\nSpring League is March 28th – June 12th\nFall League is August 15th – October 30th\n\nWork Days \n\nApril 16th 8am to 12 noon\n\n\nJuly 16th 8am to 12 noon\n\n        Dinner \n\nSeptember 10th. Shoot from 9am to 12pm\, eat at noon\n\n        League fees are 80.00 for members and 85.00 for non-members. Youth 18 \n        And younger are 45.00. All fees to be paid by second week of shooting\, if \n        Late 10.00 penalty. No cash. Check or money order only. \n        Please contact Mike Reimann with any questions’ \n        Mike Reimann\, hank.reimann@gmail.com or cell 812-431-5517. \n 
URL:https://westsidesportsmens.com/calendar/fall-trap-league-8/2022-08-31/
LOCATION:Trap Range
END:VEVENT
BEGIN:VEVENT
DTSTART;VALUE=DATE:20220827
DTEND;VALUE=DATE:20220829
DTSTAMP:20260421T143337
CREATED:20220301T081213Z
LAST-MODIFIED:20220816T065639Z
UID:10000380-1661558400-1661731199@westsidesportsmens.com
SUMMARY:Fall Trap League
DESCRIPTION:The dates for 2022 leagues are set. \n\nSpring League is March 28th – June 12th\nFall League is August 15th – October 30th\n\nWork Days \n\nApril 16th 8am to 12 noon\n\n\nJuly 16th 8am to 12 noon\n\n        Dinner \n\nSeptember 10th. Shoot from 9am to 12pm\, eat at noon\n\n        League fees are 80.00 for members and 85.00 for non-members. Youth 18 \n        And younger are 45.00. All fees to be paid by second week of shooting\, if \n        Late 10.00 penalty. No cash. Check or money order only. \n        Please contact Mike Reimann with any questions’ \n        Mike Reimann\, hank.reimann@gmail.com or cell 812-431-5517. \n 
URL:https://westsidesportsmens.com/calendar/fall-trap-league-8/2022-08-27/
LOCATION:Trap Range
END:VEVENT
BEGIN:VEVENT
DTSTART;VALUE=DATE:20220824
DTEND;VALUE=DATE:20220826
DTSTAMP:20260421T143337
CREATED:20220301T081213Z
LAST-MODIFIED:20220816T065639Z
UID:10000379-1661299200-1661471999@westsidesportsmens.com
SUMMARY:Fall Trap League
DESCRIPTION:The dates for 2022 leagues are set. \n\nSpring League is March 28th – June 12th\nFall League is August 15th – October 30th\n\nWork Days \n\nApril 16th 8am to 12 noon\n\n\nJuly 16th 8am to 12 noon\n\n        Dinner \n\nSeptember 10th. Shoot from 9am to 12pm\, eat at noon\n\n        League fees are 80.00 for members and 85.00 for non-members. Youth 18 \n        And younger are 45.00. All fees to be paid by second week of shooting\, if \n        Late 10.00 penalty. No cash. Check or money order only. \n        Please contact Mike Reimann with any questions’ \n        Mike Reimann\, hank.reimann@gmail.com or cell 812-431-5517. \n 
URL:https://westsidesportsmens.com/calendar/fall-trap-league-8/2022-08-24/
LOCATION:Trap Range
END:VEVENT
BEGIN:VEVENT
DTSTART;VALUE=DATE:20220820
DTEND;VALUE=DATE:20220822
DTSTAMP:20260421T143337
CREATED:20220301T081213Z
LAST-MODIFIED:20220816T065639Z
UID:10000378-1660953600-1661126399@westsidesportsmens.com
SUMMARY:Fall Trap League
DESCRIPTION:The dates for 2022 leagues are set. \n\nSpring League is March 28th – June 12th\nFall League is August 15th – October 30th\n\nWork Days \n\nApril 16th 8am to 12 noon\n\n\nJuly 16th 8am to 12 noon\n\n        Dinner \n\nSeptember 10th. Shoot from 9am to 12pm\, eat at noon\n\n        League fees are 80.00 for members and 85.00 for non-members. Youth 18 \n        And younger are 45.00. All fees to be paid by second week of shooting\, if \n        Late 10.00 penalty. No cash. Check or money order only. \n        Please contact Mike Reimann with any questions’ \n        Mike Reimann\, hank.reimann@gmail.com or cell 812-431-5517. \n 
URL:https://westsidesportsmens.com/calendar/fall-trap-league-8/2022-08-20/
LOCATION:Trap Range
END:VEVENT
BEGIN:VEVENT
DTSTART;VALUE=DATE:20220817
DTEND;VALUE=DATE:20220819
DTSTAMP:20260421T143337
CREATED:20220301T081213Z
LAST-MODIFIED:20220816T065639Z
UID:10000377-1660694400-1660867199@westsidesportsmens.com
SUMMARY:Fall Trap League
DESCRIPTION:The dates for 2022 leagues are set. \n\nSpring League is March 28th – June 12th\nFall League is August 15th – October 30th\n\nWork Days \n\nApril 16th 8am to 12 noon\n\n\nJuly 16th 8am to 12 noon\n\n        Dinner \n\nSeptember 10th. Shoot from 9am to 12pm\, eat at noon\n\n        League fees are 80.00 for members and 85.00 for non-members. Youth 18 \n        And younger are 45.00. All fees to be paid by second week of shooting\, if \n        Late 10.00 penalty. No cash. Check or money order only. \n        Please contact Mike Reimann with any questions’ \n        Mike Reimann\, hank.reimann@gmail.com or cell 812-431-5517. \n 
URL:https://westsidesportsmens.com/calendar/fall-trap-league-8/2022-08-17/
LOCATION:Trap Range
END:VEVENT
BEGIN:VEVENT
DTSTART;VALUE=DATE:20220815
DTEND;VALUE=DATE:20220817
DTSTAMP:20260421T143337
CREATED:20220301T081213Z
LAST-MODIFIED:20220816T065639Z
UID:10000376-1660521600-1660694399@westsidesportsmens.com
SUMMARY:Fall Trap League
DESCRIPTION:The dates for 2022 leagues are set. \n\nSpring League is March 28th – June 12th\nFall League is August 15th – October 30th\n\nWork Days \n\nApril 16th 8am to 12 noon\n\n\nJuly 16th 8am to 12 noon\n\n        Dinner \n\nSeptember 10th. Shoot from 9am to 12pm\, eat at noon\n\n        League fees are 80.00 for members and 85.00 for non-members. Youth 18 \n        And younger are 45.00. All fees to be paid by second week of shooting\, if \n        Late 10.00 penalty. No cash. Check or money order only. \n        Please contact Mike Reimann with any questions’ \n        Mike Reimann\, hank.reimann@gmail.com or cell 812-431-5517. \n 
URL:https://westsidesportsmens.com/calendar/fall-trap-league-8/2022-08-15/
LOCATION:Trap Range
END:VEVENT
BEGIN:VEVENT
DTSTART;TZID=UTC:20220716T080000
DTEND;TZID=UTC:20220716T120000
DTSTAMP:20260421T143337
CREATED:20220329T073516Z
LAST-MODIFIED:20220329T073516Z
UID:10000611-1657958400-1657972800@westsidesportsmens.com
SUMMARY:Trap Range Workday
DESCRIPTION:Trap Range Closed for Workday
URL:https://westsidesportsmens.com/calendar/trap-range-workday-2/
LOCATION:Trap Range
CATEGORIES:Trap Range
END:VEVENT
END:VCALENDAR