BEGIN:VCALENDAR
VERSION:2.0
PRODID:-//West Side Sportsmans Club - ECPv6.15.15//NONSGML v1.0//EN
CALSCALE:GREGORIAN
METHOD:PUBLISH
X-WR-CALNAME:West Side Sportsmans Club
X-ORIGINAL-URL:https://westsidesportsmens.com
X-WR-CALDESC:Events for West Side Sportsmans Club
REFRESH-INTERVAL;VALUE=DURATION:PT1H
X-Robots-Tag:noindex
X-PUBLISHED-TTL:PT1H
BEGIN:VTIMEZONE
TZID:UTC
BEGIN:STANDARD
TZOFFSETFROM:+0000
TZOFFSETTO:+0000
TZNAME:UTC
DTSTART:20210101T000000
END:STANDARD
END:VTIMEZONE
BEGIN:VEVENT
DTSTART;TZID=UTC:20220918T120000
DTEND;TZID=UTC:20220918T120000
DTSTAMP:20260422T134734
CREATED:20220816T064745Z
LAST-MODIFIED:20220919T062457Z
UID:10000626-1663502400-1663502400@westsidesportsmens.com
SUMMARY:Spot Shoot
DESCRIPTION:
URL:https://westsidesportsmens.com/calendar/spot-shoot/2022-09-18/
LOCATION:Spot Range
CATEGORIES:Spot Shoot
ORGANIZER;CN="Kraig Hausmann":MAILTO:kraighausmann@gmail.com
END:VEVENT
BEGIN:VEVENT
DTSTART;TZID=UTC:20220508T120000
DTEND;TZID=UTC:20220508T170000
DTSTAMP:20260422T134734
CREATED:20220309T201430Z
LAST-MODIFIED:20220309T201430Z
UID:10000609-1652011200-1652029200@westsidesportsmens.com
SUMMARY:Spring Spot Shoots
DESCRIPTION:
URL:https://westsidesportsmens.com/calendar/spring-spot-shoots-6/
LOCATION:Spot Range
CATEGORIES:Spot Shoot
END:VEVENT
BEGIN:VEVENT
DTSTART;TZID=UTC:20220501T120000
DTEND;TZID=UTC:20220501T170000
DTSTAMP:20260422T134735
CREATED:20220309T201329Z
LAST-MODIFIED:20220309T201329Z
UID:10000608-1651406400-1651424400@westsidesportsmens.com
SUMMARY:Spring Spot Shoots
DESCRIPTION:
URL:https://westsidesportsmens.com/calendar/spring-spot-shoots-5/
LOCATION:Spot Range
CATEGORIES:Spot Shoot
END:VEVENT
BEGIN:VEVENT
DTSTART;TZID=UTC:20220417T120000
DTEND;TZID=UTC:20220417T170000
DTSTAMP:20260422T134735
CREATED:20220309T201155Z
LAST-MODIFIED:20220309T201155Z
UID:10000607-1650196800-1650214800@westsidesportsmens.com
SUMMARY:Spring Spot Shoots
DESCRIPTION:
URL:https://westsidesportsmens.com/calendar/spring-spot-shoots-4/
LOCATION:Spot Range
CATEGORIES:Spot Shoot
END:VEVENT
BEGIN:VEVENT
DTSTART;TZID=UTC:20220410T120000
DTEND;TZID=UTC:20220410T170000
DTSTAMP:20260422T134735
CREATED:20220309T201009Z
LAST-MODIFIED:20220309T201009Z
UID:10000606-1649592000-1649610000@westsidesportsmens.com
SUMMARY:Spring Spot Shoots
DESCRIPTION:
URL:https://westsidesportsmens.com/calendar/spring-spot-shoots-3/
LOCATION:Spot Range
CATEGORIES:Spot Shoot
END:VEVENT
BEGIN:VEVENT
DTSTART;TZID=UTC:20220403T120000
DTEND;TZID=UTC:20220403T170000
DTSTAMP:20260422T134735
CREATED:20220309T200917Z
LAST-MODIFIED:20220309T201112Z
UID:10000605-1648987200-1649005200@westsidesportsmens.com
SUMMARY:Spring Spot Shoots
DESCRIPTION:
URL:https://westsidesportsmens.com/calendar/spring-spot-shoots-2/
LOCATION:Spot Range
CATEGORIES:Spot Shoot
END:VEVENT
BEGIN:VEVENT
DTSTART;TZID=UTC:20220328T120000
DTEND;TZID=UTC:20220328T120000
DTSTAMP:20260422T134735
CREATED:20220309T200757Z
LAST-MODIFIED:20220329T071319Z
UID:10000604-1648468800-1648468800@westsidesportsmens.com
SUMMARY:Spring Spot Shoots
DESCRIPTION:WSSC 2022 Trap Range Dates
URL:https://westsidesportsmens.com/calendar/spring-spot-shoots/
LOCATION:Spot Range
CATEGORIES:Spot Shoot
END:VEVENT
END:VCALENDAR