BEGIN:VCALENDAR
VERSION:2.0
PRODID:-//West Side Sportsmans Club - ECPv6.15.15//NONSGML v1.0//EN
CALSCALE:GREGORIAN
METHOD:PUBLISH
X-WR-CALNAME:West Side Sportsmans Club
X-ORIGINAL-URL:https://westsidesportsmens.com
X-WR-CALDESC:Events for West Side Sportsmans Club
REFRESH-INTERVAL;VALUE=DURATION:PT1H
X-Robots-Tag:noindex
X-PUBLISHED-TTL:PT1H
BEGIN:VTIMEZONE
TZID:UTC
BEGIN:STANDARD
TZOFFSETFROM:+0000
TZOFFSETTO:+0000
TZNAME:UTC
DTSTART:20210101T000000
END:STANDARD
END:VTIMEZONE
BEGIN:VEVENT
DTSTART;TZID=UTC:20240518T080000
DTEND;TZID=UTC:20240518T140000
DTSTAMP:20260421T063000
CREATED:20231231T101603Z
LAST-MODIFIED:20231231T101627Z
UID:10001348-1716019200-1716040800@westsidesportsmens.com
SUMMARY:IDPA Shoot
DESCRIPTION:
URL:https://westsidesportsmens.com/calendar/idpa-shoot/2024-05-18/
LOCATION:Event Bays
CATEGORIES:Practical Action Shooting
END:VEVENT
BEGIN:VEVENT
DTSTART;TZID=UTC:20240420T080000
DTEND;TZID=UTC:20240420T140000
DTSTAMP:20260421T063000
CREATED:20231231T101603Z
LAST-MODIFIED:20231231T101627Z
UID:10001347-1713600000-1713621600@westsidesportsmens.com
SUMMARY:IDPA Shoot
DESCRIPTION:
URL:https://westsidesportsmens.com/calendar/idpa-shoot/2024-04-20/
LOCATION:Event Bays
CATEGORIES:Practical Action Shooting
END:VEVENT
BEGIN:VEVENT
DTSTART;TZID=UTC:20240316T080000
DTEND;TZID=UTC:20240316T140000
DTSTAMP:20260421T063000
CREATED:20231231T101603Z
LAST-MODIFIED:20231231T101627Z
UID:10001346-1710576000-1710597600@westsidesportsmens.com
SUMMARY:IDPA Shoot
DESCRIPTION:
URL:https://westsidesportsmens.com/calendar/idpa-shoot/2024-03-16/
LOCATION:Event Bays
CATEGORIES:Practical Action Shooting
END:VEVENT
BEGIN:VEVENT
DTSTART;TZID=UTC:20240217T080000
DTEND;TZID=UTC:20240217T140000
DTSTAMP:20260421T063000
CREATED:20231231T101603Z
LAST-MODIFIED:20231231T101627Z
UID:10001345-1708156800-1708178400@westsidesportsmens.com
SUMMARY:IDPA Shoot
DESCRIPTION:
URL:https://westsidesportsmens.com/calendar/idpa-shoot/2024-02-17/
LOCATION:Event Bays
CATEGORIES:Practical Action Shooting
END:VEVENT
BEGIN:VEVENT
DTSTART;TZID=UTC:20240120T080000
DTEND;TZID=UTC:20240120T140000
DTSTAMP:20260421T063000
CREATED:20231231T101603Z
LAST-MODIFIED:20231231T101627Z
UID:10001344-1705737600-1705759200@westsidesportsmens.com
SUMMARY:IDPA Shoot
DESCRIPTION:
URL:https://westsidesportsmens.com/calendar/idpa-shoot/2024-01-20/
LOCATION:Event Bays
CATEGORIES:Practical Action Shooting
END:VEVENT
BEGIN:VEVENT
DTSTART;TZID=UTC:20231209T080000
DTEND;TZID=UTC:20231209T170000
DTSTAMP:20260421T063000
CREATED:20230222T082045Z
LAST-MODIFIED:20230222T082425Z
UID:10000673-1702108800-1702141200@westsidesportsmens.com
SUMMARY:PAS IDPA Monthly Match
DESCRIPTION:
URL:https://westsidesportsmens.com/calendar/pas-idpa-monthly-match/2023-12-09/
LOCATION:Event Bays
CATEGORIES:Practical Action Shooting
END:VEVENT
BEGIN:VEVENT
DTSTART;TZID=UTC:20231111T080000
DTEND;TZID=UTC:20231111T170000
DTSTAMP:20260421T063000
CREATED:20230222T082045Z
LAST-MODIFIED:20230222T082425Z
UID:10000672-1699689600-1699722000@westsidesportsmens.com
SUMMARY:PAS IDPA Monthly Match
DESCRIPTION:
URL:https://westsidesportsmens.com/calendar/pas-idpa-monthly-match/2023-11-11/
LOCATION:Event Bays
CATEGORIES:Practical Action Shooting
END:VEVENT
BEGIN:VEVENT
DTSTART;TZID=UTC:20231014T080000
DTEND;TZID=UTC:20231014T170000
DTSTAMP:20260421T063000
CREATED:20230222T082045Z
LAST-MODIFIED:20230222T082425Z
UID:10000671-1697270400-1697302800@westsidesportsmens.com
SUMMARY:PAS IDPA Monthly Match
DESCRIPTION:
URL:https://westsidesportsmens.com/calendar/pas-idpa-monthly-match/2023-10-14/
LOCATION:Event Bays
CATEGORIES:Practical Action Shooting
END:VEVENT
BEGIN:VEVENT
DTSTART;VALUE=DATE:20230928
DTEND;VALUE=DATE:20231001
DTSTAMP:20260421T063000
CREATED:20230222T083102Z
LAST-MODIFIED:20230222T083102Z
UID:10000675-1695859200-1696118399@westsidesportsmens.com
SUMMARY:Holiday Havoc
DESCRIPTION:
URL:https://westsidesportsmens.com/calendar/holiday-havoc/
LOCATION:Event Bays
CATEGORIES:Archery,Cowboy,Practical Action Shooting,Rifle Range,Special Events,Spot Shoot,Trap Range
END:VEVENT
BEGIN:VEVENT
DTSTART;TZID=UTC:20230923T080000
DTEND;TZID=UTC:20230927T170000
DTSTAMP:20260421T063000
CREATED:20230222T083331Z
LAST-MODIFIED:20230222T083331Z
UID:10000676-1695456000-1695834000@westsidesportsmens.com
SUMMARY:Holiday Havoc Range Prep
DESCRIPTION:Event Bays and Pistol Bays 1\,3\, & 6 Closed until after Holiday Havoc Event
URL:https://westsidesportsmens.com/calendar/holiday-havoc-range-prep/
LOCATION:Event Bays
CATEGORIES:Practical Action Shooting,Special Events
END:VEVENT
BEGIN:VEVENT
DTSTART;TZID=UTC:20230909T080000
DTEND;TZID=UTC:20230909T170000
DTSTAMP:20260421T063000
CREATED:20230222T082045Z
LAST-MODIFIED:20230222T082425Z
UID:10000670-1694246400-1694278800@westsidesportsmens.com
SUMMARY:PAS IDPA Monthly Match
DESCRIPTION:
URL:https://westsidesportsmens.com/calendar/pas-idpa-monthly-match/2023-09-09/
LOCATION:Event Bays
CATEGORIES:Practical Action Shooting
END:VEVENT
BEGIN:VEVENT
DTSTART;TZID=UTC:20230812T080000
DTEND;TZID=UTC:20230812T170000
DTSTAMP:20260421T063000
CREATED:20230222T082045Z
LAST-MODIFIED:20230222T082425Z
UID:10000669-1691827200-1691859600@westsidesportsmens.com
SUMMARY:PAS IDPA Monthly Match
DESCRIPTION:
URL:https://westsidesportsmens.com/calendar/pas-idpa-monthly-match/2023-08-12/
LOCATION:Event Bays
CATEGORIES:Practical Action Shooting
END:VEVENT
BEGIN:VEVENT
DTSTART;TZID=UTC:20230708T080000
DTEND;TZID=UTC:20230708T170000
DTSTAMP:20260421T063000
CREATED:20230222T082045Z
LAST-MODIFIED:20230222T082425Z
UID:10000668-1688803200-1688835600@westsidesportsmens.com
SUMMARY:PAS IDPA Monthly Match
DESCRIPTION:
URL:https://westsidesportsmens.com/calendar/pas-idpa-monthly-match/2023-07-08/
LOCATION:Event Bays
CATEGORIES:Practical Action Shooting
END:VEVENT
BEGIN:VEVENT
DTSTART;TZID=UTC:20230610T080000
DTEND;TZID=UTC:20230610T170000
DTSTAMP:20260421T063000
CREATED:20230222T082045Z
LAST-MODIFIED:20230222T082425Z
UID:10000667-1686384000-1686416400@westsidesportsmens.com
SUMMARY:PAS IDPA Monthly Match
DESCRIPTION:
URL:https://westsidesportsmens.com/calendar/pas-idpa-monthly-match/2023-06-10/
LOCATION:Event Bays
CATEGORIES:Practical Action Shooting
END:VEVENT
BEGIN:VEVENT
DTSTART;TZID=UTC:20230513T080000
DTEND;TZID=UTC:20230513T170000
DTSTAMP:20260421T063000
CREATED:20230222T082045Z
LAST-MODIFIED:20230222T082425Z
UID:10000666-1683964800-1683997200@westsidesportsmens.com
SUMMARY:PAS IDPA Monthly Match
DESCRIPTION:
URL:https://westsidesportsmens.com/calendar/pas-idpa-monthly-match/2023-05-13/
LOCATION:Event Bays
CATEGORIES:Practical Action Shooting
END:VEVENT
BEGIN:VEVENT
DTSTART;TZID=UTC:20230408T080000
DTEND;TZID=UTC:20230408T170000
DTSTAMP:20260421T063000
CREATED:20230222T082045Z
LAST-MODIFIED:20230222T082425Z
UID:10000665-1680940800-1680973200@westsidesportsmens.com
SUMMARY:PAS IDPA Monthly Match
DESCRIPTION:
URL:https://westsidesportsmens.com/calendar/pas-idpa-monthly-match/2023-04-08/
LOCATION:Event Bays
CATEGORIES:Practical Action Shooting
END:VEVENT
BEGIN:VEVENT
DTSTART;TZID=UTC:20230311T080000
DTEND;TZID=UTC:20230311T170000
DTSTAMP:20260421T063000
CREATED:20230222T082045Z
LAST-MODIFIED:20230222T082425Z
UID:10000664-1678521600-1678554000@westsidesportsmens.com
SUMMARY:PAS IDPA Monthly Match
DESCRIPTION:
URL:https://westsidesportsmens.com/calendar/pas-idpa-monthly-match/2023-03-11/
LOCATION:Event Bays
CATEGORIES:Practical Action Shooting
END:VEVENT
BEGIN:VEVENT
DTSTART;TZID=UTC:20220910T080000
DTEND;TZID=UTC:20220910T170000
DTSTAMP:20260421T063000
CREATED:20211228T102545Z
LAST-MODIFIED:20211228T102545Z
UID:10000368-1662796800-1662829200@westsidesportsmens.com
SUMMARY:IDPA Match
DESCRIPTION:
URL:https://westsidesportsmens.com/calendar/idpa-match-8/
LOCATION:Event Bays
CATEGORIES:Practical Action Shooting
END:VEVENT
BEGIN:VEVENT
DTSTART;TZID=UTC:20220813T080000
DTEND;TZID=UTC:20220813T140000
DTSTAMP:20260421T063000
CREATED:20211228T102501Z
LAST-MODIFIED:20211228T102501Z
UID:10000367-1660377600-1660399200@westsidesportsmens.com
SUMMARY:IDPA Match
DESCRIPTION:
URL:https://westsidesportsmens.com/calendar/idpa-match-7/
LOCATION:Event Bays
CATEGORIES:Practical Action Shooting
END:VEVENT
BEGIN:VEVENT
DTSTART;TZID=UTC:20220611T080000
DTEND;TZID=UTC:20220611T140000
DTSTAMP:20260421T063000
CREATED:20211228T102313Z
LAST-MODIFIED:20211228T102313Z
UID:10000457-1654934400-1654956000@westsidesportsmens.com
SUMMARY:IDPA Match
DESCRIPTION:
URL:https://westsidesportsmens.com/calendar/idpa-match-6/
LOCATION:Event Bays
CATEGORIES:Practical Action Shooting
END:VEVENT
BEGIN:VEVENT
DTSTART;TZID=UTC:20220514T080000
DTEND;TZID=UTC:20220514T140000
DTSTAMP:20260421T063000
CREATED:20211228T102154Z
LAST-MODIFIED:20211228T102154Z
UID:10000456-1652515200-1652536800@westsidesportsmens.com
SUMMARY:IDPA Match
DESCRIPTION:
URL:https://westsidesportsmens.com/calendar/idpa-match-5/
LOCATION:Event Bays
CATEGORIES:Practical Action Shooting
END:VEVENT
BEGIN:VEVENT
DTSTART;TZID=UTC:20220409T080000
DTEND;TZID=UTC:20220409T140000
DTSTAMP:20260421T063000
CREATED:20211228T102059Z
LAST-MODIFIED:20211228T102059Z
UID:10000455-1649491200-1649512800@westsidesportsmens.com
SUMMARY:IDPA Match
DESCRIPTION:
URL:https://westsidesportsmens.com/calendar/idpa-match-4/
LOCATION:Event Bays
CATEGORIES:Practical Action Shooting
END:VEVENT
BEGIN:VEVENT
DTSTART;TZID=UTC:20220312T080000
DTEND;TZID=UTC:20220312T140000
DTSTAMP:20260421T063000
CREATED:20211228T101946Z
LAST-MODIFIED:20211228T102012Z
UID:10000454-1647072000-1647093600@westsidesportsmens.com
SUMMARY:IDPA Match
DESCRIPTION:
URL:https://westsidesportsmens.com/calendar/idpa-match-3/
LOCATION:Event Bays
CATEGORIES:Practical Action Shooting
END:VEVENT
BEGIN:VEVENT
DTSTART;TZID=UTC:20220212T080000
DTEND;TZID=UTC:20220212T140000
DTSTAMP:20260421T063000
CREATED:20211228T101850Z
LAST-MODIFIED:20211228T101850Z
UID:10000453-1644652800-1644674400@westsidesportsmens.com
SUMMARY:IDPA Match
DESCRIPTION:
URL:https://westsidesportsmens.com/calendar/idpa-match-2/
LOCATION:Event Bays
CATEGORIES:Practical Action Shooting
END:VEVENT
BEGIN:VEVENT
DTSTART;TZID=UTC:20220108T080000
DTEND;TZID=UTC:20220108T140000
DTSTAMP:20260421T063000
CREATED:20211228T101744Z
LAST-MODIFIED:20211228T101806Z
UID:10000452-1641628800-1641650400@westsidesportsmens.com
SUMMARY:IDPA Match
DESCRIPTION:
URL:https://westsidesportsmens.com/calendar/idpa-match/
LOCATION:Event Bays
CATEGORIES:Practical Action Shooting
END:VEVENT
END:VCALENDAR