BEGIN:VCALENDAR
VERSION:2.0
PRODID:-//West Side Sportsmans Club - ECPv6.15.15//NONSGML v1.0//EN
CALSCALE:GREGORIAN
METHOD:PUBLISH
X-ORIGINAL-URL:https://westsidesportsmens.com
X-WR-CALDESC:Events for West Side Sportsmans Club
REFRESH-INTERVAL;VALUE=DURATION:PT1H
X-Robots-Tag:noindex
X-PUBLISHED-TTL:PT1H
BEGIN:VTIMEZONE
TZID:UTC
BEGIN:STANDARD
TZOFFSETFROM:+0000
TZOFFSETTO:+0000
TZNAME:UTC
DTSTART:20260101T000000
END:STANDARD
END:VTIMEZONE
BEGIN:VTIMEZONE
TZID:America/Chicago
BEGIN:DAYLIGHT
TZOFFSETFROM:-0600
TZOFFSETTO:-0500
TZNAME:CDT
DTSTART:20260308T080000
END:DAYLIGHT
BEGIN:STANDARD
TZOFFSETFROM:-0500
TZOFFSETTO:-0600
TZNAME:CST
DTSTART:20261101T070000
END:STANDARD
BEGIN:DAYLIGHT
TZOFFSETFROM:-0600
TZOFFSETTO:-0500
TZNAME:CDT
DTSTART:20270314T080000
END:DAYLIGHT
BEGIN:STANDARD
TZOFFSETFROM:-0500
TZOFFSETTO:-0600
TZNAME:CST
DTSTART:20271107T070000
END:STANDARD
BEGIN:DAYLIGHT
TZOFFSETFROM:-0600
TZOFFSETTO:-0500
TZNAME:CDT
DTSTART:20280312T080000
END:DAYLIGHT
BEGIN:STANDARD
TZOFFSETFROM:-0500
TZOFFSETTO:-0600
TZNAME:CST
DTSTART:20281105T070000
END:STANDARD
END:VTIMEZONE
BEGIN:VEVENT
DTSTART;TZID=UTC:20270119T183000
DTEND;TZID=UTC:20270119T200000
DTSTAMP:20260421T185338
CREATED:20231231T100907Z
LAST-MODIFIED:20231231T100931Z
UID:10001200-1800383400-1800388800@westsidesportsmens.com
SUMMARY:Rules & Regulations Committee Meeting
DESCRIPTION:
URL:https://westsidesportsmens.com/calendar/rules-regulations-committee-meeting/2027-01-19/
LOCATION:Club House
CATEGORIES:General Event
END:VEVENT
BEGIN:VEVENT
DTSTART;TZID=UTC:20270201T180000
DTEND;TZID=UTC:20270201T200000
DTSTAMP:20260421T185338
CREATED:20231231T092753Z
LAST-MODIFIED:20231231T093808Z
UID:10000752-1801504800-1801512000@westsidesportsmens.com
SUMMARY:IDPA Meeting
DESCRIPTION:
URL:https://westsidesportsmens.com/calendar/idpa-meeting-2/2027-02-01/
LOCATION:Club House
CATEGORIES:Practical Action Shooting
END:VEVENT
BEGIN:VEVENT
DTSTART;TZID=America/Chicago:20270203T190000
DTEND;TZID=America/Chicago:20270203T203000
DTSTAMP:20260421T185338
CREATED:20250306T000144Z
LAST-MODIFIED:20250719T215717Z
UID:10001642-1801681200-1801686600@westsidesportsmens.com
SUMMARY:General Member Meeting
DESCRIPTION:
URL:https://westsidesportsmens.com/calendar/general-member-meeting/2027-02-03/
LOCATION:Club House
CATEGORIES:General Event
END:VEVENT
BEGIN:VEVENT
DTSTART;TZID=UTC:20270210T183000
DTEND;TZID=UTC:20270210T200000
DTSTAMP:20260421T185338
CREATED:20231231T094914Z
LAST-MODIFIED:20231231T095034Z
UID:10000874-1802284200-1802289600@westsidesportsmens.com
SUMMARY:Rifle Range Committee Meeting
DESCRIPTION:
URL:https://westsidesportsmens.com/calendar/rifle-range-committee-meeting-12/2027-02-10/
LOCATION:Club House
CATEGORIES:Rifle Range
END:VEVENT
BEGIN:VEVENT
DTSTART;TZID=UTC:20270216T183000
DTEND;TZID=UTC:20270216T200000
DTSTAMP:20260421T185338
CREATED:20231231T100907Z
LAST-MODIFIED:20231231T100931Z
UID:10001201-1802802600-1802808000@westsidesportsmens.com
SUMMARY:Rules & Regulations Committee Meeting
DESCRIPTION:
URL:https://westsidesportsmens.com/calendar/rules-regulations-committee-meeting/2027-02-16/
LOCATION:Club House
CATEGORIES:General Event
END:VEVENT
BEGIN:VEVENT
DTSTART;TZID=UTC:20270301T180000
DTEND;TZID=UTC:20270301T200000
DTSTAMP:20260421T185338
CREATED:20231231T092753Z
LAST-MODIFIED:20231231T093808Z
UID:10000753-1803924000-1803931200@westsidesportsmens.com
SUMMARY:IDPA Meeting
DESCRIPTION:
URL:https://westsidesportsmens.com/calendar/idpa-meeting-2/2027-03-01/
LOCATION:Club House
CATEGORIES:Practical Action Shooting
END:VEVENT
BEGIN:VEVENT
DTSTART;TZID=America/Chicago:20270303T190000
DTEND;TZID=America/Chicago:20270303T203000
DTSTAMP:20260421T185338
CREATED:20250306T000144Z
LAST-MODIFIED:20250719T215717Z
UID:10001643-1804100400-1804105800@westsidesportsmens.com
SUMMARY:General Member Meeting
DESCRIPTION:
URL:https://westsidesportsmens.com/calendar/general-member-meeting/2027-03-03/
LOCATION:Club House
CATEGORIES:General Event
END:VEVENT
BEGIN:VEVENT
DTSTART;TZID=UTC:20270310T183000
DTEND;TZID=UTC:20270310T200000
DTSTAMP:20260421T185338
CREATED:20231231T094914Z
LAST-MODIFIED:20231231T095034Z
UID:10000875-1804703400-1804708800@westsidesportsmens.com
SUMMARY:Rifle Range Committee Meeting
DESCRIPTION:
URL:https://westsidesportsmens.com/calendar/rifle-range-committee-meeting-12/2027-03-10/
LOCATION:Club House
CATEGORIES:Rifle Range
END:VEVENT
BEGIN:VEVENT
DTSTART;TZID=UTC:20270316T183000
DTEND;TZID=UTC:20270316T200000
DTSTAMP:20260421T185338
CREATED:20231231T100907Z
LAST-MODIFIED:20231231T100931Z
UID:10001202-1805221800-1805227200@westsidesportsmens.com
SUMMARY:Rules & Regulations Committee Meeting
DESCRIPTION:
URL:https://westsidesportsmens.com/calendar/rules-regulations-committee-meeting/2027-03-16/
LOCATION:Club House
CATEGORIES:General Event
END:VEVENT
BEGIN:VEVENT
DTSTART;TZID=UTC:20270405T180000
DTEND;TZID=UTC:20270405T200000
DTSTAMP:20260421T185338
CREATED:20231231T092753Z
LAST-MODIFIED:20231231T093808Z
UID:10000754-1806948000-1806955200@westsidesportsmens.com
SUMMARY:IDPA Meeting
DESCRIPTION:
URL:https://westsidesportsmens.com/calendar/idpa-meeting-2/2027-04-05/
LOCATION:Club House
CATEGORIES:Practical Action Shooting
END:VEVENT
BEGIN:VEVENT
DTSTART;TZID=America/Chicago:20270407T190000
DTEND;TZID=America/Chicago:20270407T203000
DTSTAMP:20260421T185338
CREATED:20250306T000144Z
LAST-MODIFIED:20250719T215717Z
UID:10001644-1807124400-1807129800@westsidesportsmens.com
SUMMARY:General Member Meeting
DESCRIPTION:
URL:https://westsidesportsmens.com/calendar/general-member-meeting/2027-04-07/
LOCATION:Club House
CATEGORIES:General Event
END:VEVENT
BEGIN:VEVENT
DTSTART;TZID=UTC:20270414T183000
DTEND;TZID=UTC:20270414T200000
DTSTAMP:20260421T185338
CREATED:20231231T094914Z
LAST-MODIFIED:20231231T095034Z
UID:10000876-1807727400-1807732800@westsidesportsmens.com
SUMMARY:Rifle Range Committee Meeting
DESCRIPTION:
URL:https://westsidesportsmens.com/calendar/rifle-range-committee-meeting-12/2027-04-14/
LOCATION:Club House
CATEGORIES:Rifle Range
END:VEVENT
BEGIN:VEVENT
DTSTART;TZID=UTC:20270420T183000
DTEND;TZID=UTC:20270420T200000
DTSTAMP:20260421T185338
CREATED:20231231T100907Z
LAST-MODIFIED:20231231T100931Z
UID:10001203-1808245800-1808251200@westsidesportsmens.com
SUMMARY:Rules & Regulations Committee Meeting
DESCRIPTION:
URL:https://westsidesportsmens.com/calendar/rules-regulations-committee-meeting/2027-04-20/
LOCATION:Club House
CATEGORIES:General Event
END:VEVENT
BEGIN:VEVENT
DTSTART;TZID=UTC:20270503T180000
DTEND;TZID=UTC:20270503T200000
DTSTAMP:20260421T185338
CREATED:20231231T092753Z
LAST-MODIFIED:20231231T093808Z
UID:10000755-1809367200-1809374400@westsidesportsmens.com
SUMMARY:IDPA Meeting
DESCRIPTION:
URL:https://westsidesportsmens.com/calendar/idpa-meeting-2/2027-05-03/
LOCATION:Club House
CATEGORIES:Practical Action Shooting
END:VEVENT
BEGIN:VEVENT
DTSTART;TZID=America/Chicago:20270505T190000
DTEND;TZID=America/Chicago:20270505T203000
DTSTAMP:20260421T185338
CREATED:20250306T000144Z
LAST-MODIFIED:20250719T215717Z
UID:10001645-1809543600-1809549000@westsidesportsmens.com
SUMMARY:General Member Meeting
DESCRIPTION:
URL:https://westsidesportsmens.com/calendar/general-member-meeting/2027-05-05/
LOCATION:Club House
CATEGORIES:General Event
END:VEVENT
BEGIN:VEVENT
DTSTART;TZID=UTC:20270512T183000
DTEND;TZID=UTC:20270512T200000
DTSTAMP:20260421T185338
CREATED:20231231T094914Z
LAST-MODIFIED:20231231T095034Z
UID:10000877-1810146600-1810152000@westsidesportsmens.com
SUMMARY:Rifle Range Committee Meeting
DESCRIPTION:
URL:https://westsidesportsmens.com/calendar/rifle-range-committee-meeting-12/2027-05-12/
LOCATION:Club House
CATEGORIES:Rifle Range
END:VEVENT
BEGIN:VEVENT
DTSTART;TZID=UTC:20270518T183000
DTEND;TZID=UTC:20270518T200000
DTSTAMP:20260421T185338
CREATED:20231231T100907Z
LAST-MODIFIED:20231231T100931Z
UID:10001204-1810665000-1810670400@westsidesportsmens.com
SUMMARY:Rules & Regulations Committee Meeting
DESCRIPTION:
URL:https://westsidesportsmens.com/calendar/rules-regulations-committee-meeting/2027-05-18/
LOCATION:Club House
CATEGORIES:General Event
END:VEVENT
BEGIN:VEVENT
DTSTART;TZID=America/Chicago:20270602T190000
DTEND;TZID=America/Chicago:20270602T203000
DTSTAMP:20260421T185338
CREATED:20250306T000144Z
LAST-MODIFIED:20250719T215717Z
UID:10001646-1811962800-1811968200@westsidesportsmens.com
SUMMARY:General Member Meeting
DESCRIPTION:
URL:https://westsidesportsmens.com/calendar/general-member-meeting/2027-06-02/
LOCATION:Club House
CATEGORIES:General Event
END:VEVENT
BEGIN:VEVENT
DTSTART;TZID=UTC:20270607T180000
DTEND;TZID=UTC:20270607T200000
DTSTAMP:20260421T185338
CREATED:20231231T092753Z
LAST-MODIFIED:20231231T093808Z
UID:10000756-1812391200-1812398400@westsidesportsmens.com
SUMMARY:IDPA Meeting
DESCRIPTION:
URL:https://westsidesportsmens.com/calendar/idpa-meeting-2/2027-06-07/
LOCATION:Club House
CATEGORIES:Practical Action Shooting
END:VEVENT
BEGIN:VEVENT
DTSTART;TZID=UTC:20270609T183000
DTEND;TZID=UTC:20270609T200000
DTSTAMP:20260421T185338
CREATED:20231231T094914Z
LAST-MODIFIED:20231231T095034Z
UID:10000878-1812565800-1812571200@westsidesportsmens.com
SUMMARY:Rifle Range Committee Meeting
DESCRIPTION:
URL:https://westsidesportsmens.com/calendar/rifle-range-committee-meeting-12/2027-06-09/
LOCATION:Club House
CATEGORIES:Rifle Range
END:VEVENT
BEGIN:VEVENT
DTSTART;TZID=UTC:20270615T183000
DTEND;TZID=UTC:20270615T200000
DTSTAMP:20260421T185338
CREATED:20231231T100907Z
LAST-MODIFIED:20231231T100931Z
UID:10001205-1813084200-1813089600@westsidesportsmens.com
SUMMARY:Rules & Regulations Committee Meeting
DESCRIPTION:
URL:https://westsidesportsmens.com/calendar/rules-regulations-committee-meeting/2027-06-15/
LOCATION:Club House
CATEGORIES:General Event
END:VEVENT
BEGIN:VEVENT
DTSTART;TZID=UTC:20270705T180000
DTEND;TZID=UTC:20270705T200000
DTSTAMP:20260421T185338
CREATED:20231231T092753Z
LAST-MODIFIED:20231231T093808Z
UID:10000757-1814810400-1814817600@westsidesportsmens.com
SUMMARY:IDPA Meeting
DESCRIPTION:
URL:https://westsidesportsmens.com/calendar/idpa-meeting-2/2027-07-05/
LOCATION:Club House
CATEGORIES:Practical Action Shooting
END:VEVENT
BEGIN:VEVENT
DTSTART;TZID=America/Chicago:20270707T190000
DTEND;TZID=America/Chicago:20270707T203000
DTSTAMP:20260421T185338
CREATED:20250306T000144Z
LAST-MODIFIED:20250719T215717Z
UID:10001647-1814986800-1814992200@westsidesportsmens.com
SUMMARY:General Member Meeting
DESCRIPTION:
URL:https://westsidesportsmens.com/calendar/general-member-meeting/2027-07-07/
LOCATION:Club House
CATEGORIES:General Event
END:VEVENT
BEGIN:VEVENT
DTSTART;TZID=UTC:20270714T183000
DTEND;TZID=UTC:20270714T200000
DTSTAMP:20260421T185338
CREATED:20231231T094914Z
LAST-MODIFIED:20231231T095034Z
UID:10000879-1815589800-1815595200@westsidesportsmens.com
SUMMARY:Rifle Range Committee Meeting
DESCRIPTION:
URL:https://westsidesportsmens.com/calendar/rifle-range-committee-meeting-12/2027-07-14/
LOCATION:Club House
CATEGORIES:Rifle Range
END:VEVENT
BEGIN:VEVENT
DTSTART;TZID=UTC:20270720T183000
DTEND;TZID=UTC:20270720T200000
DTSTAMP:20260421T185338
CREATED:20231231T100907Z
LAST-MODIFIED:20231231T100931Z
UID:10001206-1816108200-1816113600@westsidesportsmens.com
SUMMARY:Rules & Regulations Committee Meeting
DESCRIPTION:
URL:https://westsidesportsmens.com/calendar/rules-regulations-committee-meeting/2027-07-20/
LOCATION:Club House
CATEGORIES:General Event
END:VEVENT
BEGIN:VEVENT
DTSTART;TZID=UTC:20270802T180000
DTEND;TZID=UTC:20270802T200000
DTSTAMP:20260421T185338
CREATED:20231231T092753Z
LAST-MODIFIED:20231231T093808Z
UID:10000758-1817229600-1817236800@westsidesportsmens.com
SUMMARY:IDPA Meeting
DESCRIPTION:
URL:https://westsidesportsmens.com/calendar/idpa-meeting-2/2027-08-02/
LOCATION:Club House
CATEGORIES:Practical Action Shooting
END:VEVENT
BEGIN:VEVENT
DTSTART;TZID=America/Chicago:20270804T190000
DTEND;TZID=America/Chicago:20270804T203000
DTSTAMP:20260421T185338
CREATED:20250306T000144Z
LAST-MODIFIED:20250719T215717Z
UID:10001648-1817406000-1817411400@westsidesportsmens.com
SUMMARY:General Member Meeting
DESCRIPTION:
URL:https://westsidesportsmens.com/calendar/general-member-meeting/2027-08-04/
LOCATION:Club House
CATEGORIES:General Event
END:VEVENT
BEGIN:VEVENT
DTSTART;TZID=UTC:20270811T183000
DTEND;TZID=UTC:20270811T200000
DTSTAMP:20260421T185338
CREATED:20231231T094914Z
LAST-MODIFIED:20231231T095034Z
UID:10000880-1818009000-1818014400@westsidesportsmens.com
SUMMARY:Rifle Range Committee Meeting
DESCRIPTION:
URL:https://westsidesportsmens.com/calendar/rifle-range-committee-meeting-12/2027-08-11/
LOCATION:Club House
CATEGORIES:Rifle Range
END:VEVENT
BEGIN:VEVENT
DTSTART;TZID=UTC:20270817T183000
DTEND;TZID=UTC:20270817T200000
DTSTAMP:20260421T185338
CREATED:20231231T100907Z
LAST-MODIFIED:20231231T100931Z
UID:10001207-1818527400-1818532800@westsidesportsmens.com
SUMMARY:Rules & Regulations Committee Meeting
DESCRIPTION:
URL:https://westsidesportsmens.com/calendar/rules-regulations-committee-meeting/2027-08-17/
LOCATION:Club House
CATEGORIES:General Event
END:VEVENT
BEGIN:VEVENT
DTSTART;TZID=America/Chicago:20270901T190000
DTEND;TZID=America/Chicago:20270901T203000
DTSTAMP:20260421T185338
CREATED:20250306T000144Z
LAST-MODIFIED:20250719T215717Z
UID:10001649-1819825200-1819830600@westsidesportsmens.com
SUMMARY:General Member Meeting
DESCRIPTION:
URL:https://westsidesportsmens.com/calendar/general-member-meeting/2027-09-01/
LOCATION:Club House
CATEGORIES:General Event
END:VEVENT
END:VCALENDAR