BEGIN:VCALENDAR
VERSION:2.0
PRODID:-//West Side Sportsmans Club - ECPv6.15.15//NONSGML v1.0//EN
CALSCALE:GREGORIAN
METHOD:PUBLISH
X-WR-CALNAME:West Side Sportsmans Club
X-ORIGINAL-URL:https://westsidesportsmens.com
X-WR-CALDESC:Events for West Side Sportsmans Club
REFRESH-INTERVAL;VALUE=DURATION:PT1H
X-Robots-Tag:noindex
X-PUBLISHED-TTL:PT1H
BEGIN:VTIMEZONE
TZID:UTC
BEGIN:STANDARD
TZOFFSETFROM:+0000
TZOFFSETTO:+0000
TZNAME:UTC
DTSTART:20220101T000000
END:STANDARD
END:VTIMEZONE
BEGIN:VEVENT
DTSTART;TZID=UTC:20231002T183000
DTEND;TZID=UTC:20231002T200000
DTSTAMP:20260421T203303
CREATED:20230222T081742Z
LAST-MODIFIED:20230222T081742Z
UID:10000661-1696271400-1696276800@westsidesportsmens.com
SUMMARY:PAS/HH Committee Meeting
DESCRIPTION:
URL:https://westsidesportsmens.com/calendar/pas-hh-committee-meeting-12/2023-10-02/
LOCATION:Club House
CATEGORIES:Practical Action Shooting
END:VEVENT
BEGIN:VEVENT
DTSTART;TZID=UTC:20230930T180000
DTEND;TZID=UTC:20230930T210000
DTSTAMP:20260421T203303
CREATED:20221228T100522Z
LAST-MODIFIED:20221228T100522Z
UID:10000521-1696096800-1696107600@westsidesportsmens.com
SUMMARY:2nd Amendment Patriots Meeting
DESCRIPTION:
URL:https://westsidesportsmens.com/calendar/2nd-amendment-patriots-meeting/2023-09-30/
LOCATION:Club House
CATEGORIES:Special Events
END:VEVENT
BEGIN:VEVENT
DTSTART;VALUE=DATE:20230927
DTEND;VALUE=DATE:20231001
DTSTAMP:20260421T203303
CREATED:20230222T082930Z
LAST-MODIFIED:20230222T082930Z
UID:10000674-1695772800-1696118399@westsidesportsmens.com
SUMMARY:Holiday Havoc Range Prep: Range Closed
DESCRIPTION:
URL:https://westsidesportsmens.com/calendar/holiday-havoc-range-prep-range-closed/
LOCATION:Club House
CATEGORIES:Cowboy,Practical Action Shooting,Rifle Range,Special Events,Spot Shoot,Trap Range
END:VEVENT
BEGIN:VEVENT
DTSTART;TZID=UTC:20230926T183000
DTEND;TZID=UTC:20230926T200000
DTSTAMP:20260421T203303
CREATED:20221228T100949Z
LAST-MODIFIED:20221228T100949Z
UID:10000535-1695753000-1695758400@westsidesportsmens.com
SUMMARY:Membership Committee Meeting
DESCRIPTION:
URL:https://westsidesportsmens.com/calendar/membership-committee-meeting/2023-09-26/
LOCATION:Club House
CATEGORIES:General Event
END:VEVENT
BEGIN:VEVENT
DTSTART;TZID=UTC:20230919T183000
DTEND;TZID=UTC:20230919T203000
DTSTAMP:20260421T203303
CREATED:20230908T064920Z
LAST-MODIFIED:20230908T064920Z
UID:10000709-1695148200-1695155400@westsidesportsmens.com
SUMMARY:Rules Committee Meeting
DESCRIPTION:
URL:https://westsidesportsmens.com/calendar/rules-committee-meeting/
LOCATION:Club House
CATEGORIES:General Event
END:VEVENT
BEGIN:VEVENT
DTSTART;TZID=UTC:20230914T183000
DTEND;TZID=UTC:20230914T200000
DTSTAMP:20260421T203303
CREATED:20221228T093924Z
LAST-MODIFIED:20221228T093924Z
UID:10000477-1694716200-1694721600@westsidesportsmens.com
SUMMARY:Leadership Committee Meeting
DESCRIPTION:
URL:https://westsidesportsmens.com/calendar/leadership-committee-meeting/2023-09-14/
LOCATION:Club House
CATEGORIES:General Event
END:VEVENT
BEGIN:VEVENT
DTSTART;TZID=UTC:20230913T183000
DTEND;TZID=UTC:20230913T183000
DTSTAMP:20260421T203303
CREATED:20221228T094247Z
LAST-MODIFIED:20221228T094247Z
UID:10000489-1694629800-1694629800@westsidesportsmens.com
SUMMARY:Rifle Range Committee Meeting
DESCRIPTION:
URL:https://westsidesportsmens.com/calendar/rifle-range-committee-meeting-11/2023-09-13/
LOCATION:Club House
CATEGORIES:General Event
END:VEVENT
BEGIN:VEVENT
DTSTART;TZID=UTC:20230906T190000
DTEND;TZID=UTC:20230906T203000
DTSTAMP:20260421T203303
CREATED:20221228T093345Z
LAST-MODIFIED:20221228T093345Z
UID:10000468-1694026800-1694032200@westsidesportsmens.com
SUMMARY:General Membership Meeting
DESCRIPTION:
URL:https://westsidesportsmens.com/calendar/general-membership-meeting-12/2023-09-06/
LOCATION:Club House
CATEGORIES:General Event
END:VEVENT
BEGIN:VEVENT
DTSTART;TZID=UTC:20230904T183000
DTEND;TZID=UTC:20230904T200000
DTSTAMP:20260421T203303
CREATED:20230222T081742Z
LAST-MODIFIED:20230222T081742Z
UID:10000660-1693852200-1693857600@westsidesportsmens.com
SUMMARY:PAS/HH Committee Meeting
DESCRIPTION:
URL:https://westsidesportsmens.com/calendar/pas-hh-committee-meeting-12/2023-09-04/
LOCATION:Club House
CATEGORIES:Practical Action Shooting
END:VEVENT
BEGIN:VEVENT
DTSTART;TZID=UTC:20230826T180000
DTEND;TZID=UTC:20230826T210000
DTSTAMP:20260421T203303
CREATED:20221228T100522Z
LAST-MODIFIED:20221228T100522Z
UID:10000520-1693072800-1693083600@westsidesportsmens.com
SUMMARY:2nd Amendment Patriots Meeting
DESCRIPTION:
URL:https://westsidesportsmens.com/calendar/2nd-amendment-patriots-meeting/2023-08-26/
LOCATION:Club House
CATEGORIES:Special Events
END:VEVENT
BEGIN:VEVENT
DTSTART;TZID=UTC:20230822T183000
DTEND;TZID=UTC:20230822T200000
DTSTAMP:20260421T203303
CREATED:20221228T100949Z
LAST-MODIFIED:20221228T100949Z
UID:10000534-1692729000-1692734400@westsidesportsmens.com
SUMMARY:Membership Committee Meeting
DESCRIPTION:
URL:https://westsidesportsmens.com/calendar/membership-committee-meeting/2023-08-22/
LOCATION:Club House
CATEGORIES:General Event
END:VEVENT
BEGIN:VEVENT
DTSTART;TZID=UTC:20230809T183000
DTEND;TZID=UTC:20230809T183000
DTSTAMP:20260421T203303
CREATED:20221228T094247Z
LAST-MODIFIED:20221228T094247Z
UID:10000488-1691605800-1691605800@westsidesportsmens.com
SUMMARY:Rifle Range Committee Meeting
DESCRIPTION:
URL:https://westsidesportsmens.com/calendar/rifle-range-committee-meeting-11/2023-08-09/
LOCATION:Club House
CATEGORIES:General Event
END:VEVENT
BEGIN:VEVENT
DTSTART;TZID=UTC:20230807T183000
DTEND;TZID=UTC:20230807T200000
DTSTAMP:20260421T203303
CREATED:20230222T081742Z
LAST-MODIFIED:20230222T081742Z
UID:10000659-1691433000-1691438400@westsidesportsmens.com
SUMMARY:PAS/HH Committee Meeting
DESCRIPTION:
URL:https://westsidesportsmens.com/calendar/pas-hh-committee-meeting-12/2023-08-07/
LOCATION:Club House
CATEGORIES:Practical Action Shooting
END:VEVENT
BEGIN:VEVENT
DTSTART;TZID=UTC:20230802T190000
DTEND;TZID=UTC:20230802T203000
DTSTAMP:20260421T203303
CREATED:20221228T093345Z
LAST-MODIFIED:20221228T093345Z
UID:10000467-1691002800-1691008200@westsidesportsmens.com
SUMMARY:General Membership Meeting
DESCRIPTION:
URL:https://westsidesportsmens.com/calendar/general-membership-meeting-12/2023-08-02/
LOCATION:Club House
CATEGORIES:General Event
END:VEVENT
BEGIN:VEVENT
DTSTART;TZID=UTC:20230729T180000
DTEND;TZID=UTC:20230729T210000
DTSTAMP:20260421T203303
CREATED:20221228T100522Z
LAST-MODIFIED:20221228T100522Z
UID:10000519-1690653600-1690664400@westsidesportsmens.com
SUMMARY:2nd Amendment Patriots Meeting
DESCRIPTION:
URL:https://westsidesportsmens.com/calendar/2nd-amendment-patriots-meeting/2023-07-29/
LOCATION:Club House
CATEGORIES:Special Events
END:VEVENT
BEGIN:VEVENT
DTSTART;TZID=UTC:20230725T183000
DTEND;TZID=UTC:20230725T200000
DTSTAMP:20260421T203303
CREATED:20221228T100949Z
LAST-MODIFIED:20221228T100949Z
UID:10000533-1690309800-1690315200@westsidesportsmens.com
SUMMARY:Membership Committee Meeting
DESCRIPTION:
URL:https://westsidesportsmens.com/calendar/membership-committee-meeting/2023-07-25/
LOCATION:Club House
CATEGORIES:General Event
END:VEVENT
BEGIN:VEVENT
DTSTART;TZID=UTC:20230713T183000
DTEND;TZID=UTC:20230713T200000
DTSTAMP:20260421T203303
CREATED:20221228T093924Z
LAST-MODIFIED:20221228T093924Z
UID:10000476-1689273000-1689278400@westsidesportsmens.com
SUMMARY:Leadership Committee Meeting
DESCRIPTION:
URL:https://westsidesportsmens.com/calendar/leadership-committee-meeting/2023-07-13/
LOCATION:Club House
CATEGORIES:General Event
END:VEVENT
BEGIN:VEVENT
DTSTART;TZID=UTC:20230712T183000
DTEND;TZID=UTC:20230712T183000
DTSTAMP:20260421T203303
CREATED:20221228T094247Z
LAST-MODIFIED:20221228T094247Z
UID:10000487-1689186600-1689186600@westsidesportsmens.com
SUMMARY:Rifle Range Committee Meeting
DESCRIPTION:
URL:https://westsidesportsmens.com/calendar/rifle-range-committee-meeting-11/2023-07-12/
LOCATION:Club House
CATEGORIES:General Event
END:VEVENT
BEGIN:VEVENT
DTSTART;TZID=UTC:20230711T183000
DTEND;TZID=UTC:20230711T200000
DTSTAMP:20260421T203303
CREATED:20230222T083856Z
LAST-MODIFIED:20230222T083856Z
UID:10000681-1689100200-1689105600@westsidesportsmens.com
SUMMARY:NRA Youth Day Committee Meeting
DESCRIPTION:
URL:https://westsidesportsmens.com/calendar/nra-youth-day-committee-meeting/2023-07-11/
LOCATION:Club House
CATEGORIES:Special Events
END:VEVENT
BEGIN:VEVENT
DTSTART;TZID=UTC:20230705T190000
DTEND;TZID=UTC:20230705T203000
DTSTAMP:20260421T203303
CREATED:20221228T093345Z
LAST-MODIFIED:20221228T093345Z
UID:10000466-1688583600-1688589000@westsidesportsmens.com
SUMMARY:General Membership Meeting
DESCRIPTION:
URL:https://westsidesportsmens.com/calendar/general-membership-meeting-12/2023-07-05/
LOCATION:Club House
CATEGORIES:General Event
END:VEVENT
BEGIN:VEVENT
DTSTART;TZID=UTC:20230703T183000
DTEND;TZID=UTC:20230703T200000
DTSTAMP:20260421T203303
CREATED:20230222T081742Z
LAST-MODIFIED:20230222T081742Z
UID:10000658-1688409000-1688414400@westsidesportsmens.com
SUMMARY:PAS/HH Committee Meeting
DESCRIPTION:
URL:https://westsidesportsmens.com/calendar/pas-hh-committee-meeting-12/2023-07-03/
LOCATION:Club House
CATEGORIES:Practical Action Shooting
END:VEVENT
BEGIN:VEVENT
DTSTART;TZID=UTC:20230627T183000
DTEND;TZID=UTC:20230627T200000
DTSTAMP:20260421T203303
CREATED:20221228T100949Z
LAST-MODIFIED:20221228T100949Z
UID:10000532-1687890600-1687896000@westsidesportsmens.com
SUMMARY:Membership Committee Meeting
DESCRIPTION:
URL:https://westsidesportsmens.com/calendar/membership-committee-meeting/2023-06-27/
LOCATION:Club House
CATEGORIES:General Event
END:VEVENT
BEGIN:VEVENT
DTSTART;TZID=UTC:20230624T180000
DTEND;TZID=UTC:20230624T210000
DTSTAMP:20260421T203303
CREATED:20221228T100522Z
LAST-MODIFIED:20221228T100522Z
UID:10000518-1687629600-1687640400@westsidesportsmens.com
SUMMARY:2nd Amendment Patriots Meeting
DESCRIPTION:
URL:https://westsidesportsmens.com/calendar/2nd-amendment-patriots-meeting/2023-06-24/
LOCATION:Club House
CATEGORIES:Special Events
END:VEVENT
BEGIN:VEVENT
DTSTART;TZID=UTC:20230614T183000
DTEND;TZID=UTC:20230614T183000
DTSTAMP:20260421T203303
CREATED:20221228T094247Z
LAST-MODIFIED:20221228T094247Z
UID:10000486-1686767400-1686767400@westsidesportsmens.com
SUMMARY:Rifle Range Committee Meeting
DESCRIPTION:
URL:https://westsidesportsmens.com/calendar/rifle-range-committee-meeting-11/2023-06-14/
LOCATION:Club House
CATEGORIES:General Event
END:VEVENT
BEGIN:VEVENT
DTSTART;TZID=UTC:20230613T183000
DTEND;TZID=UTC:20230613T200000
DTSTAMP:20260421T203303
CREATED:20230222T083856Z
LAST-MODIFIED:20230222T083856Z
UID:10000680-1686681000-1686686400@westsidesportsmens.com
SUMMARY:NRA Youth Day Committee Meeting
DESCRIPTION:
URL:https://westsidesportsmens.com/calendar/nra-youth-day-committee-meeting/2023-06-13/
LOCATION:Club House
CATEGORIES:Special Events
END:VEVENT
BEGIN:VEVENT
DTSTART;TZID=UTC:20230609T180000
DTEND;TZID=UTC:20230609T200000
DTSTAMP:20260421T203303
CREATED:20230606T082824Z
LAST-MODIFIED:20230606T083026Z
UID:10000694-1686333600-1686340800@westsidesportsmens.com
SUMMARY:Junior Membership Meeting
DESCRIPTION:We will have a meeting on June 9th at 6:00PM at the flag pole. Gun safety along with gun cleaning will be the typic for this meeting with a high chance that we will be dirtying the guns with some lead down range again as well.\n\nWe hope to have more jr members join us as we will be planning a kayak trip with some zip lining added in for later in June or July.\n\nIf you have a son or grandson that would enjoy being a part of the jr membership please contact me\, \n\nRob Pressley 812-457-8529 or show up at the next meeting. Thank you.
URL:https://westsidesportsmens.com/calendar/junior-membership-meeting/
LOCATION:Club House
CATEGORIES:Youth
END:VEVENT
BEGIN:VEVENT
DTSTART;TZID=UTC:20230607T190000
DTEND;TZID=UTC:20230607T203000
DTSTAMP:20260421T203303
CREATED:20221228T093345Z
LAST-MODIFIED:20221228T093345Z
UID:10000465-1686164400-1686169800@westsidesportsmens.com
SUMMARY:General Membership Meeting
DESCRIPTION:
URL:https://westsidesportsmens.com/calendar/general-membership-meeting-12/2023-06-07/
LOCATION:Club House
CATEGORIES:General Event
END:VEVENT
BEGIN:VEVENT
DTSTART;TZID=UTC:20230605T183000
DTEND;TZID=UTC:20230605T200000
DTSTAMP:20260421T203303
CREATED:20230222T081742Z
LAST-MODIFIED:20230222T081742Z
UID:10000657-1685989800-1685995200@westsidesportsmens.com
SUMMARY:PAS/HH Committee Meeting
DESCRIPTION:
URL:https://westsidesportsmens.com/calendar/pas-hh-committee-meeting-12/2023-06-05/
LOCATION:Club House
CATEGORIES:Practical Action Shooting
END:VEVENT
BEGIN:VEVENT
DTSTART;TZID=UTC:20230527T180000
DTEND;TZID=UTC:20230527T210000
DTSTAMP:20260421T203303
CREATED:20221228T100522Z
LAST-MODIFIED:20221228T100522Z
UID:10000517-1685210400-1685221200@westsidesportsmens.com
SUMMARY:2nd Amendment Patriots Meeting
DESCRIPTION:
URL:https://westsidesportsmens.com/calendar/2nd-amendment-patriots-meeting/2023-05-27/
LOCATION:Club House
CATEGORIES:Special Events
END:VEVENT
BEGIN:VEVENT
DTSTART;TZID=UTC:20230523T183000
DTEND;TZID=UTC:20230523T200000
DTSTAMP:20260421T203303
CREATED:20221228T100949Z
LAST-MODIFIED:20221228T100949Z
UID:10000531-1684866600-1684872000@westsidesportsmens.com
SUMMARY:Membership Committee Meeting
DESCRIPTION:
URL:https://westsidesportsmens.com/calendar/membership-committee-meeting/2023-05-23/
LOCATION:Club House
CATEGORIES:General Event
END:VEVENT
END:VCALENDAR