BEGIN:VCALENDAR
VERSION:2.0
PRODID:-//West Side Sportsmans Club - ECPv6.15.15//NONSGML v1.0//EN
CALSCALE:GREGORIAN
METHOD:PUBLISH
X-ORIGINAL-URL:https://westsidesportsmens.com
X-WR-CALDESC:Events for West Side Sportsmans Club
REFRESH-INTERVAL;VALUE=DURATION:PT1H
X-Robots-Tag:noindex
X-PUBLISHED-TTL:PT1H
BEGIN:VTIMEZONE
TZID:UTC
BEGIN:STANDARD
TZOFFSETFROM:+0000
TZOFFSETTO:+0000
TZNAME:UTC
DTSTART:20220101T000000
END:STANDARD
END:VTIMEZONE
BEGIN:VEVENT
DTSTART;TZID=UTC:20240127T100000
DTEND;TZID=UTC:20240127T140000
DTSTAMP:20260421T134525
CREATED:20231231T103133Z
LAST-MODIFIED:20231231T105515Z
UID:10001404-1706349600-1706364000@westsidesportsmens.com
SUMMARY:Firearms Training
DESCRIPTION:January: Handgun 101 Course 10A-2P \nFebruary: 2/10 NRA Range Safety Officer 8A; 2/24 Deadly Force 10A-2P \n  March: 3/2 Basic Handgun 8A-12p; 3/23 Women Only Class 8A-12P \nApril: 4/6 Reality Based Training 8A-12P; 4/20 Women Only Class 8A-12P \nMay: 5/4 Basic Handgun 8A-12P; 5/18 Women’s Class 8A-12P \nJune: 6/1 Concealed Carry 8A-12P; 6/15 Defensive Handgun 8A-12p \nJuly: 7/6 Reality Based Training 8A-12P; 7/27 Refuse to be a Victim+Handgun 10A-2P \nAugust: 8/10 Women’s Only 8A-12P; 8/24 Conceal Carry 8A-12P \nSeptember: 9/7 Basic Handgun 8-12; 9/21 Defensive Handgun 8A-12P \nOctober: 10/5 Basic Training 8A-12P; 10/19 Women’s Only Class 8A-12p \nNovember: 11/2 Deadly Force 10A-2P \nDecember: NO CLASS
URL:https://westsidesportsmens.com/calendar/firearms-training/
LOCATION:Club House
CATEGORIES:Firearms Training
ORGANIZER;CN="Brent Gariby":MAILTO:brent.garibay@gmail.com
END:VEVENT
BEGIN:VEVENT
DTSTART;TZID=UTC:20240116T183000
DTEND;TZID=UTC:20240116T200000
DTSTAMP:20260421T134525
CREATED:20231231T100907Z
LAST-MODIFIED:20231231T100931Z
UID:10001164-1705429800-1705435200@westsidesportsmens.com
SUMMARY:Rules & Regulations Committee Meeting
DESCRIPTION:
URL:https://westsidesportsmens.com/calendar/rules-regulations-committee-meeting/2024-01-16/
LOCATION:Club House
CATEGORIES:General Event
END:VEVENT
BEGIN:VEVENT
DTSTART;TZID=UTC:20240110T183000
DTEND;TZID=UTC:20240110T200000
DTSTAMP:20260421T134525
CREATED:20231231T094914Z
LAST-MODIFIED:20231231T095034Z
UID:10000837-1704911400-1704916800@westsidesportsmens.com
SUMMARY:Rifle Range Committee Meeting
DESCRIPTION:
URL:https://westsidesportsmens.com/calendar/rifle-range-committee-meeting-12/2024-01-10/
LOCATION:Club House
CATEGORIES:Rifle Range
END:VEVENT
BEGIN:VEVENT
DTSTART;TZID=UTC:20240109T183000
DTEND;TZID=UTC:20240109T203000
DTSTAMP:20260421T134525
CREATED:20231231T094748Z
LAST-MODIFIED:20240409T213104Z
UID:10001590-1704825000-1704832200@westsidesportsmens.com
SUMMARY:Facility Planning Committee Meeting
DESCRIPTION:
URL:https://westsidesportsmens.com/calendar/facility-planning-committee-meeting/2024-01-09/
LOCATION:Club House
CATEGORIES:Facility Planning
END:VEVENT
BEGIN:VEVENT
DTSTART;TZID=UTC:20240101T180000
DTEND;TZID=UTC:20240101T200000
DTSTAMP:20260421T134525
CREATED:20231231T092753Z
LAST-MODIFIED:20231231T093808Z
UID:10000713-1704132000-1704139200@westsidesportsmens.com
SUMMARY:IDPA Meeting
DESCRIPTION:
URL:https://westsidesportsmens.com/calendar/idpa-meeting-2/2024-01-01/
LOCATION:Club House
CATEGORIES:Practical Action Shooting
END:VEVENT
BEGIN:VEVENT
DTSTART;TZID=UTC:20231230T180000
DTEND;TZID=UTC:20231230T210000
DTSTAMP:20260421T134525
CREATED:20221228T100522Z
LAST-MODIFIED:20221228T100522Z
UID:10000524-1703959200-1703970000@westsidesportsmens.com
SUMMARY:2nd Amendment Patriots Meeting
DESCRIPTION:
URL:https://westsidesportsmens.com/calendar/2nd-amendment-patriots-meeting/2023-12-30/
LOCATION:Club House
CATEGORIES:Special Events
END:VEVENT
BEGIN:VEVENT
DTSTART;TZID=UTC:20231226T183000
DTEND;TZID=UTC:20231226T200000
DTSTAMP:20260421T134525
CREATED:20221228T100949Z
LAST-MODIFIED:20221228T100949Z
UID:10000538-1703615400-1703620800@westsidesportsmens.com
SUMMARY:Membership Committee Meeting
DESCRIPTION:
URL:https://westsidesportsmens.com/calendar/membership-committee-meeting/2023-12-26/
LOCATION:Club House
CATEGORIES:General Event
END:VEVENT
BEGIN:VEVENT
DTSTART;TZID=UTC:20231213T183000
DTEND;TZID=UTC:20231213T183000
DTSTAMP:20260421T134525
CREATED:20221228T094247Z
LAST-MODIFIED:20221228T094247Z
UID:10000492-1702492200-1702492200@westsidesportsmens.com
SUMMARY:Rifle Range Committee Meeting
DESCRIPTION:
URL:https://westsidesportsmens.com/calendar/rifle-range-committee-meeting-11/2023-12-13/
LOCATION:Club House
CATEGORIES:General Event
END:VEVENT
BEGIN:VEVENT
DTSTART;VALUE=DATE:20231210
DTEND;VALUE=DATE:20231211
DTSTAMP:20260421T134525
CREATED:20230908T065302Z
LAST-MODIFIED:20230908T065302Z
UID:10000712-1702166400-1702252799@westsidesportsmens.com
SUMMARY:Club House Rental
DESCRIPTION:
URL:https://westsidesportsmens.com/calendar/club-house-rental-2/
LOCATION:Club House
CATEGORIES:General Event
END:VEVENT
BEGIN:VEVENT
DTSTART;TZID=UTC:20231206T190000
DTEND;TZID=UTC:20231206T203000
DTSTAMP:20260421T134525
CREATED:20221228T093345Z
LAST-MODIFIED:20221228T093345Z
UID:10000471-1701889200-1701894600@westsidesportsmens.com
SUMMARY:General Membership Meeting
DESCRIPTION:
URL:https://westsidesportsmens.com/calendar/general-membership-meeting-12/2023-12-06/
LOCATION:Club House
CATEGORIES:General Event
END:VEVENT
BEGIN:VEVENT
DTSTART;TZID=UTC:20231204T183000
DTEND;TZID=UTC:20231204T200000
DTSTAMP:20260421T134525
CREATED:20230222T081742Z
LAST-MODIFIED:20230222T081742Z
UID:10000663-1701714600-1701720000@westsidesportsmens.com
SUMMARY:PAS/HH Committee Meeting
DESCRIPTION:
URL:https://westsidesportsmens.com/calendar/pas-hh-committee-meeting-12/2023-12-04/
LOCATION:Club House
CATEGORIES:Practical Action Shooting
END:VEVENT
BEGIN:VEVENT
DTSTART;TZID=UTC:20231128T183000
DTEND;TZID=UTC:20231128T200000
DTSTAMP:20260421T134525
CREATED:20221228T100949Z
LAST-MODIFIED:20221228T100949Z
UID:10000537-1701196200-1701201600@westsidesportsmens.com
SUMMARY:Membership Committee Meeting
DESCRIPTION:
URL:https://westsidesportsmens.com/calendar/membership-committee-meeting/2023-11-28/
LOCATION:Club House
CATEGORIES:General Event
END:VEVENT
BEGIN:VEVENT
DTSTART;TZID=UTC:20231125T180000
DTEND;TZID=UTC:20231125T210000
DTSTAMP:20260421T134525
CREATED:20221228T100522Z
LAST-MODIFIED:20221228T100522Z
UID:10000523-1700935200-1700946000@westsidesportsmens.com
SUMMARY:2nd Amendment Patriots Meeting
DESCRIPTION:
URL:https://westsidesportsmens.com/calendar/2nd-amendment-patriots-meeting/2023-11-25/
LOCATION:Club House
CATEGORIES:Special Events
END:VEVENT
BEGIN:VEVENT
DTSTART;VALUE=DATE:20231123
DTEND;VALUE=DATE:20231124
DTSTAMP:20260421T134525
CREATED:20230908T065204Z
LAST-MODIFIED:20230908T065204Z
UID:10000711-1700697600-1700783999@westsidesportsmens.com
SUMMARY:Club House Rental
DESCRIPTION:
URL:https://westsidesportsmens.com/calendar/club-house-rental/
LOCATION:Club House
CATEGORIES:General Event
END:VEVENT
BEGIN:VEVENT
DTSTART;TZID=UTC:20231109T183000
DTEND;TZID=UTC:20231109T200000
DTSTAMP:20260421T134525
CREATED:20221228T093924Z
LAST-MODIFIED:20221228T093924Z
UID:10000478-1699554600-1699560000@westsidesportsmens.com
SUMMARY:Leadership Committee Meeting
DESCRIPTION:
URL:https://westsidesportsmens.com/calendar/leadership-committee-meeting/2023-11-09/
LOCATION:Club House
CATEGORIES:General Event
END:VEVENT
BEGIN:VEVENT
DTSTART;TZID=UTC:20231108T183000
DTEND;TZID=UTC:20231108T183000
DTSTAMP:20260421T134525
CREATED:20221228T094247Z
LAST-MODIFIED:20221228T094247Z
UID:10000491-1699468200-1699468200@westsidesportsmens.com
SUMMARY:Rifle Range Committee Meeting
DESCRIPTION:
URL:https://westsidesportsmens.com/calendar/rifle-range-committee-meeting-11/2023-11-08/
LOCATION:Club House
CATEGORIES:General Event
END:VEVENT
BEGIN:VEVENT
DTSTART;TZID=UTC:20231106T183000
DTEND;TZID=UTC:20231106T200000
DTSTAMP:20260421T134525
CREATED:20230222T081742Z
LAST-MODIFIED:20230222T081742Z
UID:10000662-1699295400-1699300800@westsidesportsmens.com
SUMMARY:PAS/HH Committee Meeting
DESCRIPTION:
URL:https://westsidesportsmens.com/calendar/pas-hh-committee-meeting-12/2023-11-06/
LOCATION:Club House
CATEGORIES:Practical Action Shooting
END:VEVENT
BEGIN:VEVENT
DTSTART;TZID=UTC:20231101T190000
DTEND;TZID=UTC:20231101T203000
DTSTAMP:20260421T134525
CREATED:20221228T093345Z
LAST-MODIFIED:20221228T093345Z
UID:10000470-1698865200-1698870600@westsidesportsmens.com
SUMMARY:General Membership Meeting
DESCRIPTION:
URL:https://westsidesportsmens.com/calendar/general-membership-meeting-12/2023-11-01/
LOCATION:Club House
CATEGORIES:General Event
END:VEVENT
BEGIN:VEVENT
DTSTART;TZID=UTC:20231028T180000
DTEND;TZID=UTC:20231028T210000
DTSTAMP:20260421T134525
CREATED:20221228T100522Z
LAST-MODIFIED:20221228T100522Z
UID:10000522-1698516000-1698526800@westsidesportsmens.com
SUMMARY:2nd Amendment Patriots Meeting
DESCRIPTION:
URL:https://westsidesportsmens.com/calendar/2nd-amendment-patriots-meeting/2023-10-28/
LOCATION:Club House
CATEGORIES:Special Events
END:VEVENT
BEGIN:VEVENT
DTSTART;TZID=UTC:20231028T080000
DTEND;TZID=UTC:20231028T140000
DTSTAMP:20260421T134525
CREATED:20230908T064544Z
LAST-MODIFIED:20230908T064552Z
UID:10000707-1698480000-1698501600@westsidesportsmens.com
SUMMARY:WSSC Fall Gun Show
DESCRIPTION:
URL:https://westsidesportsmens.com/calendar/wssc-fall-gun-show/
LOCATION:Club House
CATEGORIES:Special Events
END:VEVENT
BEGIN:VEVENT
DTSTART;TZID=UTC:20231024T183000
DTEND;TZID=UTC:20231024T200000
DTSTAMP:20260421T134525
CREATED:20221228T100949Z
LAST-MODIFIED:20221228T100949Z
UID:10000536-1698172200-1698177600@westsidesportsmens.com
SUMMARY:Membership Committee Meeting
DESCRIPTION:
URL:https://westsidesportsmens.com/calendar/membership-committee-meeting/2023-10-24/
LOCATION:Club House
CATEGORIES:General Event
END:VEVENT
BEGIN:VEVENT
DTSTART;TZID=UTC:20231011T183000
DTEND;TZID=UTC:20231011T183000
DTSTAMP:20260421T134525
CREATED:20221228T094247Z
LAST-MODIFIED:20221228T094247Z
UID:10000490-1697049000-1697049000@westsidesportsmens.com
SUMMARY:Rifle Range Committee Meeting
DESCRIPTION:
URL:https://westsidesportsmens.com/calendar/rifle-range-committee-meeting-11/2023-10-11/
LOCATION:Club House
CATEGORIES:General Event
END:VEVENT
BEGIN:VEVENT
DTSTART;TZID=UTC:20231004T190000
DTEND;TZID=UTC:20231004T203000
DTSTAMP:20260421T134525
CREATED:20221228T093345Z
LAST-MODIFIED:20221228T093345Z
UID:10000469-1696446000-1696451400@westsidesportsmens.com
SUMMARY:General Membership Meeting
DESCRIPTION:
URL:https://westsidesportsmens.com/calendar/general-membership-meeting-12/2023-10-04/
LOCATION:Club House
CATEGORIES:General Event
END:VEVENT
BEGIN:VEVENT
DTSTART;TZID=UTC:20231002T183000
DTEND;TZID=UTC:20231002T200000
DTSTAMP:20260421T134525
CREATED:20230222T081742Z
LAST-MODIFIED:20230222T081742Z
UID:10000661-1696271400-1696276800@westsidesportsmens.com
SUMMARY:PAS/HH Committee Meeting
DESCRIPTION:
URL:https://westsidesportsmens.com/calendar/pas-hh-committee-meeting-12/2023-10-02/
LOCATION:Club House
CATEGORIES:Practical Action Shooting
END:VEVENT
BEGIN:VEVENT
DTSTART;TZID=UTC:20230930T180000
DTEND;TZID=UTC:20230930T210000
DTSTAMP:20260421T134525
CREATED:20221228T100522Z
LAST-MODIFIED:20221228T100522Z
UID:10000521-1696096800-1696107600@westsidesportsmens.com
SUMMARY:2nd Amendment Patriots Meeting
DESCRIPTION:
URL:https://westsidesportsmens.com/calendar/2nd-amendment-patriots-meeting/2023-09-30/
LOCATION:Club House
CATEGORIES:Special Events
END:VEVENT
BEGIN:VEVENT
DTSTART;VALUE=DATE:20230927
DTEND;VALUE=DATE:20231001
DTSTAMP:20260421T134525
CREATED:20230222T082930Z
LAST-MODIFIED:20230222T082930Z
UID:10000674-1695772800-1696118399@westsidesportsmens.com
SUMMARY:Holiday Havoc Range Prep: Range Closed
DESCRIPTION:
URL:https://westsidesportsmens.com/calendar/holiday-havoc-range-prep-range-closed/
LOCATION:Club House
CATEGORIES:Cowboy,Practical Action Shooting,Rifle Range,Special Events,Spot Shoot,Trap Range
END:VEVENT
BEGIN:VEVENT
DTSTART;TZID=UTC:20230926T183000
DTEND;TZID=UTC:20230926T200000
DTSTAMP:20260421T134525
CREATED:20221228T100949Z
LAST-MODIFIED:20221228T100949Z
UID:10000535-1695753000-1695758400@westsidesportsmens.com
SUMMARY:Membership Committee Meeting
DESCRIPTION:
URL:https://westsidesportsmens.com/calendar/membership-committee-meeting/2023-09-26/
LOCATION:Club House
CATEGORIES:General Event
END:VEVENT
BEGIN:VEVENT
DTSTART;TZID=UTC:20230919T183000
DTEND;TZID=UTC:20230919T203000
DTSTAMP:20260421T134525
CREATED:20230908T064920Z
LAST-MODIFIED:20230908T064920Z
UID:10000709-1695148200-1695155400@westsidesportsmens.com
SUMMARY:Rules Committee Meeting
DESCRIPTION:
URL:https://westsidesportsmens.com/calendar/rules-committee-meeting/
LOCATION:Club House
CATEGORIES:General Event
END:VEVENT
BEGIN:VEVENT
DTSTART;TZID=UTC:20230914T183000
DTEND;TZID=UTC:20230914T200000
DTSTAMP:20260421T134525
CREATED:20221228T093924Z
LAST-MODIFIED:20221228T093924Z
UID:10000477-1694716200-1694721600@westsidesportsmens.com
SUMMARY:Leadership Committee Meeting
DESCRIPTION:
URL:https://westsidesportsmens.com/calendar/leadership-committee-meeting/2023-09-14/
LOCATION:Club House
CATEGORIES:General Event
END:VEVENT
BEGIN:VEVENT
DTSTART;TZID=UTC:20230913T183000
DTEND;TZID=UTC:20230913T183000
DTSTAMP:20260421T134525
CREATED:20221228T094247Z
LAST-MODIFIED:20221228T094247Z
UID:10000489-1694629800-1694629800@westsidesportsmens.com
SUMMARY:Rifle Range Committee Meeting
DESCRIPTION:
URL:https://westsidesportsmens.com/calendar/rifle-range-committee-meeting-11/2023-09-13/
LOCATION:Club House
CATEGORIES:General Event
END:VEVENT
END:VCALENDAR