BEGIN:VCALENDAR
VERSION:2.0
PRODID:-//West Side Sportsmans Club - ECPv6.15.15//NONSGML v1.0//EN
CALSCALE:GREGORIAN
METHOD:PUBLISH
X-ORIGINAL-URL:https://westsidesportsmens.com
X-WR-CALDESC:Events for West Side Sportsmans Club
REFRESH-INTERVAL;VALUE=DURATION:PT1H
X-Robots-Tag:noindex
X-PUBLISHED-TTL:PT1H
BEGIN:VTIMEZONE
TZID:America/Chicago
BEGIN:DAYLIGHT
TZOFFSETFROM:-0600
TZOFFSETTO:-0500
TZNAME:CDT
DTSTART:20270314T080000
END:DAYLIGHT
BEGIN:STANDARD
TZOFFSETFROM:-0500
TZOFFSETTO:-0600
TZNAME:CST
DTSTART:20271107T070000
END:STANDARD
BEGIN:DAYLIGHT
TZOFFSETFROM:-0600
TZOFFSETTO:-0500
TZNAME:CDT
DTSTART:20280312T080000
END:DAYLIGHT
BEGIN:STANDARD
TZOFFSETFROM:-0500
TZOFFSETTO:-0600
TZNAME:CST
DTSTART:20281105T070000
END:STANDARD
BEGIN:DAYLIGHT
TZOFFSETFROM:-0600
TZOFFSETTO:-0500
TZNAME:CDT
DTSTART:20290311T080000
END:DAYLIGHT
BEGIN:STANDARD
TZOFFSETFROM:-0500
TZOFFSETTO:-0600
TZNAME:CST
DTSTART:20291104T070000
END:STANDARD
END:VTIMEZONE
BEGIN:VTIMEZONE
TZID:UTC
BEGIN:STANDARD
TZOFFSETFROM:+0000
TZOFFSETTO:+0000
TZNAME:UTC
DTSTART:20270101T000000
END:STANDARD
END:VTIMEZONE
BEGIN:VEVENT
DTSTART;TZID=America/Chicago:20280426T080000
DTEND;TZID=America/Chicago:20280426T120000
DTSTAMP:20260423T235708
CREATED:20250306T011312Z
LAST-MODIFIED:20250719T215716Z
UID:10001860-1840348800-1840363200@westsidesportsmens.com
SUMMARY:Cowboy Match Setup
DESCRIPTION:
URL:https://westsidesportsmens.com/calendar/cowboy-match-setup-3/2028-04-26/
LOCATION:Cowboy Town\, 1000 Peerless Rd\, Evansville\, IN\, 47712\, United States
CATEGORIES:Cowboy
END:VEVENT
BEGIN:VEVENT
DTSTART;TZID=UTC:20280501T180000
DTEND;TZID=UTC:20280501T200000
DTSTAMP:20260423T235708
CREATED:20231231T092753Z
LAST-MODIFIED:20231231T093808Z
UID:10000767-1840816800-1840824000@westsidesportsmens.com
SUMMARY:IDPA Meeting
DESCRIPTION:
URL:https://westsidesportsmens.com/calendar/idpa-meeting-2/2028-05-01/
LOCATION:Club House
CATEGORIES:Practical Action Shooting
END:VEVENT
BEGIN:VEVENT
DTSTART;TZID=UTC:20280501T190000
DTEND;TZID=UTC:20280501T210000
DTSTAMP:20260423T235708
CREATED:20231231T093611Z
LAST-MODIFIED:20231231T094546Z
UID:10000827-1840820400-1840827600@westsidesportsmens.com
SUMMARY:Cowboy Committee Meeting
DESCRIPTION:
URL:https://westsidesportsmens.com/calendar/cowboy-committee-meeting-3/2028-05-01/
LOCATION:Cookhouse\, 1000 Peerless Rd\, Evansville\, IN\, 47712\, United States
CATEGORIES:Cowboy
END:VEVENT
BEGIN:VEVENT
DTSTART;TZID=America/Chicago:20280503T190000
DTEND;TZID=America/Chicago:20280503T203000
DTSTAMP:20260423T235708
CREATED:20250306T000144Z
LAST-MODIFIED:20250719T215717Z
UID:10001657-1840993200-1840998600@westsidesportsmens.com
SUMMARY:General Member Meeting
DESCRIPTION:
URL:https://westsidesportsmens.com/calendar/general-member-meeting/2028-05-03/
LOCATION:Club House
CATEGORIES:General Event
END:VEVENT
BEGIN:VEVENT
DTSTART;TZID=UTC:20280504T180000
DTEND;TZID=UTC:20280504T200000
DTSTAMP:20260423T235708
CREATED:20231231T094347Z
LAST-MODIFIED:20231231T095142Z
UID:10000948-1841076000-1841083200@westsidesportsmens.com
SUMMARY:Membership Committee Meeting
DESCRIPTION:
URL:https://westsidesportsmens.com/calendar/membership-committee-meeting-2/2028-05-04/
LOCATION:Club Office
CATEGORIES:Membership
END:VEVENT
BEGIN:VEVENT
DTSTART;TZID=UTC:20280510T183000
DTEND;TZID=UTC:20280510T200000
DTSTAMP:20260423T235708
CREATED:20231231T094914Z
LAST-MODIFIED:20231231T095034Z
UID:10000889-1841596200-1841601600@westsidesportsmens.com
SUMMARY:Rifle Range Committee Meeting
DESCRIPTION:
URL:https://westsidesportsmens.com/calendar/rifle-range-committee-meeting-12/2028-05-10/
LOCATION:Club House
CATEGORIES:Rifle Range
END:VEVENT
BEGIN:VEVENT
DTSTART;TZID=UTC:20280511T183000
DTEND;TZID=UTC:20280511T200000
DTSTAMP:20260423T235708
CREATED:20231231T095910Z
LAST-MODIFIED:20231231T100235Z
UID:10001100-1841682600-1841688000@westsidesportsmens.com
SUMMARY:Leadership Meeting
DESCRIPTION:
URL:https://westsidesportsmens.com/calendar/leadership-meeting-7/2028-05-11/
LOCATION:Club Office
CATEGORIES:General Event
END:VEVENT
BEGIN:VEVENT
DTSTART;TZID=UTC:20280513T080000
DTEND;TZID=UTC:20280513T170000
DTSTAMP:20260423T235708
CREATED:20231231T100506Z
LAST-MODIFIED:20231231T100553Z
UID:10001156-1841817600-1841850000@westsidesportsmens.com
SUMMARY:Club Work Day
DESCRIPTION:
URL:https://westsidesportsmens.com/calendar/club-work-day-2/2028-05-13/
LOCATION:Club Wide Event
CATEGORIES:General Event
END:VEVENT
BEGIN:VEVENT
DTSTART;TZID=UTC:20280516T183000
DTEND;TZID=UTC:20280516T200000
DTSTAMP:20260423T235708
CREATED:20231231T100907Z
LAST-MODIFIED:20231231T100931Z
UID:10001216-1842114600-1842120000@westsidesportsmens.com
SUMMARY:Rules & Regulations Committee Meeting
DESCRIPTION:
URL:https://westsidesportsmens.com/calendar/rules-regulations-committee-meeting/2028-05-16/
LOCATION:Club House
CATEGORIES:General Event
END:VEVENT
BEGIN:VEVENT
DTSTART;TZID=UTC:20280517T080000
DTEND;TZID=UTC:20280517T110000
DTSTAMP:20260423T235708
CREATED:20231231T112319Z
LAST-MODIFIED:20231231T112413Z
UID:10001501-1842163200-1842174000@westsidesportsmens.com
SUMMARY:Cowboy Shoot Setup
DESCRIPTION:
URL:https://westsidesportsmens.com/calendar/cowboy-shoot-setup/2028-05-17/
LOCATION:Cowboy Town\, 1000 Peerless Rd\, Evansville\, IN\, 47712\, United States
CATEGORIES:Cowboy
END:VEVENT
BEGIN:VEVENT
DTSTART;TZID=UTC:20280517T183000
DTEND;TZID=UTC:20280517T203000
DTSTAMP:20260423T235708
CREATED:20231231T101107Z
LAST-MODIFIED:20231231T101123Z
UID:10001276-1842201000-1842208200@westsidesportsmens.com
SUMMARY:Board of Directors Meeting
DESCRIPTION:
URL:https://westsidesportsmens.com/calendar/board-of-directors-meeting-2/2028-05-17/
LOCATION:Club Office
CATEGORIES:General Event
END:VEVENT
BEGIN:VEVENT
DTSTART;TZID=UTC:20280520T080000
DTEND;TZID=UTC:20280520T140000
DTSTAMP:20260423T235708
CREATED:20250306T001902Z
LAST-MODIFIED:20250719T215717Z
UID:10001741-1842422400-1842444000@westsidesportsmens.com
SUMMARY:IDPA Shoot
DESCRIPTION:
URL:https://westsidesportsmens.com/calendar/idpa-shoot-2/2028-05-20/
LOCATION:Event Bays
CATEGORIES:Practical Action Shooting
END:VEVENT
BEGIN:VEVENT
DTSTART;TZID=America/Chicago:20280524T080000
DTEND;TZID=America/Chicago:20280524T120000
DTSTAMP:20260423T235708
CREATED:20250306T011312Z
LAST-MODIFIED:20250719T215716Z
UID:10001861-1842768000-1842782400@westsidesportsmens.com
SUMMARY:Cowboy Match Setup
DESCRIPTION:
URL:https://westsidesportsmens.com/calendar/cowboy-match-setup-3/2028-05-24/
LOCATION:Cowboy Town\, 1000 Peerless Rd\, Evansville\, IN\, 47712\, United States
CATEGORIES:Cowboy
END:VEVENT
BEGIN:VEVENT
DTSTART;TZID=America/Chicago:20280527T090000
DTEND;TZID=America/Chicago:20280527T160000
DTSTAMP:20260423T235708
CREATED:20250306T011126Z
LAST-MODIFIED:20250719T215715Z
UID:10001802-1843030800-1843056000@westsidesportsmens.com
SUMMARY:Cowboy SASS Match
DESCRIPTION:
URL:https://westsidesportsmens.com/calendar/cowboy-sass-match-2/2028-05-27/
LOCATION:Cookhouse\, 1000 Peerless Rd\, Evansville\, IN\, 47712\, United States
CATEGORIES:Cowboy
END:VEVENT
BEGIN:VEVENT
DTSTART;TZID=UTC:20280601T180000
DTEND;TZID=UTC:20280601T200000
DTSTAMP:20260423T235708
CREATED:20231231T094347Z
LAST-MODIFIED:20231231T095142Z
UID:10000949-1843495200-1843502400@westsidesportsmens.com
SUMMARY:Membership Committee Meeting
DESCRIPTION:
URL:https://westsidesportsmens.com/calendar/membership-committee-meeting-2/2028-06-01/
LOCATION:Club Office
CATEGORIES:Membership
END:VEVENT
BEGIN:VEVENT
DTSTART;TZID=UTC:20280605T180000
DTEND;TZID=UTC:20280605T200000
DTSTAMP:20260423T235708
CREATED:20231231T092753Z
LAST-MODIFIED:20231231T093808Z
UID:10000768-1843840800-1843848000@westsidesportsmens.com
SUMMARY:IDPA Meeting
DESCRIPTION:
URL:https://westsidesportsmens.com/calendar/idpa-meeting-2/2028-06-05/
LOCATION:Club House
CATEGORIES:Practical Action Shooting
END:VEVENT
BEGIN:VEVENT
DTSTART;TZID=UTC:20280605T190000
DTEND;TZID=UTC:20280605T210000
DTSTAMP:20260423T235708
CREATED:20231231T093611Z
LAST-MODIFIED:20231231T094546Z
UID:10000828-1843844400-1843851600@westsidesportsmens.com
SUMMARY:Cowboy Committee Meeting
DESCRIPTION:
URL:https://westsidesportsmens.com/calendar/cowboy-committee-meeting-3/2028-06-05/
LOCATION:Cookhouse\, 1000 Peerless Rd\, Evansville\, IN\, 47712\, United States
CATEGORIES:Cowboy
END:VEVENT
BEGIN:VEVENT
DTSTART;TZID=America/Chicago:20280607T190000
DTEND;TZID=America/Chicago:20280607T203000
DTSTAMP:20260423T235708
CREATED:20250306T000144Z
LAST-MODIFIED:20250719T215717Z
UID:10001658-1844017200-1844022600@westsidesportsmens.com
SUMMARY:General Member Meeting
DESCRIPTION:
URL:https://westsidesportsmens.com/calendar/general-member-meeting/2028-06-07/
LOCATION:Club House
CATEGORIES:General Event
END:VEVENT
BEGIN:VEVENT
DTSTART;TZID=UTC:20280610T080000
DTEND;TZID=UTC:20280610T170000
DTSTAMP:20260423T235708
CREATED:20231231T100506Z
LAST-MODIFIED:20231231T100553Z
UID:10001157-1844236800-1844269200@westsidesportsmens.com
SUMMARY:Club Work Day
DESCRIPTION:
URL:https://westsidesportsmens.com/calendar/club-work-day-2/2028-06-10/
LOCATION:Club Wide Event
CATEGORIES:General Event
END:VEVENT
BEGIN:VEVENT
DTSTART;TZID=UTC:20280614T183000
DTEND;TZID=UTC:20280614T200000
DTSTAMP:20260423T235708
CREATED:20231231T094914Z
LAST-MODIFIED:20231231T095034Z
UID:10000890-1844620200-1844625600@westsidesportsmens.com
SUMMARY:Rifle Range Committee Meeting
DESCRIPTION:
URL:https://westsidesportsmens.com/calendar/rifle-range-committee-meeting-12/2028-06-14/
LOCATION:Club House
CATEGORIES:Rifle Range
END:VEVENT
BEGIN:VEVENT
DTSTART;TZID=UTC:20280617T080000
DTEND;TZID=UTC:20280617T140000
DTSTAMP:20260423T235708
CREATED:20250306T001902Z
LAST-MODIFIED:20250719T215717Z
UID:10001742-1844841600-1844863200@westsidesportsmens.com
SUMMARY:IDPA Shoot
DESCRIPTION:
URL:https://westsidesportsmens.com/calendar/idpa-shoot-2/2028-06-17/
LOCATION:Event Bays
CATEGORIES:Practical Action Shooting
END:VEVENT
BEGIN:VEVENT
DTSTART;TZID=UTC:20280620T183000
DTEND;TZID=UTC:20280620T200000
DTSTAMP:20260423T235708
CREATED:20231231T100907Z
LAST-MODIFIED:20231231T100931Z
UID:10001217-1845138600-1845144000@westsidesportsmens.com
SUMMARY:Rules & Regulations Committee Meeting
DESCRIPTION:
URL:https://westsidesportsmens.com/calendar/rules-regulations-committee-meeting/2028-06-20/
LOCATION:Club House
CATEGORIES:General Event
END:VEVENT
BEGIN:VEVENT
DTSTART;TZID=UTC:20280621T080000
DTEND;TZID=UTC:20280621T110000
DTSTAMP:20260423T235708
CREATED:20231231T112319Z
LAST-MODIFIED:20231231T112413Z
UID:10001502-1845187200-1845198000@westsidesportsmens.com
SUMMARY:Cowboy Shoot Setup
DESCRIPTION:
URL:https://westsidesportsmens.com/calendar/cowboy-shoot-setup/2028-06-21/
LOCATION:Cowboy Town\, 1000 Peerless Rd\, Evansville\, IN\, 47712\, United States
CATEGORIES:Cowboy
END:VEVENT
BEGIN:VEVENT
DTSTART;TZID=UTC:20280621T183000
DTEND;TZID=UTC:20280621T203000
DTSTAMP:20260423T235708
CREATED:20231231T101107Z
LAST-MODIFIED:20231231T101123Z
UID:10001277-1845225000-1845232200@westsidesportsmens.com
SUMMARY:Board of Directors Meeting
DESCRIPTION:
URL:https://westsidesportsmens.com/calendar/board-of-directors-meeting-2/2028-06-21/
LOCATION:Club Office
CATEGORIES:General Event
END:VEVENT
BEGIN:VEVENT
DTSTART;TZID=America/Chicago:20280624T090000
DTEND;TZID=America/Chicago:20280624T160000
DTSTAMP:20260423T235708
CREATED:20250306T011126Z
LAST-MODIFIED:20250719T215715Z
UID:10001803-1845450000-1845475200@westsidesportsmens.com
SUMMARY:Cowboy SASS Match
DESCRIPTION:
URL:https://westsidesportsmens.com/calendar/cowboy-sass-match-2/2028-06-24/
LOCATION:Cookhouse\, 1000 Peerless Rd\, Evansville\, IN\, 47712\, United States
CATEGORIES:Cowboy
END:VEVENT
BEGIN:VEVENT
DTSTART;TZID=America/Chicago:20280628T080000
DTEND;TZID=America/Chicago:20280628T120000
DTSTAMP:20260423T235708
CREATED:20250306T011312Z
LAST-MODIFIED:20250719T215716Z
UID:10001862-1845792000-1845806400@westsidesportsmens.com
SUMMARY:Cowboy Match Setup
DESCRIPTION:
URL:https://westsidesportsmens.com/calendar/cowboy-match-setup-3/2028-06-28/
LOCATION:Cowboy Town\, 1000 Peerless Rd\, Evansville\, IN\, 47712\, United States
CATEGORIES:Cowboy
END:VEVENT
BEGIN:VEVENT
DTSTART;TZID=UTC:20280703T180000
DTEND;TZID=UTC:20280703T200000
DTSTAMP:20260423T235708
CREATED:20231231T092753Z
LAST-MODIFIED:20231231T093808Z
UID:10000769-1846260000-1846267200@westsidesportsmens.com
SUMMARY:IDPA Meeting
DESCRIPTION:
URL:https://westsidesportsmens.com/calendar/idpa-meeting-2/2028-07-03/
LOCATION:Club House
CATEGORIES:Practical Action Shooting
END:VEVENT
BEGIN:VEVENT
DTSTART;TZID=UTC:20280703T190000
DTEND;TZID=UTC:20280703T210000
DTSTAMP:20260423T235708
CREATED:20231231T093611Z
LAST-MODIFIED:20231231T094546Z
UID:10000829-1846263600-1846270800@westsidesportsmens.com
SUMMARY:Cowboy Committee Meeting
DESCRIPTION:
URL:https://westsidesportsmens.com/calendar/cowboy-committee-meeting-3/2028-07-03/
LOCATION:Cookhouse\, 1000 Peerless Rd\, Evansville\, IN\, 47712\, United States
CATEGORIES:Cowboy
END:VEVENT
BEGIN:VEVENT
DTSTART;TZID=America/Chicago:20280705T190000
DTEND;TZID=America/Chicago:20280705T203000
DTSTAMP:20260423T235708
CREATED:20250306T000144Z
LAST-MODIFIED:20250719T215717Z
UID:10001659-1846436400-1846441800@westsidesportsmens.com
SUMMARY:General Member Meeting
DESCRIPTION:
URL:https://westsidesportsmens.com/calendar/general-member-meeting/2028-07-05/
LOCATION:Club House
CATEGORIES:General Event
END:VEVENT
BEGIN:VEVENT
DTSTART;TZID=UTC:20280706T180000
DTEND;TZID=UTC:20280706T200000
DTSTAMP:20260423T235708
CREATED:20231231T094347Z
LAST-MODIFIED:20231231T095142Z
UID:10000950-1846519200-1846526400@westsidesportsmens.com
SUMMARY:Membership Committee Meeting
DESCRIPTION:
URL:https://westsidesportsmens.com/calendar/membership-committee-meeting-2/2028-07-06/
LOCATION:Club Office
CATEGORIES:Membership
END:VEVENT
END:VCALENDAR