BEGIN:VCALENDAR
VERSION:2.0
PRODID:-//West Side Sportsmans Club - ECPv6.15.15//NONSGML v1.0//EN
CALSCALE:GREGORIAN
METHOD:PUBLISH
X-WR-CALNAME:West Side Sportsmans Club
X-ORIGINAL-URL:https://westsidesportsmens.com
X-WR-CALDESC:Events for West Side Sportsmans Club
REFRESH-INTERVAL;VALUE=DURATION:PT1H
X-Robots-Tag:noindex
X-PUBLISHED-TTL:PT1H
BEGIN:VTIMEZONE
TZID:America/Chicago
BEGIN:DAYLIGHT
TZOFFSETFROM:-0600
TZOFFSETTO:-0500
TZNAME:CDT
DTSTART:20240310T080000
END:DAYLIGHT
BEGIN:STANDARD
TZOFFSETFROM:-0500
TZOFFSETTO:-0600
TZNAME:CST
DTSTART:20241103T070000
END:STANDARD
BEGIN:DAYLIGHT
TZOFFSETFROM:-0600
TZOFFSETTO:-0500
TZNAME:CDT
DTSTART:20250309T080000
END:DAYLIGHT
BEGIN:STANDARD
TZOFFSETFROM:-0500
TZOFFSETTO:-0600
TZNAME:CST
DTSTART:20251102T070000
END:STANDARD
BEGIN:DAYLIGHT
TZOFFSETFROM:-0600
TZOFFSETTO:-0500
TZNAME:CDT
DTSTART:20260308T080000
END:DAYLIGHT
BEGIN:STANDARD
TZOFFSETFROM:-0500
TZOFFSETTO:-0600
TZNAME:CST
DTSTART:20261101T070000
END:STANDARD
BEGIN:DAYLIGHT
TZOFFSETFROM:-0600
TZOFFSETTO:-0500
TZNAME:CDT
DTSTART:20270314T080000
END:DAYLIGHT
BEGIN:STANDARD
TZOFFSETFROM:-0500
TZOFFSETTO:-0600
TZNAME:CST
DTSTART:20271107T070000
END:STANDARD
END:VTIMEZONE
BEGIN:VTIMEZONE
TZID:UTC
BEGIN:STANDARD
TZOFFSETFROM:+0000
TZOFFSETTO:+0000
TZNAME:UTC
DTSTART:20230101T000000
END:STANDARD
END:VTIMEZONE
BEGIN:VEVENT
DTSTART;TZID=America/Chicago:20260401T190000
DTEND;TZID=America/Chicago:20260401T203000
DTSTAMP:20260421T095839
CREATED:20250306T000144Z
LAST-MODIFIED:20250719T215717Z
UID:10001632-1775070000-1775075400@westsidesportsmens.com
SUMMARY:General Member Meeting
DESCRIPTION:
URL:https://westsidesportsmens.com/calendar/general-member-meeting/2026-04-01/
LOCATION:Club House
CATEGORIES:General Event
END:VEVENT
BEGIN:VEVENT
DTSTART;TZID=America/Chicago:20260304T190000
DTEND;TZID=America/Chicago:20260304T203000
DTSTAMP:20260421T095839
CREATED:20250306T000144Z
LAST-MODIFIED:20250719T215717Z
UID:10001631-1772650800-1772656200@westsidesportsmens.com
SUMMARY:General Member Meeting
DESCRIPTION:
URL:https://westsidesportsmens.com/calendar/general-member-meeting/2026-03-04/
LOCATION:Club House
CATEGORIES:General Event
END:VEVENT
BEGIN:VEVENT
DTSTART;TZID=America/Chicago:20260204T190000
DTEND;TZID=America/Chicago:20260204T203000
DTSTAMP:20260421T095839
CREATED:20250306T000144Z
LAST-MODIFIED:20250719T215717Z
UID:10001630-1770231600-1770237000@westsidesportsmens.com
SUMMARY:General Member Meeting
DESCRIPTION:
URL:https://westsidesportsmens.com/calendar/general-member-meeting/2026-02-04/
LOCATION:Club House
CATEGORIES:General Event
END:VEVENT
BEGIN:VEVENT
DTSTART;TZID=America/Chicago:20260107T190000
DTEND;TZID=America/Chicago:20260107T203000
DTSTAMP:20260421T095839
CREATED:20250306T000144Z
LAST-MODIFIED:20250719T215717Z
UID:10001629-1767812400-1767817800@westsidesportsmens.com
SUMMARY:General Member Meeting
DESCRIPTION:
URL:https://westsidesportsmens.com/calendar/general-member-meeting/2026-01-07/
LOCATION:Club House
CATEGORIES:General Event
END:VEVENT
BEGIN:VEVENT
DTSTART;TZID=America/Chicago:20251203T190000
DTEND;TZID=America/Chicago:20251203T203000
DTSTAMP:20260421T095839
CREATED:20250306T000144Z
LAST-MODIFIED:20250719T215717Z
UID:10001628-1764788400-1764793800@westsidesportsmens.com
SUMMARY:General Member Meeting
DESCRIPTION:
URL:https://westsidesportsmens.com/calendar/general-member-meeting/2025-12-03/
LOCATION:Club House
CATEGORIES:General Event
END:VEVENT
BEGIN:VEVENT
DTSTART;TZID=America/Chicago:20251105T190000
DTEND;TZID=America/Chicago:20251105T203000
DTSTAMP:20260421T095839
CREATED:20250306T000144Z
LAST-MODIFIED:20250719T215717Z
UID:10001627-1762369200-1762374600@westsidesportsmens.com
SUMMARY:General Member Meeting
DESCRIPTION:
URL:https://westsidesportsmens.com/calendar/general-member-meeting/2025-11-05/
LOCATION:Club House
CATEGORIES:General Event
END:VEVENT
BEGIN:VEVENT
DTSTART;TZID=America/Chicago:20251001T190000
DTEND;TZID=America/Chicago:20251001T203000
DTSTAMP:20260421T095839
CREATED:20250306T000144Z
LAST-MODIFIED:20250719T215717Z
UID:10001626-1759345200-1759350600@westsidesportsmens.com
SUMMARY:General Member Meeting
DESCRIPTION:
URL:https://westsidesportsmens.com/calendar/general-member-meeting/2025-10-01/
LOCATION:Club House
CATEGORIES:General Event
END:VEVENT
BEGIN:VEVENT
DTSTART;TZID=America/Chicago:20250903T190000
DTEND;TZID=America/Chicago:20250903T203000
DTSTAMP:20260421T095839
CREATED:20250306T000144Z
LAST-MODIFIED:20250719T215717Z
UID:10001625-1756926000-1756931400@westsidesportsmens.com
SUMMARY:General Member Meeting
DESCRIPTION:
URL:https://westsidesportsmens.com/calendar/general-member-meeting/2025-09-03/
LOCATION:Club House
CATEGORIES:General Event
END:VEVENT
BEGIN:VEVENT
DTSTART;TZID=America/Chicago:20250806T190000
DTEND;TZID=America/Chicago:20250806T203000
DTSTAMP:20260421T095839
CREATED:20250306T000144Z
LAST-MODIFIED:20250719T215717Z
UID:10001624-1754506800-1754512200@westsidesportsmens.com
SUMMARY:General Member Meeting
DESCRIPTION:
URL:https://westsidesportsmens.com/calendar/general-member-meeting/2025-08-06/
LOCATION:Club House
CATEGORIES:General Event
END:VEVENT
BEGIN:VEVENT
DTSTART;TZID=America/Chicago:20250702T190000
DTEND;TZID=America/Chicago:20250702T203000
DTSTAMP:20260421T095839
CREATED:20250306T000144Z
LAST-MODIFIED:20250719T215717Z
UID:10001623-1751482800-1751488200@westsidesportsmens.com
SUMMARY:General Member Meeting
DESCRIPTION:
URL:https://westsidesportsmens.com/calendar/general-member-meeting/2025-07-02/
LOCATION:Club House
CATEGORIES:General Event
END:VEVENT
BEGIN:VEVENT
DTSTART;TZID=America/Chicago:20250604T190000
DTEND;TZID=America/Chicago:20250604T203000
DTSTAMP:20260421T095839
CREATED:20250306T000144Z
LAST-MODIFIED:20250719T215717Z
UID:10001622-1749063600-1749069000@westsidesportsmens.com
SUMMARY:General Member Meeting
DESCRIPTION:
URL:https://westsidesportsmens.com/calendar/general-member-meeting/2025-06-04/
LOCATION:Club House
CATEGORIES:General Event
END:VEVENT
BEGIN:VEVENT
DTSTART;TZID=America/Chicago:20250507T190000
DTEND;TZID=America/Chicago:20250507T203000
DTSTAMP:20260421T095839
CREATED:20250306T000144Z
LAST-MODIFIED:20250719T215717Z
UID:10001621-1746644400-1746649800@westsidesportsmens.com
SUMMARY:General Member Meeting
DESCRIPTION:
URL:https://westsidesportsmens.com/calendar/general-member-meeting/2025-05-07/
LOCATION:Club House
CATEGORIES:General Event
END:VEVENT
BEGIN:VEVENT
DTSTART;TZID=America/Chicago:20250402T190000
DTEND;TZID=America/Chicago:20250402T203000
DTSTAMP:20260421T095839
CREATED:20250306T000144Z
LAST-MODIFIED:20250719T215717Z
UID:10001620-1743620400-1743625800@westsidesportsmens.com
SUMMARY:General Member Meeting
DESCRIPTION:
URL:https://westsidesportsmens.com/calendar/general-member-meeting/2025-04-02/
LOCATION:Club House
CATEGORIES:General Event
END:VEVENT
BEGIN:VEVENT
DTSTART;TZID=America/Chicago:20250305T190000
DTEND;TZID=America/Chicago:20250305T203000
DTSTAMP:20260421T095839
CREATED:20250306T000144Z
LAST-MODIFIED:20250719T215717Z
UID:10001619-1741201200-1741206600@westsidesportsmens.com
SUMMARY:General Member Meeting
DESCRIPTION:
URL:https://westsidesportsmens.com/calendar/general-member-meeting/2025-03-05/
LOCATION:Club House
CATEGORIES:General Event
END:VEVENT
BEGIN:VEVENT
DTSTART;TZID=UTC:20240514T183000
DTEND;TZID=UTC:20240514T200000
DTSTAMP:20260421T095839
CREATED:20240409T212448Z
LAST-MODIFIED:20240514T203735Z
UID:10001589-1715711400-1715716800@westsidesportsmens.com
SUMMARY:Facility Planning Committee Meeting
DESCRIPTION:
URL:https://westsidesportsmens.com/calendar/facility-planning-committee-meeting-2/
LOCATION:Club House
CATEGORIES:Facility Planning
END:VEVENT
BEGIN:VEVENT
DTSTART;TZID=UTC:20240409T183000
DTEND;TZID=UTC:20240409T203000
DTSTAMP:20260421T095839
CREATED:20231231T094748Z
LAST-MODIFIED:20240409T213104Z
UID:10001593-1712687400-1712694600@westsidesportsmens.com
SUMMARY:Facility Planning Committee Meeting
DESCRIPTION:
URL:https://westsidesportsmens.com/calendar/facility-planning-committee-meeting/2024-04-09/
LOCATION:Club House
CATEGORIES:Facility Planning
END:VEVENT
BEGIN:VEVENT
DTSTART;TZID=UTC:20240312T183000
DTEND;TZID=UTC:20240312T203000
DTSTAMP:20260421T095839
CREATED:20231231T094748Z
LAST-MODIFIED:20240409T213104Z
UID:10001592-1710268200-1710275400@westsidesportsmens.com
SUMMARY:Facility Planning Committee Meeting
DESCRIPTION:
URL:https://westsidesportsmens.com/calendar/facility-planning-committee-meeting/2024-03-12/
LOCATION:Club House
CATEGORIES:Facility Planning
END:VEVENT
BEGIN:VEVENT
DTSTART;TZID=UTC:20240213T183000
DTEND;TZID=UTC:20240213T203000
DTSTAMP:20260421T095839
CREATED:20231231T094748Z
LAST-MODIFIED:20240409T213104Z
UID:10001591-1707849000-1707856200@westsidesportsmens.com
SUMMARY:Facility Planning Committee Meeting
DESCRIPTION:
URL:https://westsidesportsmens.com/calendar/facility-planning-committee-meeting/2024-02-13/
LOCATION:Club House
CATEGORIES:Facility Planning
END:VEVENT
BEGIN:VEVENT
DTSTART;TZID=UTC:20240109T183000
DTEND;TZID=UTC:20240109T203000
DTSTAMP:20260421T095839
CREATED:20231231T094748Z
LAST-MODIFIED:20240409T213104Z
UID:10001590-1704825000-1704832200@westsidesportsmens.com
SUMMARY:Facility Planning Committee Meeting
DESCRIPTION:
URL:https://westsidesportsmens.com/calendar/facility-planning-committee-meeting/2024-01-09/
LOCATION:Club House
CATEGORIES:Facility Planning
END:VEVENT
END:VCALENDAR