BEGIN:VCALENDAR
VERSION:2.0
PRODID:-//West Side Sportsmans Club - ECPv6.15.15//NONSGML v1.0//EN
CALSCALE:GREGORIAN
METHOD:PUBLISH
X-ORIGINAL-URL:https://westsidesportsmens.com
X-WR-CALDESC:Events for West Side Sportsmans Club
REFRESH-INTERVAL;VALUE=DURATION:PT1H
X-Robots-Tag:noindex
X-PUBLISHED-TTL:PT1H
BEGIN:VTIMEZONE
TZID:UTC
BEGIN:STANDARD
TZOFFSETFROM:+0000
TZOFFSETTO:+0000
TZNAME:UTC
DTSTART:20220101T000000
END:STANDARD
END:VTIMEZONE
BEGIN:VEVENT
DTSTART;TZID=UTC:20230720T183000
DTEND;TZID=UTC:20230720T200000
DTSTAMP:20260421T183924
CREATED:20230222T084632Z
LAST-MODIFIED:20230222T084632Z
UID:10000686-1689877800-1689883200@westsidesportsmens.com
SUMMARY:Technology Committee Meeting
DESCRIPTION:
URL:https://westsidesportsmens.com/calendar/technology-committee-meeting-2/2023-07-20/
LOCATION:Club Office
CATEGORIES:Technology Committee Meeting
ORGANIZER;CN="Brandon Greene":MAILTO:web@westsidesportsmans.com
END:VEVENT
BEGIN:VEVENT
DTSTART;TZID=UTC:20230615T183000
DTEND;TZID=UTC:20230615T200000
DTSTAMP:20260421T183924
CREATED:20230222T084632Z
LAST-MODIFIED:20230222T084632Z
UID:10000685-1686853800-1686859200@westsidesportsmens.com
SUMMARY:Technology Committee Meeting
DESCRIPTION:
URL:https://westsidesportsmens.com/calendar/technology-committee-meeting-2/2023-06-15/
LOCATION:Club Office
CATEGORIES:Technology Committee Meeting
ORGANIZER;CN="Brandon Greene":MAILTO:web@westsidesportsmans.com
END:VEVENT
BEGIN:VEVENT
DTSTART;TZID=UTC:20230518T183000
DTEND;TZID=UTC:20230518T200000
DTSTAMP:20260421T183924
CREATED:20230222T084632Z
LAST-MODIFIED:20230222T084632Z
UID:10000684-1684434600-1684440000@westsidesportsmens.com
SUMMARY:Technology Committee Meeting
DESCRIPTION:
URL:https://westsidesportsmens.com/calendar/technology-committee-meeting-2/2023-05-18/
LOCATION:Club Office
CATEGORIES:Technology Committee Meeting
ORGANIZER;CN="Brandon Greene":MAILTO:web@westsidesportsmans.com
END:VEVENT
BEGIN:VEVENT
DTSTART;TZID=UTC:20230420T183000
DTEND;TZID=UTC:20230420T200000
DTSTAMP:20260421T183924
CREATED:20230222T084632Z
LAST-MODIFIED:20230222T084632Z
UID:10000683-1682015400-1682020800@westsidesportsmens.com
SUMMARY:Technology Committee Meeting
DESCRIPTION:
URL:https://westsidesportsmens.com/calendar/technology-committee-meeting-2/2023-04-20/
LOCATION:Club Office
CATEGORIES:Technology Committee Meeting
ORGANIZER;CN="Brandon Greene":MAILTO:web@westsidesportsmans.com
END:VEVENT
BEGIN:VEVENT
DTSTART;TZID=UTC:20230316T183000
DTEND;TZID=UTC:20230316T200000
DTSTAMP:20260421T183924
CREATED:20230222T084632Z
LAST-MODIFIED:20230222T084632Z
UID:10000682-1678991400-1678996800@westsidesportsmens.com
SUMMARY:Technology Committee Meeting
DESCRIPTION:
URL:https://westsidesportsmens.com/calendar/technology-committee-meeting-2/2023-03-16/
LOCATION:Club Office
CATEGORIES:Technology Committee Meeting
ORGANIZER;CN="Brandon Greene":MAILTO:web@westsidesportsmans.com
END:VEVENT
END:VCALENDAR