BEGIN:VCALENDAR
VERSION:2.0
PRODID:-//West Side Sportsmans Club - ECPv6.15.15//NONSGML v1.0//EN
CALSCALE:GREGORIAN
METHOD:PUBLISH
X-ORIGINAL-URL:https://westsidesportsmens.com
X-WR-CALDESC:Events for West Side Sportsmans Club
REFRESH-INTERVAL;VALUE=DURATION:PT1H
X-Robots-Tag:noindex
X-PUBLISHED-TTL:PT1H
BEGIN:VTIMEZONE
TZID:UTC
BEGIN:STANDARD
TZOFFSETFROM:+0000
TZOFFSETTO:+0000
TZNAME:UTC
DTSTART:20250101T000000
END:STANDARD
END:VTIMEZONE
BEGIN:VTIMEZONE
TZID:America/Chicago
BEGIN:DAYLIGHT
TZOFFSETFROM:-0600
TZOFFSETTO:-0500
TZNAME:CDT
DTSTART:20250309T080000
END:DAYLIGHT
BEGIN:STANDARD
TZOFFSETFROM:-0500
TZOFFSETTO:-0600
TZNAME:CST
DTSTART:20251102T070000
END:STANDARD
BEGIN:DAYLIGHT
TZOFFSETFROM:-0600
TZOFFSETTO:-0500
TZNAME:CDT
DTSTART:20260308T080000
END:DAYLIGHT
BEGIN:STANDARD
TZOFFSETFROM:-0500
TZOFFSETTO:-0600
TZNAME:CST
DTSTART:20261101T070000
END:STANDARD
BEGIN:DAYLIGHT
TZOFFSETFROM:-0600
TZOFFSETTO:-0500
TZNAME:CDT
DTSTART:20270314T080000
END:DAYLIGHT
BEGIN:STANDARD
TZOFFSETFROM:-0500
TZOFFSETTO:-0600
TZNAME:CST
DTSTART:20271107T070000
END:STANDARD
END:VTIMEZONE
BEGIN:VEVENT
DTSTART;TZID=UTC:20260101T180000
DTEND;TZID=UTC:20260101T200000
DTSTAMP:20260421T212335
CREATED:20231231T094347Z
LAST-MODIFIED:20231231T095142Z
UID:10000920-1767290400-1767297600@westsidesportsmens.com
SUMMARY:Membership Committee Meeting
DESCRIPTION:
URL:https://westsidesportsmens.com/calendar/membership-committee-meeting-2/2026-01-01/
LOCATION:Club Office
CATEGORIES:Membership
END:VEVENT
BEGIN:VEVENT
DTSTART;TZID=UTC:20260105T180000
DTEND;TZID=UTC:20260105T200000
DTSTAMP:20260421T212335
CREATED:20231231T092753Z
LAST-MODIFIED:20231231T093808Z
UID:10000739-1767636000-1767643200@westsidesportsmens.com
SUMMARY:IDPA Meeting
DESCRIPTION:
URL:https://westsidesportsmens.com/calendar/idpa-meeting-2/2026-01-05/
LOCATION:Club House
CATEGORIES:Practical Action Shooting
END:VEVENT
BEGIN:VEVENT
DTSTART;TZID=UTC:20260105T190000
DTEND;TZID=UTC:20260105T210000
DTSTAMP:20260421T212335
CREATED:20231231T093611Z
LAST-MODIFIED:20231231T094546Z
UID:10000799-1767639600-1767646800@westsidesportsmens.com
SUMMARY:Cowboy Committee Meeting
DESCRIPTION:
URL:https://westsidesportsmens.com/calendar/cowboy-committee-meeting-3/2026-01-05/
LOCATION:Cookhouse\, 1000 Peerless Rd\, Evansville\, IN\, 47712\, United States
CATEGORIES:Cowboy
END:VEVENT
BEGIN:VEVENT
DTSTART;TZID=America/Chicago:20260107T190000
DTEND;TZID=America/Chicago:20260107T203000
DTSTAMP:20260421T212335
CREATED:20250306T000144Z
LAST-MODIFIED:20250719T215717Z
UID:10001629-1767812400-1767817800@westsidesportsmens.com
SUMMARY:General Member Meeting
DESCRIPTION:
URL:https://westsidesportsmens.com/calendar/general-member-meeting/2026-01-07/
LOCATION:Club House
CATEGORIES:General Event
END:VEVENT
BEGIN:VEVENT
DTSTART;TZID=UTC:20260108T183000
DTEND;TZID=UTC:20260108T200000
DTSTAMP:20260421T212335
CREATED:20231231T095910Z
LAST-MODIFIED:20231231T100235Z
UID:10001086-1767897000-1767902400@westsidesportsmens.com
SUMMARY:Leadership Meeting
DESCRIPTION:
URL:https://westsidesportsmens.com/calendar/leadership-meeting-7/2026-01-08/
LOCATION:Club Office
CATEGORIES:General Event
END:VEVENT
BEGIN:VEVENT
DTSTART;TZID=UTC:20260110T080000
DTEND;TZID=UTC:20260110T170000
DTSTAMP:20260421T212335
CREATED:20231231T100506Z
LAST-MODIFIED:20231231T100553Z
UID:10001128-1768032000-1768064400@westsidesportsmens.com
SUMMARY:Club Work Day
DESCRIPTION:
URL:https://westsidesportsmens.com/calendar/club-work-day-2/2026-01-10/
LOCATION:Club Wide Event
CATEGORIES:General Event
END:VEVENT
BEGIN:VEVENT
DTSTART;TZID=UTC:20260114T183000
DTEND;TZID=UTC:20260114T200000
DTSTAMP:20260421T212335
CREATED:20231231T094914Z
LAST-MODIFIED:20231231T095034Z
UID:10000861-1768415400-1768420800@westsidesportsmens.com
SUMMARY:Rifle Range Committee Meeting
DESCRIPTION:
URL:https://westsidesportsmens.com/calendar/rifle-range-committee-meeting-12/2026-01-14/
LOCATION:Club House
CATEGORIES:Rifle Range
END:VEVENT
BEGIN:VEVENT
DTSTART;TZID=UTC:20260117T080000
DTEND;TZID=UTC:20260117T140000
DTSTAMP:20260421T212335
CREATED:20250306T001902Z
LAST-MODIFIED:20250719T215717Z
UID:10001713-1768636800-1768658400@westsidesportsmens.com
SUMMARY:IDPA Shoot
DESCRIPTION:
URL:https://westsidesportsmens.com/calendar/idpa-shoot-2/2026-01-17/
LOCATION:Event Bays
CATEGORIES:Practical Action Shooting
END:VEVENT
BEGIN:VEVENT
DTSTART;TZID=UTC:20260120T183000
DTEND;TZID=UTC:20260120T200000
DTSTAMP:20260421T212335
CREATED:20231231T100907Z
LAST-MODIFIED:20231231T100931Z
UID:10001188-1768933800-1768939200@westsidesportsmens.com
SUMMARY:Rules & Regulations Committee Meeting
DESCRIPTION:
URL:https://westsidesportsmens.com/calendar/rules-regulations-committee-meeting/2026-01-20/
LOCATION:Club House
CATEGORIES:General Event
END:VEVENT
BEGIN:VEVENT
DTSTART;TZID=UTC:20260121T080000
DTEND;TZID=UTC:20260121T110000
DTSTAMP:20260421T212335
CREATED:20231231T112319Z
LAST-MODIFIED:20231231T112413Z
UID:10001473-1768982400-1768993200@westsidesportsmens.com
SUMMARY:Cowboy Shoot Setup
DESCRIPTION:
URL:https://westsidesportsmens.com/calendar/cowboy-shoot-setup/2026-01-21/
LOCATION:Cowboy Town\, 1000 Peerless Rd\, Evansville\, IN\, 47712\, United States
CATEGORIES:Cowboy
END:VEVENT
BEGIN:VEVENT
DTSTART;TZID=UTC:20260121T183000
DTEND;TZID=UTC:20260121T203000
DTSTAMP:20260421T212335
CREATED:20231231T101107Z
LAST-MODIFIED:20231231T101123Z
UID:10001248-1769020200-1769027400@westsidesportsmens.com
SUMMARY:Board of Directors Meeting
DESCRIPTION:
URL:https://westsidesportsmens.com/calendar/board-of-directors-meeting-2/2026-01-21/
LOCATION:Club Office
CATEGORIES:General Event
END:VEVENT
BEGIN:VEVENT
DTSTART;TZID=America/Chicago:20260124T090000
DTEND;TZID=America/Chicago:20260124T160000
DTSTAMP:20260421T212335
CREATED:20250306T011126Z
LAST-MODIFIED:20250719T215715Z
UID:10001774-1769245200-1769270400@westsidesportsmens.com
SUMMARY:Cowboy SASS Match
DESCRIPTION:
URL:https://westsidesportsmens.com/calendar/cowboy-sass-match-2/2026-01-24/
LOCATION:Cookhouse\, 1000 Peerless Rd\, Evansville\, IN\, 47712\, United States
CATEGORIES:Cowboy
END:VEVENT
BEGIN:VEVENT
DTSTART;TZID=America/Chicago:20260128T080000
DTEND;TZID=America/Chicago:20260128T120000
DTSTAMP:20260421T212335
CREATED:20250306T011312Z
LAST-MODIFIED:20250719T215716Z
UID:10001833-1769587200-1769601600@westsidesportsmens.com
SUMMARY:Cowboy Match Setup
DESCRIPTION:
URL:https://westsidesportsmens.com/calendar/cowboy-match-setup-3/2026-01-28/
LOCATION:Cowboy Town\, 1000 Peerless Rd\, Evansville\, IN\, 47712\, United States
CATEGORIES:Cowboy
END:VEVENT
END:VCALENDAR