BEGIN:VCALENDAR
VERSION:2.0
PRODID:-//West Side Sportsmans Club - ECPv6.15.15//NONSGML v1.0//EN
CALSCALE:GREGORIAN
METHOD:PUBLISH
X-WR-CALNAME:West Side Sportsmans Club
X-ORIGINAL-URL:https://westsidesportsmens.com
X-WR-CALDESC:Events for West Side Sportsmans Club
REFRESH-INTERVAL;VALUE=DURATION:PT1H
X-Robots-Tag:noindex
X-PUBLISHED-TTL:PT1H
BEGIN:VTIMEZONE
TZID:UTC
BEGIN:STANDARD
TZOFFSETFROM:+0000
TZOFFSETTO:+0000
TZNAME:UTC
DTSTART:20240101T000000
END:STANDARD
END:VTIMEZONE
BEGIN:VTIMEZONE
TZID:America/Chicago
BEGIN:DAYLIGHT
TZOFFSETFROM:-0600
TZOFFSETTO:-0500
TZNAME:CDT
DTSTART:20240310T080000
END:DAYLIGHT
BEGIN:STANDARD
TZOFFSETFROM:-0500
TZOFFSETTO:-0600
TZNAME:CST
DTSTART:20241103T070000
END:STANDARD
BEGIN:DAYLIGHT
TZOFFSETFROM:-0600
TZOFFSETTO:-0500
TZNAME:CDT
DTSTART:20250309T080000
END:DAYLIGHT
BEGIN:STANDARD
TZOFFSETFROM:-0500
TZOFFSETTO:-0600
TZNAME:CST
DTSTART:20251102T070000
END:STANDARD
BEGIN:DAYLIGHT
TZOFFSETFROM:-0600
TZOFFSETTO:-0500
TZNAME:CDT
DTSTART:20260308T080000
END:DAYLIGHT
BEGIN:STANDARD
TZOFFSETFROM:-0500
TZOFFSETTO:-0600
TZNAME:CST
DTSTART:20261101T070000
END:STANDARD
END:VTIMEZONE
BEGIN:VEVENT
DTSTART;TZID=UTC:20250911T183000
DTEND;TZID=UTC:20250911T200000
DTSTAMP:20260420T071758
CREATED:20231231T095910Z
LAST-MODIFIED:20231231T100235Z
UID:10001084-1757615400-1757620800@westsidesportsmens.com
SUMMARY:Leadership Meeting
DESCRIPTION:
URL:https://westsidesportsmens.com/calendar/leadership-meeting-7/2025-09-11/
LOCATION:Club Office
CATEGORIES:General Event
END:VEVENT
BEGIN:VEVENT
DTSTART;TZID=UTC:20250910T183000
DTEND;TZID=UTC:20250910T200000
DTSTAMP:20260420T071758
CREATED:20231231T094914Z
LAST-MODIFIED:20231231T095034Z
UID:10000857-1757529000-1757534400@westsidesportsmens.com
SUMMARY:Rifle Range Committee Meeting
DESCRIPTION:
URL:https://westsidesportsmens.com/calendar/rifle-range-committee-meeting-12/2025-09-10/
LOCATION:Club House
CATEGORIES:Rifle Range
END:VEVENT
BEGIN:VEVENT
DTSTART;TZID=America/Chicago:20250907T120000
DTEND;TZID=America/Chicago:20250907T170000
DTSTAMP:20260420T071758
CREATED:20250306T000734Z
LAST-MODIFIED:20250719T215715Z
UID:10001687-1757246400-1757264400@westsidesportsmens.com
SUMMARY:Spot Shoot Round Robin
DESCRIPTION:WSSC Spring-Fall Spot Shoot Flyer 2025 (1)
URL:https://westsidesportsmens.com/calendar/spot-shoot-round-robin-2/2025-09-07/
LOCATION:Spot Range
CATEGORIES:Spot Shoot
ORGANIZER;CN="Kraig Hausmann":MAILTO:kraighausmann@gmail.com
END:VEVENT
BEGIN:VEVENT
DTSTART;TZID=UTC:20250904T180000
DTEND;TZID=UTC:20250904T200000
DTSTAMP:20260420T071758
CREATED:20231231T094347Z
LAST-MODIFIED:20231231T095142Z
UID:10000916-1757008800-1757016000@westsidesportsmens.com
SUMMARY:Membership Committee Meeting
DESCRIPTION:
URL:https://westsidesportsmens.com/calendar/membership-committee-meeting-2/2025-09-04/
LOCATION:Club Office
CATEGORIES:Membership
END:VEVENT
BEGIN:VEVENT
DTSTART;TZID=America/Chicago:20250903T190000
DTEND;TZID=America/Chicago:20250903T203000
DTSTAMP:20260420T071758
CREATED:20250306T000144Z
LAST-MODIFIED:20250719T215717Z
UID:10001625-1756926000-1756931400@westsidesportsmens.com
SUMMARY:General Member Meeting
DESCRIPTION:
URL:https://westsidesportsmens.com/calendar/general-member-meeting/2025-09-03/
LOCATION:Club House
CATEGORIES:General Event
END:VEVENT
BEGIN:VEVENT
DTSTART;TZID=UTC:20250901T190000
DTEND;TZID=UTC:20250901T210000
DTSTAMP:20260420T071758
CREATED:20231231T093611Z
LAST-MODIFIED:20231231T094546Z
UID:10000795-1756753200-1756760400@westsidesportsmens.com
SUMMARY:Cowboy Committee Meeting
DESCRIPTION:
URL:https://westsidesportsmens.com/calendar/cowboy-committee-meeting-3/2025-09-01/
LOCATION:Cookhouse\, 1000 Peerless Rd\, Evansville\, IN\, 47712\, United States
CATEGORIES:Cowboy
END:VEVENT
BEGIN:VEVENT
DTSTART;TZID=UTC:20250901T180000
DTEND;TZID=UTC:20250901T200000
DTSTAMP:20260420T071758
CREATED:20231231T092753Z
LAST-MODIFIED:20231231T093808Z
UID:10000735-1756749600-1756756800@westsidesportsmens.com
SUMMARY:IDPA Meeting
DESCRIPTION:
URL:https://westsidesportsmens.com/calendar/idpa-meeting-2/2025-09-01/
LOCATION:Club House
CATEGORIES:Practical Action Shooting
END:VEVENT
BEGIN:VEVENT
DTSTART;TZID=America/Chicago:20250827T080000
DTEND;TZID=America/Chicago:20250827T120000
DTSTAMP:20260420T071758
CREATED:20250306T011312Z
LAST-MODIFIED:20250719T215716Z
UID:10001828-1756281600-1756296000@westsidesportsmens.com
SUMMARY:Cowboy Match Setup
DESCRIPTION:
URL:https://westsidesportsmens.com/calendar/cowboy-match-setup-3/2025-08-27/
LOCATION:Cowboy Town\, 1000 Peerless Rd\, Evansville\, IN\, 47712\, United States
CATEGORIES:Cowboy
END:VEVENT
BEGIN:VEVENT
DTSTART;TZID=America/Chicago:20250823T090000
DTEND;TZID=America/Chicago:20250823T160000
DTSTAMP:20260420T071758
CREATED:20250306T011126Z
LAST-MODIFIED:20250719T215715Z
UID:10001769-1755939600-1755964800@westsidesportsmens.com
SUMMARY:Cowboy SASS Match
DESCRIPTION:
URL:https://westsidesportsmens.com/calendar/cowboy-sass-match-2/2025-08-23/
LOCATION:Cookhouse\, 1000 Peerless Rd\, Evansville\, IN\, 47712\, United States
CATEGORIES:Cowboy
END:VEVENT
BEGIN:VEVENT
DTSTART;TZID=UTC:20250820T183000
DTEND;TZID=UTC:20250820T203000
DTSTAMP:20260420T071758
CREATED:20231231T101107Z
LAST-MODIFIED:20231231T101123Z
UID:10001243-1755714600-1755721800@westsidesportsmens.com
SUMMARY:Board of Directors Meeting
DESCRIPTION:
URL:https://westsidesportsmens.com/calendar/board-of-directors-meeting-2/2025-08-20/
LOCATION:Club Office
CATEGORIES:General Event
END:VEVENT
BEGIN:VEVENT
DTSTART;TZID=UTC:20250820T080000
DTEND;TZID=UTC:20250820T110000
DTSTAMP:20260420T071758
CREATED:20231231T112319Z
LAST-MODIFIED:20231231T112413Z
UID:10001468-1755676800-1755687600@westsidesportsmens.com
SUMMARY:Cowboy Shoot Setup
DESCRIPTION:
URL:https://westsidesportsmens.com/calendar/cowboy-shoot-setup/2025-08-20/
LOCATION:Cowboy Town\, 1000 Peerless Rd\, Evansville\, IN\, 47712\, United States
CATEGORIES:Cowboy
END:VEVENT
BEGIN:VEVENT
DTSTART;TZID=UTC:20250819T183000
DTEND;TZID=UTC:20250819T200000
DTSTAMP:20260420T071758
CREATED:20231231T100907Z
LAST-MODIFIED:20231231T100931Z
UID:10001183-1755628200-1755633600@westsidesportsmens.com
SUMMARY:Rules & Regulations Committee Meeting
DESCRIPTION:
URL:https://westsidesportsmens.com/calendar/rules-regulations-committee-meeting/2025-08-19/
LOCATION:Club House
CATEGORIES:General Event
END:VEVENT
BEGIN:VEVENT
DTSTART;TZID=UTC:20250816T080000
DTEND;TZID=UTC:20250816T140000
DTSTAMP:20260420T071758
CREATED:20250306T001902Z
LAST-MODIFIED:20250719T215717Z
UID:10001708-1755331200-1755352800@westsidesportsmens.com
SUMMARY:IDPA Shoot
DESCRIPTION:
URL:https://westsidesportsmens.com/calendar/idpa-shoot-2/2025-08-16/
LOCATION:Event Bays
CATEGORIES:Practical Action Shooting
END:VEVENT
BEGIN:VEVENT
DTSTART;TZID=UTC:20250813T183000
DTEND;TZID=UTC:20250813T200000
DTSTAMP:20260420T071758
CREATED:20231231T094914Z
LAST-MODIFIED:20231231T095034Z
UID:10000856-1755109800-1755115200@westsidesportsmens.com
SUMMARY:Rifle Range Committee Meeting
DESCRIPTION:
URL:https://westsidesportsmens.com/calendar/rifle-range-committee-meeting-12/2025-08-13/
LOCATION:Club House
CATEGORIES:Rifle Range
END:VEVENT
BEGIN:VEVENT
DTSTART;TZID=UTC:20250809T080000
DTEND;TZID=UTC:20250809T170000
DTSTAMP:20260420T071758
CREATED:20231231T100506Z
LAST-MODIFIED:20231231T100553Z
UID:10001123-1754726400-1754758800@westsidesportsmens.com
SUMMARY:Club Work Day
DESCRIPTION:
URL:https://westsidesportsmens.com/calendar/club-work-day-2/2025-08-09/
LOCATION:Club Wide Event
CATEGORIES:General Event
END:VEVENT
BEGIN:VEVENT
DTSTART;TZID=UTC:20250807T180000
DTEND;TZID=UTC:20250807T200000
DTSTAMP:20260420T071758
CREATED:20231231T094347Z
LAST-MODIFIED:20231231T095142Z
UID:10000915-1754589600-1754596800@westsidesportsmens.com
SUMMARY:Membership Committee Meeting
DESCRIPTION:
URL:https://westsidesportsmens.com/calendar/membership-committee-meeting-2/2025-08-07/
LOCATION:Club Office
CATEGORIES:Membership
END:VEVENT
BEGIN:VEVENT
DTSTART;TZID=America/Chicago:20250806T190000
DTEND;TZID=America/Chicago:20250806T203000
DTSTAMP:20260420T071758
CREATED:20250306T000144Z
LAST-MODIFIED:20250719T215717Z
UID:10001624-1754506800-1754512200@westsidesportsmens.com
SUMMARY:General Member Meeting
DESCRIPTION:
URL:https://westsidesportsmens.com/calendar/general-member-meeting/2025-08-06/
LOCATION:Club House
CATEGORIES:General Event
END:VEVENT
BEGIN:VEVENT
DTSTART;TZID=UTC:20250804T190000
DTEND;TZID=UTC:20250804T210000
DTSTAMP:20260420T071758
CREATED:20231231T093611Z
LAST-MODIFIED:20231231T094546Z
UID:10000794-1754334000-1754341200@westsidesportsmens.com
SUMMARY:Cowboy Committee Meeting
DESCRIPTION:
URL:https://westsidesportsmens.com/calendar/cowboy-committee-meeting-3/2025-08-04/
LOCATION:Cookhouse\, 1000 Peerless Rd\, Evansville\, IN\, 47712\, United States
CATEGORIES:Cowboy
END:VEVENT
BEGIN:VEVENT
DTSTART;TZID=UTC:20250804T180000
DTEND;TZID=UTC:20250804T200000
DTSTAMP:20260420T071758
CREATED:20231231T092753Z
LAST-MODIFIED:20231231T093808Z
UID:10000734-1754330400-1754337600@westsidesportsmens.com
SUMMARY:IDPA Meeting
DESCRIPTION:
URL:https://westsidesportsmens.com/calendar/idpa-meeting-2/2025-08-04/
LOCATION:Club House
CATEGORIES:Practical Action Shooting
END:VEVENT
BEGIN:VEVENT
DTSTART;TZID=America/Chicago:20250803T120000
DTEND;TZID=America/Chicago:20250803T170000
DTSTAMP:20260420T071758
CREATED:20250306T000734Z
LAST-MODIFIED:20250719T215715Z
UID:10001686-1754222400-1754240400@westsidesportsmens.com
SUMMARY:Spot Shoot Round Robin
DESCRIPTION:WSSC Spring-Fall Spot Shoot Flyer 2025 (1)
URL:https://westsidesportsmens.com/calendar/spot-shoot-round-robin-2/2025-08-03/
LOCATION:Spot Range
CATEGORIES:Spot Shoot
ORGANIZER;CN="Kraig Hausmann":MAILTO:kraighausmann@gmail.com
END:VEVENT
BEGIN:VEVENT
DTSTART;TZID=America/Chicago:20250726T090000
DTEND;TZID=America/Chicago:20250726T160000
DTSTAMP:20260420T071758
CREATED:20250306T011126Z
LAST-MODIFIED:20250719T215715Z
UID:10001768-1753520400-1753545600@westsidesportsmens.com
SUMMARY:Cowboy SASS Match
DESCRIPTION:
URL:https://westsidesportsmens.com/calendar/cowboy-sass-match-2/2025-07-26/
LOCATION:Cookhouse\, 1000 Peerless Rd\, Evansville\, IN\, 47712\, United States
CATEGORIES:Cowboy
END:VEVENT
BEGIN:VEVENT
DTSTART;TZID=America/Chicago:20250723T080000
DTEND;TZID=America/Chicago:20250723T120000
DTSTAMP:20260420T071758
CREATED:20250306T011312Z
LAST-MODIFIED:20250719T215716Z
UID:10001827-1753257600-1753272000@westsidesportsmens.com
SUMMARY:Cowboy Match Setup
DESCRIPTION:
URL:https://westsidesportsmens.com/calendar/cowboy-match-setup-3/2025-07-23/
LOCATION:Cowboy Town\, 1000 Peerless Rd\, Evansville\, IN\, 47712\, United States
CATEGORIES:Cowboy
END:VEVENT
BEGIN:VEVENT
DTSTART;TZID=UTC:20250719T080000
DTEND;TZID=UTC:20250719T140000
DTSTAMP:20260420T071758
CREATED:20250306T001902Z
LAST-MODIFIED:20250719T215717Z
UID:10001707-1752912000-1752933600@westsidesportsmens.com
SUMMARY:IDPA Shoot
DESCRIPTION:
URL:https://westsidesportsmens.com/calendar/idpa-shoot-2/2025-07-19/
LOCATION:Event Bays
CATEGORIES:Practical Action Shooting
END:VEVENT
BEGIN:VEVENT
DTSTART;VALUE=DATE:20250719
DTEND;VALUE=DATE:20250720
DTSTAMP:20260420T071758
CREATED:20250306T013930Z
LAST-MODIFIED:20250719T215714Z
UID:10001886-1752883200-1752969599@westsidesportsmens.com
SUMMARY:NRA Youth Day
DESCRIPTION:
URL:https://westsidesportsmens.com/calendar/nra-youth-day-4/
LOCATION:Club Wide Event
CATEGORIES:Special Events
END:VEVENT
BEGIN:VEVENT
DTSTART;VALUE=DATE:20250718
DTEND;VALUE=DATE:20250719
DTSTAMP:20260420T071758
CREATED:20250306T014023Z
LAST-MODIFIED:20250719T215715Z
UID:10001887-1752796800-1752883199@westsidesportsmens.com
SUMMARY:NRA Youth Day Setup
DESCRIPTION:All Ranges Closed
URL:https://westsidesportsmens.com/calendar/nra-youth-day-setup/
LOCATION:IN
CATEGORIES:Special Events
END:VEVENT
BEGIN:VEVENT
DTSTART;TZID=UTC:20250716T183000
DTEND;TZID=UTC:20250716T203000
DTSTAMP:20260420T071758
CREATED:20231231T101107Z
LAST-MODIFIED:20231231T101123Z
UID:10001242-1752690600-1752697800@westsidesportsmens.com
SUMMARY:Board of Directors Meeting
DESCRIPTION:
URL:https://westsidesportsmens.com/calendar/board-of-directors-meeting-2/2025-07-16/
LOCATION:Club Office
CATEGORIES:General Event
END:VEVENT
BEGIN:VEVENT
DTSTART;TZID=UTC:20250716T080000
DTEND;TZID=UTC:20250716T110000
DTSTAMP:20260420T071758
CREATED:20231231T112319Z
LAST-MODIFIED:20231231T112413Z
UID:10001467-1752652800-1752663600@westsidesportsmens.com
SUMMARY:Cowboy Shoot Setup
DESCRIPTION:
URL:https://westsidesportsmens.com/calendar/cowboy-shoot-setup/2025-07-16/
LOCATION:Cowboy Town\, 1000 Peerless Rd\, Evansville\, IN\, 47712\, United States
CATEGORIES:Cowboy
END:VEVENT
BEGIN:VEVENT
DTSTART;TZID=UTC:20250715T183000
DTEND;TZID=UTC:20250715T200000
DTSTAMP:20260420T071758
CREATED:20231231T100907Z
LAST-MODIFIED:20231231T100931Z
UID:10001182-1752604200-1752609600@westsidesportsmens.com
SUMMARY:Rules & Regulations Committee Meeting
DESCRIPTION:
URL:https://westsidesportsmens.com/calendar/rules-regulations-committee-meeting/2025-07-15/
LOCATION:Club House
CATEGORIES:General Event
END:VEVENT
BEGIN:VEVENT
DTSTART;TZID=UTC:20250712T080000
DTEND;TZID=UTC:20250712T170000
DTSTAMP:20260420T071758
CREATED:20231231T100506Z
LAST-MODIFIED:20231231T100553Z
UID:10001122-1752307200-1752339600@westsidesportsmens.com
SUMMARY:Club Work Day
DESCRIPTION:
URL:https://westsidesportsmens.com/calendar/club-work-day-2/2025-07-12/
LOCATION:Club Wide Event
CATEGORIES:General Event
END:VEVENT
BEGIN:VEVENT
DTSTART;TZID=UTC:20250710T183000
DTEND;TZID=UTC:20250710T200000
DTSTAMP:20260420T071758
CREATED:20231231T095910Z
LAST-MODIFIED:20231231T100235Z
UID:10001083-1752172200-1752177600@westsidesportsmens.com
SUMMARY:Leadership Meeting
DESCRIPTION:
URL:https://westsidesportsmens.com/calendar/leadership-meeting-7/2025-07-10/
LOCATION:Club Office
CATEGORIES:General Event
END:VEVENT
END:VCALENDAR