BEGIN:VCALENDAR
VERSION:2.0
PRODID:-//West Side Sportsmans Club - ECPv6.15.15//NONSGML v1.0//EN
CALSCALE:GREGORIAN
METHOD:PUBLISH
X-WR-CALNAME:West Side Sportsmans Club
X-ORIGINAL-URL:https://westsidesportsmens.com
X-WR-CALDESC:Events for West Side Sportsmans Club
REFRESH-INTERVAL;VALUE=DURATION:PT1H
X-Robots-Tag:noindex
X-PUBLISHED-TTL:PT1H
BEGIN:VTIMEZONE
TZID:UTC
BEGIN:STANDARD
TZOFFSETFROM:+0000
TZOFFSETTO:+0000
TZNAME:UTC
DTSTART:20240101T000000
END:STANDARD
END:VTIMEZONE
BEGIN:VTIMEZONE
TZID:America/Chicago
BEGIN:DAYLIGHT
TZOFFSETFROM:-0600
TZOFFSETTO:-0500
TZNAME:CDT
DTSTART:20240310T080000
END:DAYLIGHT
BEGIN:STANDARD
TZOFFSETFROM:-0500
TZOFFSETTO:-0600
TZNAME:CST
DTSTART:20241103T070000
END:STANDARD
BEGIN:DAYLIGHT
TZOFFSETFROM:-0600
TZOFFSETTO:-0500
TZNAME:CDT
DTSTART:20250309T080000
END:DAYLIGHT
BEGIN:STANDARD
TZOFFSETFROM:-0500
TZOFFSETTO:-0600
TZNAME:CST
DTSTART:20251102T070000
END:STANDARD
BEGIN:DAYLIGHT
TZOFFSETFROM:-0600
TZOFFSETTO:-0500
TZNAME:CDT
DTSTART:20260308T080000
END:DAYLIGHT
BEGIN:STANDARD
TZOFFSETFROM:-0500
TZOFFSETTO:-0600
TZNAME:CST
DTSTART:20261101T070000
END:STANDARD
END:VTIMEZONE
BEGIN:VEVENT
DTSTART;TZID=UTC:20251112T183000
DTEND;TZID=UTC:20251112T200000
DTSTAMP:20260420T014653
CREATED:20231231T094914Z
LAST-MODIFIED:20231231T095034Z
UID:10000859-1762972200-1762977600@westsidesportsmens.com
SUMMARY:Rifle Range Committee Meeting
DESCRIPTION:
URL:https://westsidesportsmens.com/calendar/rifle-range-committee-meeting-12/2025-11-12/
LOCATION:Club House
CATEGORIES:Rifle Range
END:VEVENT
BEGIN:VEVENT
DTSTART;TZID=America/Chicago:20251109T120000
DTEND;TZID=America/Chicago:20251109T170000
DTSTAMP:20260420T014653
CREATED:20250306T000954Z
LAST-MODIFIED:20250719T215714Z
UID:10001695-1762689600-1762707600@westsidesportsmens.com
SUMMARY:Fall Spot Shoot
DESCRIPTION:
URL:https://westsidesportsmens.com/calendar/fall-spot-shoot-3/2025-11-09/
LOCATION:Spot Range
CATEGORIES:Spot Shoot
ORGANIZER;CN="Kraig Hausmann":MAILTO:kraighausmann@gmail.com
END:VEVENT
BEGIN:VEVENT
DTSTART;TZID=UTC:20251108T080000
DTEND;TZID=UTC:20251108T170000
DTSTAMP:20260420T014653
CREATED:20231231T100506Z
LAST-MODIFIED:20231231T100553Z
UID:10001126-1762588800-1762621200@westsidesportsmens.com
SUMMARY:Club Work Day
DESCRIPTION:
URL:https://westsidesportsmens.com/calendar/club-work-day-2/2025-11-08/
LOCATION:Club Wide Event
CATEGORIES:General Event
END:VEVENT
BEGIN:VEVENT
DTSTART;TZID=UTC:20251106T180000
DTEND;TZID=UTC:20251106T200000
DTSTAMP:20260420T014653
CREATED:20231231T094347Z
LAST-MODIFIED:20231231T095142Z
UID:10000918-1762452000-1762459200@westsidesportsmens.com
SUMMARY:Membership Committee Meeting
DESCRIPTION:
URL:https://westsidesportsmens.com/calendar/membership-committee-meeting-2/2025-11-06/
LOCATION:Club Office
CATEGORIES:Membership
END:VEVENT
BEGIN:VEVENT
DTSTART;TZID=America/Chicago:20251105T190000
DTEND;TZID=America/Chicago:20251105T203000
DTSTAMP:20260420T014653
CREATED:20250306T000144Z
LAST-MODIFIED:20250719T215717Z
UID:10001627-1762369200-1762374600@westsidesportsmens.com
SUMMARY:General Member Meeting
DESCRIPTION:
URL:https://westsidesportsmens.com/calendar/general-member-meeting/2025-11-05/
LOCATION:Club House
CATEGORIES:General Event
END:VEVENT
BEGIN:VEVENT
DTSTART;TZID=UTC:20251103T190000
DTEND;TZID=UTC:20251103T210000
DTSTAMP:20260420T014653
CREATED:20231231T093611Z
LAST-MODIFIED:20231231T094546Z
UID:10000797-1762196400-1762203600@westsidesportsmens.com
SUMMARY:Cowboy Committee Meeting
DESCRIPTION:
URL:https://westsidesportsmens.com/calendar/cowboy-committee-meeting-3/2025-11-03/
LOCATION:Cookhouse\, 1000 Peerless Rd\, Evansville\, IN\, 47712\, United States
CATEGORIES:Cowboy
END:VEVENT
BEGIN:VEVENT
DTSTART;TZID=UTC:20251103T180000
DTEND;TZID=UTC:20251103T200000
DTSTAMP:20260420T014653
CREATED:20231231T092753Z
LAST-MODIFIED:20231231T093808Z
UID:10000737-1762192800-1762200000@westsidesportsmens.com
SUMMARY:IDPA Meeting
DESCRIPTION:
URL:https://westsidesportsmens.com/calendar/idpa-meeting-2/2025-11-03/
LOCATION:Club House
CATEGORIES:Practical Action Shooting
END:VEVENT
BEGIN:VEVENT
DTSTART;TZID=America/Chicago:20251102T120000
DTEND;TZID=America/Chicago:20251102T170000
DTSTAMP:20260420T014653
CREATED:20250306T000954Z
LAST-MODIFIED:20250719T215714Z
UID:10001694-1762084800-1762102800@westsidesportsmens.com
SUMMARY:Fall Spot Shoot
DESCRIPTION:
URL:https://westsidesportsmens.com/calendar/fall-spot-shoot-3/2025-11-02/
LOCATION:Spot Range
CATEGORIES:Spot Shoot
ORGANIZER;CN="Kraig Hausmann":MAILTO:kraighausmann@gmail.com
END:VEVENT
BEGIN:VEVENT
DTSTART;TZID=America/Chicago:20251026T120000
DTEND;TZID=America/Chicago:20251026T170000
DTSTAMP:20260420T014653
CREATED:20250306T000954Z
LAST-MODIFIED:20250719T215714Z
UID:10001693-1761480000-1761498000@westsidesportsmens.com
SUMMARY:Fall Spot Shoot
DESCRIPTION:
URL:https://westsidesportsmens.com/calendar/fall-spot-shoot-3/2025-10-26/
LOCATION:Spot Range
CATEGORIES:Spot Shoot
ORGANIZER;CN="Kraig Hausmann":MAILTO:kraighausmann@gmail.com
END:VEVENT
BEGIN:VEVENT
DTSTART;TZID=America/Chicago:20251025T090000
DTEND;TZID=America/Chicago:20251025T160000
DTSTAMP:20260420T014653
CREATED:20250306T011126Z
LAST-MODIFIED:20250719T215715Z
UID:10001771-1761382800-1761408000@westsidesportsmens.com
SUMMARY:Cowboy SASS Match
DESCRIPTION:
URL:https://westsidesportsmens.com/calendar/cowboy-sass-match-2/2025-10-25/
LOCATION:Cookhouse\, 1000 Peerless Rd\, Evansville\, IN\, 47712\, United States
CATEGORIES:Cowboy
END:VEVENT
BEGIN:VEVENT
DTSTART;TZID=America/Chicago:20251022T080000
DTEND;TZID=America/Chicago:20251022T120000
DTSTAMP:20260420T014653
CREATED:20250306T011312Z
LAST-MODIFIED:20250719T215716Z
UID:10001830-1761120000-1761134400@westsidesportsmens.com
SUMMARY:Cowboy Match Setup
DESCRIPTION:
URL:https://westsidesportsmens.com/calendar/cowboy-match-setup-3/2025-10-22/
LOCATION:Cowboy Town\, 1000 Peerless Rd\, Evansville\, IN\, 47712\, United States
CATEGORIES:Cowboy
END:VEVENT
BEGIN:VEVENT
DTSTART;TZID=UTC:20251021T183000
DTEND;TZID=UTC:20251021T200000
DTSTAMP:20260420T014653
CREATED:20231231T100907Z
LAST-MODIFIED:20231231T100931Z
UID:10001185-1761071400-1761076800@westsidesportsmens.com
SUMMARY:Rules & Regulations Committee Meeting
DESCRIPTION:
URL:https://westsidesportsmens.com/calendar/rules-regulations-committee-meeting/2025-10-21/
LOCATION:Club House
CATEGORIES:General Event
END:VEVENT
BEGIN:VEVENT
DTSTART;TZID=America/Chicago:20251019T120000
DTEND;TZID=America/Chicago:20251019T170000
DTSTAMP:20260420T014653
CREATED:20250306T000954Z
LAST-MODIFIED:20250719T215714Z
UID:10001692-1760875200-1760893200@westsidesportsmens.com
SUMMARY:Fall Spot Shoot
DESCRIPTION:
URL:https://westsidesportsmens.com/calendar/fall-spot-shoot-3/2025-10-19/
LOCATION:Spot Range
CATEGORIES:Spot Shoot
ORGANIZER;CN="Kraig Hausmann":MAILTO:kraighausmann@gmail.com
END:VEVENT
BEGIN:VEVENT
DTSTART;TZID=UTC:20251018T080000
DTEND;TZID=UTC:20251018T140000
DTSTAMP:20260420T014653
CREATED:20250306T001902Z
LAST-MODIFIED:20250719T215717Z
UID:10001710-1760774400-1760796000@westsidesportsmens.com
SUMMARY:IDPA Shoot
DESCRIPTION:
URL:https://westsidesportsmens.com/calendar/idpa-shoot-2/2025-10-18/
LOCATION:Event Bays
CATEGORIES:Practical Action Shooting
END:VEVENT
BEGIN:VEVENT
DTSTART;TZID=UTC:20251015T183000
DTEND;TZID=UTC:20251015T203000
DTSTAMP:20260420T014653
CREATED:20231231T101107Z
LAST-MODIFIED:20231231T101123Z
UID:10001245-1760553000-1760560200@westsidesportsmens.com
SUMMARY:Board of Directors Meeting
DESCRIPTION:
URL:https://westsidesportsmens.com/calendar/board-of-directors-meeting-2/2025-10-15/
LOCATION:Club Office
CATEGORIES:General Event
END:VEVENT
BEGIN:VEVENT
DTSTART;TZID=UTC:20251015T080000
DTEND;TZID=UTC:20251015T110000
DTSTAMP:20260420T014653
CREATED:20231231T112319Z
LAST-MODIFIED:20231231T112413Z
UID:10001470-1760515200-1760526000@westsidesportsmens.com
SUMMARY:Cowboy Shoot Setup
DESCRIPTION:
URL:https://westsidesportsmens.com/calendar/cowboy-shoot-setup/2025-10-15/
LOCATION:Cowboy Town\, 1000 Peerless Rd\, Evansville\, IN\, 47712\, United States
CATEGORIES:Cowboy
END:VEVENT
BEGIN:VEVENT
DTSTART;TZID=America/Chicago:20251012T120000
DTEND;TZID=America/Chicago:20251012T170000
DTSTAMP:20260420T014653
CREATED:20250306T000954Z
LAST-MODIFIED:20250719T215714Z
UID:10001691-1760270400-1760288400@westsidesportsmens.com
SUMMARY:Fall Spot Shoot
DESCRIPTION:
URL:https://westsidesportsmens.com/calendar/fall-spot-shoot-3/2025-10-12/
LOCATION:Spot Range
CATEGORIES:Spot Shoot
ORGANIZER;CN="Kraig Hausmann":MAILTO:kraighausmann@gmail.com
END:VEVENT
BEGIN:VEVENT
DTSTART;TZID=UTC:20251011T080000
DTEND;TZID=UTC:20251011T170000
DTSTAMP:20260420T014653
CREATED:20231231T100506Z
LAST-MODIFIED:20231231T100553Z
UID:10001125-1760169600-1760202000@westsidesportsmens.com
SUMMARY:Club Work Day
DESCRIPTION:
URL:https://westsidesportsmens.com/calendar/club-work-day-2/2025-10-11/
LOCATION:Club Wide Event
CATEGORIES:General Event
END:VEVENT
BEGIN:VEVENT
DTSTART;VALUE=DATE:20251011
DTEND;VALUE=DATE:20251012
DTSTAMP:20260420T014653
CREATED:20250306T013548Z
LAST-MODIFIED:20250719T215714Z
UID:10001885-1760140800-1760227199@westsidesportsmens.com
SUMMARY:Holiday Havoc
DESCRIPTION:All Event Bays Closed 10/4/25 \nRifle Range and Cowboy Town Closed 10/8/2025 \nStaff Day 10/10/25 \nMain Match 10/11/25 \nRange Reopen 10/12/25020
URL:https://westsidesportsmens.com/calendar/holiday-havoc-3/
LOCATION:Club Wide Event
CATEGORIES:Special Events
END:VEVENT
BEGIN:VEVENT
DTSTART;TZID=UTC:20251008T183000
DTEND;TZID=UTC:20251008T200000
DTSTAMP:20260420T014653
CREATED:20231231T094914Z
LAST-MODIFIED:20231231T095034Z
UID:10000858-1759948200-1759953600@westsidesportsmens.com
SUMMARY:Rifle Range Committee Meeting
DESCRIPTION:
URL:https://westsidesportsmens.com/calendar/rifle-range-committee-meeting-12/2025-10-08/
LOCATION:Club House
CATEGORIES:Rifle Range
END:VEVENT
BEGIN:VEVENT
DTSTART;TZID=UTC:20251006T190000
DTEND;TZID=UTC:20251006T210000
DTSTAMP:20260420T014654
CREATED:20231231T093611Z
LAST-MODIFIED:20231231T094546Z
UID:10000796-1759777200-1759784400@westsidesportsmens.com
SUMMARY:Cowboy Committee Meeting
DESCRIPTION:
URL:https://westsidesportsmens.com/calendar/cowboy-committee-meeting-3/2025-10-06/
LOCATION:Cookhouse\, 1000 Peerless Rd\, Evansville\, IN\, 47712\, United States
CATEGORIES:Cowboy
END:VEVENT
BEGIN:VEVENT
DTSTART;TZID=UTC:20251006T180000
DTEND;TZID=UTC:20251006T200000
DTSTAMP:20260420T014654
CREATED:20231231T092753Z
LAST-MODIFIED:20231231T093808Z
UID:10000736-1759773600-1759780800@westsidesportsmens.com
SUMMARY:IDPA Meeting
DESCRIPTION:
URL:https://westsidesportsmens.com/calendar/idpa-meeting-2/2025-10-06/
LOCATION:Club House
CATEGORIES:Practical Action Shooting
END:VEVENT
BEGIN:VEVENT
DTSTART;TZID=America/Chicago:20251005T120000
DTEND;TZID=America/Chicago:20251005T170000
DTSTAMP:20260420T014654
CREATED:20250306T000954Z
LAST-MODIFIED:20250719T215714Z
UID:10001690-1759665600-1759683600@westsidesportsmens.com
SUMMARY:Fall Spot Shoot
DESCRIPTION:
URL:https://westsidesportsmens.com/calendar/fall-spot-shoot-3/2025-10-05/
LOCATION:Spot Range
CATEGORIES:Spot Shoot
ORGANIZER;CN="Kraig Hausmann":MAILTO:kraighausmann@gmail.com
END:VEVENT
BEGIN:VEVENT
DTSTART;VALUE=DATE:20251004
DTEND;VALUE=DATE:20251013
DTSTAMP:20260420T014654
CREATED:20250306T013430Z
LAST-MODIFIED:20250719T215714Z
UID:10001884-1759536000-1760313599@westsidesportsmens.com
SUMMARY:Holiday Havoc Setup
DESCRIPTION:All Event Bays Closed 10/4/25 \nRifle Range and Cowboy Town Closed 10/8/2025 \nStaff Day 10/10/25 \nMain Match 10/11/25 \nRange Reopen 10/12/25020
URL:https://westsidesportsmens.com/calendar/holiday-havoc-setup/
LOCATION:Event Bays
CATEGORIES:Practical Action Shooting
END:VEVENT
BEGIN:VEVENT
DTSTART;TZID=UTC:20251002T180000
DTEND;TZID=UTC:20251002T200000
DTSTAMP:20260420T014654
CREATED:20231231T094347Z
LAST-MODIFIED:20231231T095142Z
UID:10000917-1759428000-1759435200@westsidesportsmens.com
SUMMARY:Membership Committee Meeting
DESCRIPTION:
URL:https://westsidesportsmens.com/calendar/membership-committee-meeting-2/2025-10-02/
LOCATION:Club Office
CATEGORIES:Membership
END:VEVENT
BEGIN:VEVENT
DTSTART;TZID=America/Chicago:20251001T190000
DTEND;TZID=America/Chicago:20251001T203000
DTSTAMP:20260420T014654
CREATED:20250306T000144Z
LAST-MODIFIED:20250719T215717Z
UID:10001626-1759345200-1759350600@westsidesportsmens.com
SUMMARY:General Member Meeting
DESCRIPTION:
URL:https://westsidesportsmens.com/calendar/general-member-meeting/2025-10-01/
LOCATION:Club House
CATEGORIES:General Event
END:VEVENT
BEGIN:VEVENT
DTSTART;TZID=America/Chicago:20250928T120000
DTEND;TZID=America/Chicago:20250928T170000
DTSTAMP:20260420T014654
CREATED:20250306T000954Z
LAST-MODIFIED:20250719T215714Z
UID:10001689-1759060800-1759078800@westsidesportsmens.com
SUMMARY:Fall Spot Shoot
DESCRIPTION:
URL:https://westsidesportsmens.com/calendar/fall-spot-shoot-3/2025-09-28/
LOCATION:Spot Range
CATEGORIES:Spot Shoot
ORGANIZER;CN="Kraig Hausmann":MAILTO:kraighausmann@gmail.com
END:VEVENT
BEGIN:VEVENT
DTSTART;TZID=America/Chicago:20250927T090000
DTEND;TZID=America/Chicago:20250927T160000
DTSTAMP:20260420T014654
CREATED:20250306T011126Z
LAST-MODIFIED:20250719T215715Z
UID:10001770-1758963600-1758988800@westsidesportsmens.com
SUMMARY:Cowboy SASS Match
DESCRIPTION:
URL:https://westsidesportsmens.com/calendar/cowboy-sass-match-2/2025-09-27/
LOCATION:Cookhouse\, 1000 Peerless Rd\, Evansville\, IN\, 47712\, United States
CATEGORIES:Cowboy
END:VEVENT
BEGIN:VEVENT
DTSTART;TZID=America/Chicago:20250924T080000
DTEND;TZID=America/Chicago:20250924T120000
DTSTAMP:20260420T014654
CREATED:20250306T011312Z
LAST-MODIFIED:20250719T215716Z
UID:10001829-1758700800-1758715200@westsidesportsmens.com
SUMMARY:Cowboy Match Setup
DESCRIPTION:
URL:https://westsidesportsmens.com/calendar/cowboy-match-setup-3/2025-09-24/
LOCATION:Cowboy Town\, 1000 Peerless Rd\, Evansville\, IN\, 47712\, United States
CATEGORIES:Cowboy
END:VEVENT
BEGIN:VEVENT
DTSTART;TZID=America/Chicago:20250921T120000
DTEND;TZID=America/Chicago:20250921T170000
DTSTAMP:20260420T014654
CREATED:20250306T000954Z
LAST-MODIFIED:20250719T215714Z
UID:10001688-1758456000-1758474000@westsidesportsmens.com
SUMMARY:Fall Spot Shoot
DESCRIPTION:
URL:https://westsidesportsmens.com/calendar/fall-spot-shoot-3/2025-09-21/
LOCATION:Spot Range
CATEGORIES:Spot Shoot
ORGANIZER;CN="Kraig Hausmann":MAILTO:kraighausmann@gmail.com
END:VEVENT
END:VCALENDAR