BEGIN:VCALENDAR
VERSION:2.0
PRODID:-//West Side Sportsmans Club - ECPv6.15.15//NONSGML v1.0//EN
CALSCALE:GREGORIAN
METHOD:PUBLISH
X-ORIGINAL-URL:https://westsidesportsmens.com
X-WR-CALDESC:Events for West Side Sportsmans Club
REFRESH-INTERVAL;VALUE=DURATION:PT1H
X-Robots-Tag:noindex
X-PUBLISHED-TTL:PT1H
BEGIN:VTIMEZONE
TZID:America/Chicago
BEGIN:DAYLIGHT
TZOFFSETFROM:-0600
TZOFFSETTO:-0500
TZNAME:CDT
DTSTART:20270314T080000
END:DAYLIGHT
BEGIN:STANDARD
TZOFFSETFROM:-0500
TZOFFSETTO:-0600
TZNAME:CST
DTSTART:20271107T070000
END:STANDARD
BEGIN:DAYLIGHT
TZOFFSETFROM:-0600
TZOFFSETTO:-0500
TZNAME:CDT
DTSTART:20280312T080000
END:DAYLIGHT
BEGIN:STANDARD
TZOFFSETFROM:-0500
TZOFFSETTO:-0600
TZNAME:CST
DTSTART:20281105T070000
END:STANDARD
BEGIN:DAYLIGHT
TZOFFSETFROM:-0600
TZOFFSETTO:-0500
TZNAME:CDT
DTSTART:20290311T080000
END:DAYLIGHT
BEGIN:STANDARD
TZOFFSETFROM:-0500
TZOFFSETTO:-0600
TZNAME:CST
DTSTART:20291104T070000
END:STANDARD
END:VTIMEZONE
BEGIN:VTIMEZONE
TZID:UTC
BEGIN:STANDARD
TZOFFSETFROM:+0000
TZOFFSETTO:+0000
TZNAME:UTC
DTSTART:20270101T000000
END:STANDARD
END:VTIMEZONE
BEGIN:VEVENT
DTSTART;TZID=America/Chicago:20280923T090000
DTEND;TZID=America/Chicago:20280923T160000
DTSTAMP:20260425T221430
CREATED:20250306T011126Z
LAST-MODIFIED:20250719T215715Z
UID:10001806-1853312400-1853337600@westsidesportsmens.com
SUMMARY:Cowboy SASS Match
DESCRIPTION:
URL:https://westsidesportsmens.com/calendar/cowboy-sass-match-2/2028-09-23/
LOCATION:Cookhouse\, 1000 Peerless Rd\, Evansville\, IN\, 47712\, United States
CATEGORIES:Cowboy
END:VEVENT
BEGIN:VEVENT
DTSTART;TZID=America/Chicago:20280927T080000
DTEND;TZID=America/Chicago:20280927T120000
DTSTAMP:20260425T221430
CREATED:20250306T011312Z
LAST-MODIFIED:20250719T215716Z
UID:10001865-1853654400-1853668800@westsidesportsmens.com
SUMMARY:Cowboy Match Setup
DESCRIPTION:
URL:https://westsidesportsmens.com/calendar/cowboy-match-setup-3/2028-09-27/
LOCATION:Cowboy Town\, 1000 Peerless Rd\, Evansville\, IN\, 47712\, United States
CATEGORIES:Cowboy
END:VEVENT
BEGIN:VEVENT
DTSTART;TZID=UTC:20281002T180000
DTEND;TZID=UTC:20281002T200000
DTSTAMP:20260425T221430
CREATED:20231231T092753Z
LAST-MODIFIED:20231231T093808Z
UID:10000772-1854122400-1854129600@westsidesportsmens.com
SUMMARY:IDPA Meeting
DESCRIPTION:
URL:https://westsidesportsmens.com/calendar/idpa-meeting-2/2028-10-02/
LOCATION:Club House
CATEGORIES:Practical Action Shooting
END:VEVENT
BEGIN:VEVENT
DTSTART;TZID=UTC:20281002T190000
DTEND;TZID=UTC:20281002T210000
DTSTAMP:20260425T221430
CREATED:20231231T093611Z
LAST-MODIFIED:20231231T094546Z
UID:10000832-1854126000-1854133200@westsidesportsmens.com
SUMMARY:Cowboy Committee Meeting
DESCRIPTION:
URL:https://westsidesportsmens.com/calendar/cowboy-committee-meeting-3/2028-10-02/
LOCATION:Cookhouse\, 1000 Peerless Rd\, Evansville\, IN\, 47712\, United States
CATEGORIES:Cowboy
END:VEVENT
BEGIN:VEVENT
DTSTART;TZID=America/Chicago:20281004T190000
DTEND;TZID=America/Chicago:20281004T203000
DTSTAMP:20260425T221430
CREATED:20250306T000144Z
LAST-MODIFIED:20250719T215717Z
UID:10001662-1854298800-1854304200@westsidesportsmens.com
SUMMARY:General Member Meeting
DESCRIPTION:
URL:https://westsidesportsmens.com/calendar/general-member-meeting/2028-10-04/
LOCATION:Club House
CATEGORIES:General Event
END:VEVENT
BEGIN:VEVENT
DTSTART;TZID=UTC:20281005T180000
DTEND;TZID=UTC:20281005T200000
DTSTAMP:20260425T221430
CREATED:20231231T094347Z
LAST-MODIFIED:20231231T095142Z
UID:10000953-1854381600-1854388800@westsidesportsmens.com
SUMMARY:Membership Committee Meeting
DESCRIPTION:
URL:https://westsidesportsmens.com/calendar/membership-committee-meeting-2/2028-10-05/
LOCATION:Club Office
CATEGORIES:Membership
END:VEVENT
BEGIN:VEVENT
DTSTART;TZID=UTC:20281011T183000
DTEND;TZID=UTC:20281011T200000
DTSTAMP:20260425T221430
CREATED:20231231T094914Z
LAST-MODIFIED:20231231T095034Z
UID:10000894-1854901800-1854907200@westsidesportsmens.com
SUMMARY:Rifle Range Committee Meeting
DESCRIPTION:
URL:https://westsidesportsmens.com/calendar/rifle-range-committee-meeting-12/2028-10-11/
LOCATION:Club House
CATEGORIES:Rifle Range
END:VEVENT
BEGIN:VEVENT
DTSTART;TZID=UTC:20281014T080000
DTEND;TZID=UTC:20281014T170000
DTSTAMP:20260425T221430
CREATED:20231231T100506Z
LAST-MODIFIED:20231231T100553Z
UID:10001161-1855123200-1855155600@westsidesportsmens.com
SUMMARY:Club Work Day
DESCRIPTION:
URL:https://westsidesportsmens.com/calendar/club-work-day-2/2028-10-14/
LOCATION:Club Wide Event
CATEGORIES:General Event
END:VEVENT
BEGIN:VEVENT
DTSTART;TZID=UTC:20281017T183000
DTEND;TZID=UTC:20281017T200000
DTSTAMP:20260425T221430
CREATED:20231231T100907Z
LAST-MODIFIED:20231231T100931Z
UID:10001221-1855420200-1855425600@westsidesportsmens.com
SUMMARY:Rules & Regulations Committee Meeting
DESCRIPTION:
URL:https://westsidesportsmens.com/calendar/rules-regulations-committee-meeting/2028-10-17/
LOCATION:Club House
CATEGORIES:General Event
END:VEVENT
BEGIN:VEVENT
DTSTART;TZID=UTC:20281018T080000
DTEND;TZID=UTC:20281018T110000
DTSTAMP:20260425T221430
CREATED:20231231T112319Z
LAST-MODIFIED:20231231T112413Z
UID:10001506-1855468800-1855479600@westsidesportsmens.com
SUMMARY:Cowboy Shoot Setup
DESCRIPTION:
URL:https://westsidesportsmens.com/calendar/cowboy-shoot-setup/2028-10-18/
LOCATION:Cowboy Town\, 1000 Peerless Rd\, Evansville\, IN\, 47712\, United States
CATEGORIES:Cowboy
END:VEVENT
BEGIN:VEVENT
DTSTART;TZID=UTC:20281018T183000
DTEND;TZID=UTC:20281018T203000
DTSTAMP:20260425T221430
CREATED:20231231T101107Z
LAST-MODIFIED:20231231T101123Z
UID:10001281-1855506600-1855513800@westsidesportsmens.com
SUMMARY:Board of Directors Meeting
DESCRIPTION:
URL:https://westsidesportsmens.com/calendar/board-of-directors-meeting-2/2028-10-18/
LOCATION:Club Office
CATEGORIES:General Event
END:VEVENT
BEGIN:VEVENT
DTSTART;TZID=UTC:20281021T080000
DTEND;TZID=UTC:20281021T140000
DTSTAMP:20260425T221430
CREATED:20250306T001902Z
LAST-MODIFIED:20250719T215717Z
UID:10001746-1855728000-1855749600@westsidesportsmens.com
SUMMARY:IDPA Shoot
DESCRIPTION:
URL:https://westsidesportsmens.com/calendar/idpa-shoot-2/2028-10-21/
LOCATION:Event Bays
CATEGORIES:Practical Action Shooting
END:VEVENT
BEGIN:VEVENT
DTSTART;TZID=America/Chicago:20281025T080000
DTEND;TZID=America/Chicago:20281025T120000
DTSTAMP:20260425T221430
CREATED:20250306T011312Z
LAST-MODIFIED:20250719T215716Z
UID:10001866-1856073600-1856088000@westsidesportsmens.com
SUMMARY:Cowboy Match Setup
DESCRIPTION:
URL:https://westsidesportsmens.com/calendar/cowboy-match-setup-3/2028-10-25/
LOCATION:Cowboy Town\, 1000 Peerless Rd\, Evansville\, IN\, 47712\, United States
CATEGORIES:Cowboy
END:VEVENT
BEGIN:VEVENT
DTSTART;TZID=America/Chicago:20281028T090000
DTEND;TZID=America/Chicago:20281028T160000
DTSTAMP:20260425T221430
CREATED:20250306T011126Z
LAST-MODIFIED:20250719T215715Z
UID:10001807-1856336400-1856361600@westsidesportsmens.com
SUMMARY:Cowboy SASS Match
DESCRIPTION:
URL:https://westsidesportsmens.com/calendar/cowboy-sass-match-2/2028-10-28/
LOCATION:Cookhouse\, 1000 Peerless Rd\, Evansville\, IN\, 47712\, United States
CATEGORIES:Cowboy
END:VEVENT
BEGIN:VEVENT
DTSTART;TZID=America/Chicago:20281101T190000
DTEND;TZID=America/Chicago:20281101T203000
DTSTAMP:20260425T221430
CREATED:20250306T000144Z
LAST-MODIFIED:20250719T215717Z
UID:10001663-1856718000-1856723400@westsidesportsmens.com
SUMMARY:General Member Meeting
DESCRIPTION:
URL:https://westsidesportsmens.com/calendar/general-member-meeting/2028-11-01/
LOCATION:Club House
CATEGORIES:General Event
END:VEVENT
BEGIN:VEVENT
DTSTART;TZID=UTC:20281102T180000
DTEND;TZID=UTC:20281102T200000
DTSTAMP:20260425T221430
CREATED:20231231T094347Z
LAST-MODIFIED:20231231T095142Z
UID:10000954-1856800800-1856808000@westsidesportsmens.com
SUMMARY:Membership Committee Meeting
DESCRIPTION:
URL:https://westsidesportsmens.com/calendar/membership-committee-meeting-2/2028-11-02/
LOCATION:Club Office
CATEGORIES:Membership
END:VEVENT
BEGIN:VEVENT
DTSTART;TZID=UTC:20281106T180000
DTEND;TZID=UTC:20281106T200000
DTSTAMP:20260425T221430
CREATED:20231231T092753Z
LAST-MODIFIED:20231231T093808Z
UID:10000773-1857146400-1857153600@westsidesportsmens.com
SUMMARY:IDPA Meeting
DESCRIPTION:
URL:https://westsidesportsmens.com/calendar/idpa-meeting-2/2028-11-06/
LOCATION:Club House
CATEGORIES:Practical Action Shooting
END:VEVENT
BEGIN:VEVENT
DTSTART;TZID=UTC:20281106T190000
DTEND;TZID=UTC:20281106T210000
DTSTAMP:20260425T221430
CREATED:20231231T093611Z
LAST-MODIFIED:20231231T094546Z
UID:10000833-1857150000-1857157200@westsidesportsmens.com
SUMMARY:Cowboy Committee Meeting
DESCRIPTION:
URL:https://westsidesportsmens.com/calendar/cowboy-committee-meeting-3/2028-11-06/
LOCATION:Cookhouse\, 1000 Peerless Rd\, Evansville\, IN\, 47712\, United States
CATEGORIES:Cowboy
END:VEVENT
BEGIN:VEVENT
DTSTART;TZID=UTC:20281108T183000
DTEND;TZID=UTC:20281108T200000
DTSTAMP:20260425T221430
CREATED:20231231T094914Z
LAST-MODIFIED:20231231T095034Z
UID:10000895-1857321000-1857326400@westsidesportsmens.com
SUMMARY:Rifle Range Committee Meeting
DESCRIPTION:
URL:https://westsidesportsmens.com/calendar/rifle-range-committee-meeting-12/2028-11-08/
LOCATION:Club House
CATEGORIES:Rifle Range
END:VEVENT
BEGIN:VEVENT
DTSTART;TZID=UTC:20281109T183000
DTEND;TZID=UTC:20281109T200000
DTSTAMP:20260425T221430
CREATED:20231231T095910Z
LAST-MODIFIED:20231231T100235Z
UID:10001103-1857407400-1857412800@westsidesportsmens.com
SUMMARY:Leadership Meeting
DESCRIPTION:
URL:https://westsidesportsmens.com/calendar/leadership-meeting-7/2028-11-09/
LOCATION:Club Office
CATEGORIES:General Event
END:VEVENT
BEGIN:VEVENT
DTSTART;TZID=UTC:20281111T080000
DTEND;TZID=UTC:20281111T170000
DTSTAMP:20260425T221430
CREATED:20231231T100506Z
LAST-MODIFIED:20231231T100553Z
UID:10001162-1857542400-1857574800@westsidesportsmens.com
SUMMARY:Club Work Day
DESCRIPTION:
URL:https://westsidesportsmens.com/calendar/club-work-day-2/2028-11-11/
LOCATION:Club Wide Event
CATEGORIES:General Event
END:VEVENT
BEGIN:VEVENT
DTSTART;TZID=UTC:20281115T080000
DTEND;TZID=UTC:20281115T110000
DTSTAMP:20260425T221430
CREATED:20231231T112319Z
LAST-MODIFIED:20231231T112413Z
UID:10001507-1857888000-1857898800@westsidesportsmens.com
SUMMARY:Cowboy Shoot Setup
DESCRIPTION:
URL:https://westsidesportsmens.com/calendar/cowboy-shoot-setup/2028-11-15/
LOCATION:Cowboy Town\, 1000 Peerless Rd\, Evansville\, IN\, 47712\, United States
CATEGORIES:Cowboy
END:VEVENT
BEGIN:VEVENT
DTSTART;TZID=UTC:20281115T183000
DTEND;TZID=UTC:20281115T203000
DTSTAMP:20260425T221430
CREATED:20231231T101107Z
LAST-MODIFIED:20231231T101123Z
UID:10001282-1857925800-1857933000@westsidesportsmens.com
SUMMARY:Board of Directors Meeting
DESCRIPTION:
URL:https://westsidesportsmens.com/calendar/board-of-directors-meeting-2/2028-11-15/
LOCATION:Club Office
CATEGORIES:General Event
END:VEVENT
BEGIN:VEVENT
DTSTART;TZID=UTC:20281118T080000
DTEND;TZID=UTC:20281118T140000
DTSTAMP:20260425T221430
CREATED:20250306T001902Z
LAST-MODIFIED:20250719T215717Z
UID:10001747-1858147200-1858168800@westsidesportsmens.com
SUMMARY:IDPA Shoot
DESCRIPTION:
URL:https://westsidesportsmens.com/calendar/idpa-shoot-2/2028-11-18/
LOCATION:Event Bays
CATEGORIES:Practical Action Shooting
END:VEVENT
BEGIN:VEVENT
DTSTART;TZID=UTC:20281121T183000
DTEND;TZID=UTC:20281121T200000
DTSTAMP:20260425T221431
CREATED:20231231T100907Z
LAST-MODIFIED:20231231T100931Z
UID:10001222-1858444200-1858449600@westsidesportsmens.com
SUMMARY:Rules & Regulations Committee Meeting
DESCRIPTION:
URL:https://westsidesportsmens.com/calendar/rules-regulations-committee-meeting/2028-11-21/
LOCATION:Club House
CATEGORIES:General Event
END:VEVENT
BEGIN:VEVENT
DTSTART;TZID=America/Chicago:20281122T080000
DTEND;TZID=America/Chicago:20281122T120000
DTSTAMP:20260425T221431
CREATED:20250306T011312Z
LAST-MODIFIED:20250719T215716Z
UID:10001867-1858492800-1858507200@westsidesportsmens.com
SUMMARY:Cowboy Match Setup
DESCRIPTION:
URL:https://westsidesportsmens.com/calendar/cowboy-match-setup-3/2028-11-22/
LOCATION:Cowboy Town\, 1000 Peerless Rd\, Evansville\, IN\, 47712\, United States
CATEGORIES:Cowboy
END:VEVENT
BEGIN:VEVENT
DTSTART;TZID=America/Chicago:20281125T090000
DTEND;TZID=America/Chicago:20281125T160000
DTSTAMP:20260425T221431
CREATED:20250306T011126Z
LAST-MODIFIED:20250719T215715Z
UID:10001808-1858755600-1858780800@westsidesportsmens.com
SUMMARY:Cowboy SASS Match
DESCRIPTION:
URL:https://westsidesportsmens.com/calendar/cowboy-sass-match-2/2028-11-25/
LOCATION:Cookhouse\, 1000 Peerless Rd\, Evansville\, IN\, 47712\, United States
CATEGORIES:Cowboy
END:VEVENT
BEGIN:VEVENT
DTSTART;TZID=UTC:20281204T180000
DTEND;TZID=UTC:20281204T200000
DTSTAMP:20260425T221431
CREATED:20231231T092753Z
LAST-MODIFIED:20231231T093808Z
UID:10000774-1859565600-1859572800@westsidesportsmens.com
SUMMARY:IDPA Meeting
DESCRIPTION:
URL:https://westsidesportsmens.com/calendar/idpa-meeting-2/2028-12-04/
LOCATION:Club House
CATEGORIES:Practical Action Shooting
END:VEVENT
BEGIN:VEVENT
DTSTART;TZID=UTC:20281204T190000
DTEND;TZID=UTC:20281204T210000
DTSTAMP:20260425T221431
CREATED:20231231T093611Z
LAST-MODIFIED:20231231T094546Z
UID:10000834-1859569200-1859576400@westsidesportsmens.com
SUMMARY:Cowboy Committee Meeting
DESCRIPTION:
URL:https://westsidesportsmens.com/calendar/cowboy-committee-meeting-3/2028-12-04/
LOCATION:Cookhouse\, 1000 Peerless Rd\, Evansville\, IN\, 47712\, United States
CATEGORIES:Cowboy
END:VEVENT
BEGIN:VEVENT
DTSTART;TZID=America/Chicago:20281206T190000
DTEND;TZID=America/Chicago:20281206T203000
DTSTAMP:20260425T221431
CREATED:20250306T000144Z
LAST-MODIFIED:20250719T215717Z
UID:10001664-1859742000-1859747400@westsidesportsmens.com
SUMMARY:General Member Meeting
DESCRIPTION:
URL:https://westsidesportsmens.com/calendar/general-member-meeting/2028-12-06/
LOCATION:Club House
CATEGORIES:General Event
END:VEVENT
END:VCALENDAR