BEGIN:VCALENDAR
VERSION:2.0
PRODID:-//West Side Sportsmans Club - ECPv6.15.15//NONSGML v1.0//EN
CALSCALE:GREGORIAN
METHOD:PUBLISH
X-ORIGINAL-URL:https://westsidesportsmens.com
X-WR-CALDESC:Events for West Side Sportsmans Club
REFRESH-INTERVAL;VALUE=DURATION:PT1H
X-Robots-Tag:noindex
X-PUBLISHED-TTL:PT1H
BEGIN:VTIMEZONE
TZID:UTC
BEGIN:STANDARD
TZOFFSETFROM:+0000
TZOFFSETTO:+0000
TZNAME:UTC
DTSTART:20270101T000000
END:STANDARD
END:VTIMEZONE
BEGIN:VTIMEZONE
TZID:America/Chicago
BEGIN:DAYLIGHT
TZOFFSETFROM:-0600
TZOFFSETTO:-0500
TZNAME:CDT
DTSTART:20270314T080000
END:DAYLIGHT
BEGIN:STANDARD
TZOFFSETFROM:-0500
TZOFFSETTO:-0600
TZNAME:CST
DTSTART:20271107T070000
END:STANDARD
BEGIN:DAYLIGHT
TZOFFSETFROM:-0600
TZOFFSETTO:-0500
TZNAME:CDT
DTSTART:20280312T080000
END:DAYLIGHT
BEGIN:STANDARD
TZOFFSETFROM:-0500
TZOFFSETTO:-0600
TZNAME:CST
DTSTART:20281105T070000
END:STANDARD
BEGIN:DAYLIGHT
TZOFFSETFROM:-0600
TZOFFSETTO:-0500
TZNAME:CDT
DTSTART:20290311T080000
END:DAYLIGHT
BEGIN:STANDARD
TZOFFSETFROM:-0500
TZOFFSETTO:-0600
TZNAME:CST
DTSTART:20291104T070000
END:STANDARD
END:VTIMEZONE
BEGIN:VEVENT
DTSTART;TZID=UTC:20280719T183000
DTEND;TZID=UTC:20280719T203000
DTSTAMP:20260425T082006
CREATED:20231231T101107Z
LAST-MODIFIED:20231231T101123Z
UID:10001278-1847644200-1847651400@westsidesportsmens.com
SUMMARY:Board of Directors Meeting
DESCRIPTION:
URL:https://westsidesportsmens.com/calendar/board-of-directors-meeting-2/2028-07-19/
LOCATION:Club Office
CATEGORIES:General Event
END:VEVENT
BEGIN:VEVENT
DTSTART;TZID=America/Chicago:20280722T090000
DTEND;TZID=America/Chicago:20280722T160000
DTSTAMP:20260425T082006
CREATED:20250306T011126Z
LAST-MODIFIED:20250719T215715Z
UID:10001804-1847869200-1847894400@westsidesportsmens.com
SUMMARY:Cowboy SASS Match
DESCRIPTION:
URL:https://westsidesportsmens.com/calendar/cowboy-sass-match-2/2028-07-22/
LOCATION:Cookhouse\, 1000 Peerless Rd\, Evansville\, IN\, 47712\, United States
CATEGORIES:Cowboy
END:VEVENT
BEGIN:VEVENT
DTSTART;TZID=America/Chicago:20280726T080000
DTEND;TZID=America/Chicago:20280726T120000
DTSTAMP:20260425T082006
CREATED:20250306T011312Z
LAST-MODIFIED:20250719T215716Z
UID:10001863-1848211200-1848225600@westsidesportsmens.com
SUMMARY:Cowboy Match Setup
DESCRIPTION:
URL:https://westsidesportsmens.com/calendar/cowboy-match-setup-3/2028-07-26/
LOCATION:Cowboy Town\, 1000 Peerless Rd\, Evansville\, IN\, 47712\, United States
CATEGORIES:Cowboy
END:VEVENT
BEGIN:VEVENT
DTSTART;TZID=America/Chicago:20280802T190000
DTEND;TZID=America/Chicago:20280802T203000
DTSTAMP:20260425T082006
CREATED:20250306T000144Z
LAST-MODIFIED:20250719T215717Z
UID:10001660-1848855600-1848861000@westsidesportsmens.com
SUMMARY:General Member Meeting
DESCRIPTION:
URL:https://westsidesportsmens.com/calendar/general-member-meeting/2028-08-02/
LOCATION:Club House
CATEGORIES:General Event
END:VEVENT
BEGIN:VEVENT
DTSTART;TZID=UTC:20280803T180000
DTEND;TZID=UTC:20280803T200000
DTSTAMP:20260425T082006
CREATED:20231231T094347Z
LAST-MODIFIED:20231231T095142Z
UID:10000951-1848938400-1848945600@westsidesportsmens.com
SUMMARY:Membership Committee Meeting
DESCRIPTION:
URL:https://westsidesportsmens.com/calendar/membership-committee-meeting-2/2028-08-03/
LOCATION:Club Office
CATEGORIES:Membership
END:VEVENT
BEGIN:VEVENT
DTSTART;TZID=UTC:20280807T180000
DTEND;TZID=UTC:20280807T200000
DTSTAMP:20260425T082006
CREATED:20231231T092753Z
LAST-MODIFIED:20231231T093808Z
UID:10000770-1849284000-1849291200@westsidesportsmens.com
SUMMARY:IDPA Meeting
DESCRIPTION:
URL:https://westsidesportsmens.com/calendar/idpa-meeting-2/2028-08-07/
LOCATION:Club House
CATEGORIES:Practical Action Shooting
END:VEVENT
BEGIN:VEVENT
DTSTART;TZID=UTC:20280807T190000
DTEND;TZID=UTC:20280807T210000
DTSTAMP:20260425T082006
CREATED:20231231T093611Z
LAST-MODIFIED:20231231T094546Z
UID:10000830-1849287600-1849294800@westsidesportsmens.com
SUMMARY:Cowboy Committee Meeting
DESCRIPTION:
URL:https://westsidesportsmens.com/calendar/cowboy-committee-meeting-3/2028-08-07/
LOCATION:Cookhouse\, 1000 Peerless Rd\, Evansville\, IN\, 47712\, United States
CATEGORIES:Cowboy
END:VEVENT
BEGIN:VEVENT
DTSTART;TZID=UTC:20280809T183000
DTEND;TZID=UTC:20280809T200000
DTSTAMP:20260425T082006
CREATED:20231231T094914Z
LAST-MODIFIED:20231231T095034Z
UID:10000892-1849458600-1849464000@westsidesportsmens.com
SUMMARY:Rifle Range Committee Meeting
DESCRIPTION:
URL:https://westsidesportsmens.com/calendar/rifle-range-committee-meeting-12/2028-08-09/
LOCATION:Club House
CATEGORIES:Rifle Range
END:VEVENT
BEGIN:VEVENT
DTSTART;TZID=UTC:20280812T080000
DTEND;TZID=UTC:20280812T170000
DTSTAMP:20260425T082006
CREATED:20231231T100506Z
LAST-MODIFIED:20231231T100553Z
UID:10001159-1849680000-1849712400@westsidesportsmens.com
SUMMARY:Club Work Day
DESCRIPTION:
URL:https://westsidesportsmens.com/calendar/club-work-day-2/2028-08-12/
LOCATION:Club Wide Event
CATEGORIES:General Event
END:VEVENT
BEGIN:VEVENT
DTSTART;TZID=UTC:20280815T183000
DTEND;TZID=UTC:20280815T200000
DTSTAMP:20260425T082006
CREATED:20231231T100907Z
LAST-MODIFIED:20231231T100931Z
UID:10001219-1849977000-1849982400@westsidesportsmens.com
SUMMARY:Rules & Regulations Committee Meeting
DESCRIPTION:
URL:https://westsidesportsmens.com/calendar/rules-regulations-committee-meeting/2028-08-15/
LOCATION:Club House
CATEGORIES:General Event
END:VEVENT
BEGIN:VEVENT
DTSTART;TZID=UTC:20280816T080000
DTEND;TZID=UTC:20280816T110000
DTSTAMP:20260425T082006
CREATED:20231231T112319Z
LAST-MODIFIED:20231231T112413Z
UID:10001504-1850025600-1850036400@westsidesportsmens.com
SUMMARY:Cowboy Shoot Setup
DESCRIPTION:
URL:https://westsidesportsmens.com/calendar/cowboy-shoot-setup/2028-08-16/
LOCATION:Cowboy Town\, 1000 Peerless Rd\, Evansville\, IN\, 47712\, United States
CATEGORIES:Cowboy
END:VEVENT
BEGIN:VEVENT
DTSTART;TZID=UTC:20280816T183000
DTEND;TZID=UTC:20280816T203000
DTSTAMP:20260425T082006
CREATED:20231231T101107Z
LAST-MODIFIED:20231231T101123Z
UID:10001279-1850063400-1850070600@westsidesportsmens.com
SUMMARY:Board of Directors Meeting
DESCRIPTION:
URL:https://westsidesportsmens.com/calendar/board-of-directors-meeting-2/2028-08-16/
LOCATION:Club Office
CATEGORIES:General Event
END:VEVENT
BEGIN:VEVENT
DTSTART;TZID=UTC:20280819T080000
DTEND;TZID=UTC:20280819T140000
DTSTAMP:20260425T082006
CREATED:20250306T001902Z
LAST-MODIFIED:20250719T215717Z
UID:10001744-1850284800-1850306400@westsidesportsmens.com
SUMMARY:IDPA Shoot
DESCRIPTION:
URL:https://westsidesportsmens.com/calendar/idpa-shoot-2/2028-08-19/
LOCATION:Event Bays
CATEGORIES:Practical Action Shooting
END:VEVENT
BEGIN:VEVENT
DTSTART;TZID=America/Chicago:20280823T080000
DTEND;TZID=America/Chicago:20280823T120000
DTSTAMP:20260425T082006
CREATED:20250306T011312Z
LAST-MODIFIED:20250719T215716Z
UID:10001864-1850630400-1850644800@westsidesportsmens.com
SUMMARY:Cowboy Match Setup
DESCRIPTION:
URL:https://westsidesportsmens.com/calendar/cowboy-match-setup-3/2028-08-23/
LOCATION:Cowboy Town\, 1000 Peerless Rd\, Evansville\, IN\, 47712\, United States
CATEGORIES:Cowboy
END:VEVENT
BEGIN:VEVENT
DTSTART;TZID=America/Chicago:20280826T090000
DTEND;TZID=America/Chicago:20280826T160000
DTSTAMP:20260425T082006
CREATED:20250306T011126Z
LAST-MODIFIED:20250719T215715Z
UID:10001805-1850893200-1850918400@westsidesportsmens.com
SUMMARY:Cowboy SASS Match
DESCRIPTION:
URL:https://westsidesportsmens.com/calendar/cowboy-sass-match-2/2028-08-26/
LOCATION:Cookhouse\, 1000 Peerless Rd\, Evansville\, IN\, 47712\, United States
CATEGORIES:Cowboy
END:VEVENT
BEGIN:VEVENT
DTSTART;TZID=UTC:20280904T180000
DTEND;TZID=UTC:20280904T200000
DTSTAMP:20260425T082006
CREATED:20231231T092753Z
LAST-MODIFIED:20231231T093808Z
UID:10000771-1851703200-1851710400@westsidesportsmens.com
SUMMARY:IDPA Meeting
DESCRIPTION:
URL:https://westsidesportsmens.com/calendar/idpa-meeting-2/2028-09-04/
LOCATION:Club House
CATEGORIES:Practical Action Shooting
END:VEVENT
BEGIN:VEVENT
DTSTART;TZID=UTC:20280904T190000
DTEND;TZID=UTC:20280904T210000
DTSTAMP:20260425T082006
CREATED:20231231T093611Z
LAST-MODIFIED:20231231T094546Z
UID:10000831-1851706800-1851714000@westsidesportsmens.com
SUMMARY:Cowboy Committee Meeting
DESCRIPTION:
URL:https://westsidesportsmens.com/calendar/cowboy-committee-meeting-3/2028-09-04/
LOCATION:Cookhouse\, 1000 Peerless Rd\, Evansville\, IN\, 47712\, United States
CATEGORIES:Cowboy
END:VEVENT
BEGIN:VEVENT
DTSTART;TZID=America/Chicago:20280906T190000
DTEND;TZID=America/Chicago:20280906T203000
DTSTAMP:20260425T082006
CREATED:20250306T000144Z
LAST-MODIFIED:20250719T215717Z
UID:10001661-1851879600-1851885000@westsidesportsmens.com
SUMMARY:General Member Meeting
DESCRIPTION:
URL:https://westsidesportsmens.com/calendar/general-member-meeting/2028-09-06/
LOCATION:Club House
CATEGORIES:General Event
END:VEVENT
BEGIN:VEVENT
DTSTART;TZID=UTC:20280907T180000
DTEND;TZID=UTC:20280907T200000
DTSTAMP:20260425T082006
CREATED:20231231T094347Z
LAST-MODIFIED:20231231T095142Z
UID:10000952-1851962400-1851969600@westsidesportsmens.com
SUMMARY:Membership Committee Meeting
DESCRIPTION:
URL:https://westsidesportsmens.com/calendar/membership-committee-meeting-2/2028-09-07/
LOCATION:Club Office
CATEGORIES:Membership
END:VEVENT
BEGIN:VEVENT
DTSTART;TZID=UTC:20280909T080000
DTEND;TZID=UTC:20280909T170000
DTSTAMP:20260425T082006
CREATED:20231231T100506Z
LAST-MODIFIED:20231231T100553Z
UID:10001160-1852099200-1852131600@westsidesportsmens.com
SUMMARY:Club Work Day
DESCRIPTION:
URL:https://westsidesportsmens.com/calendar/club-work-day-2/2028-09-09/
LOCATION:Club Wide Event
CATEGORIES:General Event
END:VEVENT
BEGIN:VEVENT
DTSTART;TZID=UTC:20280913T183000
DTEND;TZID=UTC:20280913T200000
DTSTAMP:20260425T082006
CREATED:20231231T094914Z
LAST-MODIFIED:20231231T095034Z
UID:10000893-1852482600-1852488000@westsidesportsmens.com
SUMMARY:Rifle Range Committee Meeting
DESCRIPTION:
URL:https://westsidesportsmens.com/calendar/rifle-range-committee-meeting-12/2028-09-13/
LOCATION:Club House
CATEGORIES:Rifle Range
END:VEVENT
BEGIN:VEVENT
DTSTART;TZID=UTC:20280914T183000
DTEND;TZID=UTC:20280914T200000
DTSTAMP:20260425T082006
CREATED:20231231T095910Z
LAST-MODIFIED:20231231T100235Z
UID:10001102-1852569000-1852574400@westsidesportsmens.com
SUMMARY:Leadership Meeting
DESCRIPTION:
URL:https://westsidesportsmens.com/calendar/leadership-meeting-7/2028-09-14/
LOCATION:Club Office
CATEGORIES:General Event
END:VEVENT
BEGIN:VEVENT
DTSTART;TZID=UTC:20280916T080000
DTEND;TZID=UTC:20280916T140000
DTSTAMP:20260425T082006
CREATED:20250306T001902Z
LAST-MODIFIED:20250719T215717Z
UID:10001745-1852704000-1852725600@westsidesportsmens.com
SUMMARY:IDPA Shoot
DESCRIPTION:
URL:https://westsidesportsmens.com/calendar/idpa-shoot-2/2028-09-16/
LOCATION:Event Bays
CATEGORIES:Practical Action Shooting
END:VEVENT
BEGIN:VEVENT
DTSTART;TZID=UTC:20280919T183000
DTEND;TZID=UTC:20280919T200000
DTSTAMP:20260425T082006
CREATED:20231231T100907Z
LAST-MODIFIED:20231231T100931Z
UID:10001220-1853001000-1853006400@westsidesportsmens.com
SUMMARY:Rules & Regulations Committee Meeting
DESCRIPTION:
URL:https://westsidesportsmens.com/calendar/rules-regulations-committee-meeting/2028-09-19/
LOCATION:Club House
CATEGORIES:General Event
END:VEVENT
BEGIN:VEVENT
DTSTART;TZID=UTC:20280920T080000
DTEND;TZID=UTC:20280920T110000
DTSTAMP:20260425T082006
CREATED:20231231T112319Z
LAST-MODIFIED:20231231T112413Z
UID:10001505-1853049600-1853060400@westsidesportsmens.com
SUMMARY:Cowboy Shoot Setup
DESCRIPTION:
URL:https://westsidesportsmens.com/calendar/cowboy-shoot-setup/2028-09-20/
LOCATION:Cowboy Town\, 1000 Peerless Rd\, Evansville\, IN\, 47712\, United States
CATEGORIES:Cowboy
END:VEVENT
BEGIN:VEVENT
DTSTART;TZID=UTC:20280920T183000
DTEND;TZID=UTC:20280920T203000
DTSTAMP:20260425T082006
CREATED:20231231T101107Z
LAST-MODIFIED:20231231T101123Z
UID:10001280-1853087400-1853094600@westsidesportsmens.com
SUMMARY:Board of Directors Meeting
DESCRIPTION:
URL:https://westsidesportsmens.com/calendar/board-of-directors-meeting-2/2028-09-20/
LOCATION:Club Office
CATEGORIES:General Event
END:VEVENT
BEGIN:VEVENT
DTSTART;TZID=America/Chicago:20280923T090000
DTEND;TZID=America/Chicago:20280923T160000
DTSTAMP:20260425T082006
CREATED:20250306T011126Z
LAST-MODIFIED:20250719T215715Z
UID:10001806-1853312400-1853337600@westsidesportsmens.com
SUMMARY:Cowboy SASS Match
DESCRIPTION:
URL:https://westsidesportsmens.com/calendar/cowboy-sass-match-2/2028-09-23/
LOCATION:Cookhouse\, 1000 Peerless Rd\, Evansville\, IN\, 47712\, United States
CATEGORIES:Cowboy
END:VEVENT
BEGIN:VEVENT
DTSTART;TZID=America/Chicago:20280927T080000
DTEND;TZID=America/Chicago:20280927T120000
DTSTAMP:20260425T082006
CREATED:20250306T011312Z
LAST-MODIFIED:20250719T215716Z
UID:10001865-1853654400-1853668800@westsidesportsmens.com
SUMMARY:Cowboy Match Setup
DESCRIPTION:
URL:https://westsidesportsmens.com/calendar/cowboy-match-setup-3/2028-09-27/
LOCATION:Cowboy Town\, 1000 Peerless Rd\, Evansville\, IN\, 47712\, United States
CATEGORIES:Cowboy
END:VEVENT
BEGIN:VEVENT
DTSTART;TZID=UTC:20281002T180000
DTEND;TZID=UTC:20281002T200000
DTSTAMP:20260425T082006
CREATED:20231231T092753Z
LAST-MODIFIED:20231231T093808Z
UID:10000772-1854122400-1854129600@westsidesportsmens.com
SUMMARY:IDPA Meeting
DESCRIPTION:
URL:https://westsidesportsmens.com/calendar/idpa-meeting-2/2028-10-02/
LOCATION:Club House
CATEGORIES:Practical Action Shooting
END:VEVENT
BEGIN:VEVENT
DTSTART;TZID=UTC:20281002T190000
DTEND;TZID=UTC:20281002T210000
DTSTAMP:20260425T082006
CREATED:20231231T093611Z
LAST-MODIFIED:20231231T094546Z
UID:10000832-1854126000-1854133200@westsidesportsmens.com
SUMMARY:Cowboy Committee Meeting
DESCRIPTION:
URL:https://westsidesportsmens.com/calendar/cowboy-committee-meeting-3/2028-10-02/
LOCATION:Cookhouse\, 1000 Peerless Rd\, Evansville\, IN\, 47712\, United States
CATEGORIES:Cowboy
END:VEVENT
END:VCALENDAR