BEGIN:VCALENDAR
VERSION:2.0
PRODID:-//West Side Sportsmans Club - ECPv6.15.15//NONSGML v1.0//EN
CALSCALE:GREGORIAN
METHOD:PUBLISH
X-WR-CALNAME:West Side Sportsmans Club
X-ORIGINAL-URL:https://westsidesportsmens.com
X-WR-CALDESC:Events for West Side Sportsmans Club
REFRESH-INTERVAL;VALUE=DURATION:PT1H
X-Robots-Tag:noindex
X-PUBLISHED-TTL:PT1H
BEGIN:VTIMEZONE
TZID:UTC
BEGIN:STANDARD
TZOFFSETFROM:+0000
TZOFFSETTO:+0000
TZNAME:UTC
DTSTART:20230101T000000
END:STANDARD
END:VTIMEZONE
BEGIN:VTIMEZONE
TZID:America/Chicago
BEGIN:DAYLIGHT
TZOFFSETFROM:-0600
TZOFFSETTO:-0500
TZNAME:CDT
DTSTART:20230312T080000
END:DAYLIGHT
BEGIN:STANDARD
TZOFFSETFROM:-0500
TZOFFSETTO:-0600
TZNAME:CST
DTSTART:20231105T070000
END:STANDARD
BEGIN:DAYLIGHT
TZOFFSETFROM:-0600
TZOFFSETTO:-0500
TZNAME:CDT
DTSTART:20240310T080000
END:DAYLIGHT
BEGIN:STANDARD
TZOFFSETFROM:-0500
TZOFFSETTO:-0600
TZNAME:CST
DTSTART:20241103T070000
END:STANDARD
BEGIN:DAYLIGHT
TZOFFSETFROM:-0600
TZOFFSETTO:-0500
TZNAME:CDT
DTSTART:20250309T080000
END:DAYLIGHT
BEGIN:STANDARD
TZOFFSETFROM:-0500
TZOFFSETTO:-0600
TZNAME:CST
DTSTART:20251102T070000
END:STANDARD
END:VTIMEZONE
BEGIN:VEVENT
DTSTART;TZID=UTC:20240505T120000
DTEND;TZID=UTC:20240505T170000
DTSTAMP:20260425T211451
CREATED:20231231T111501Z
LAST-MODIFIED:20231231T111605Z
UID:10001433-1714910400-1714928400@westsidesportsmens.com
SUMMARY:Spot Shoot Round Robin
DESCRIPTION:
URL:https://westsidesportsmens.com/calendar/spot-shoot-round-robin/2024-05-05/
LOCATION:Spot Range
CATEGORIES:Spot Shoot
ORGANIZER;CN="Kraig Hausmann":MAILTO:kraighausmann@gmail.com
END:VEVENT
BEGIN:VEVENT
DTSTART;TZID=America/Chicago:20240504T080000
DTEND;TZID=America/Chicago:20240504T120000
DTSTAMP:20260425T211451
CREATED:20240430T225323Z
LAST-MODIFIED:20240430T225323Z
UID:10001594-1714809600-1714824000@westsidesportsmens.com
SUMMARY:Basic Handgun Training
DESCRIPTION:
URL:https://westsidesportsmens.com/calendar/basic-handgun-training/
LOCATION:Club House
ORGANIZER;CN="Brent Gariby":MAILTO:brent.garibay@gmail.com
END:VEVENT
BEGIN:VEVENT
DTSTART;TZID=UTC:20240502T180000
DTEND;TZID=UTC:20240502T200000
DTSTAMP:20260425T211451
CREATED:20231231T094347Z
LAST-MODIFIED:20231231T095142Z
UID:10000900-1714672800-1714680000@westsidesportsmens.com
SUMMARY:Membership Committee Meeting
DESCRIPTION:
URL:https://westsidesportsmens.com/calendar/membership-committee-meeting-2/2024-05-02/
LOCATION:Club Office
CATEGORIES:Membership
END:VEVENT
BEGIN:VEVENT
DTSTART;TZID=UTC:20240427T090000
DTEND;TZID=UTC:20240427T140000
DTSTAMP:20260425T211451
CREATED:20231231T112150Z
LAST-MODIFIED:20231231T114342Z
UID:10001450-1714208400-1714226400@westsidesportsmens.com
SUMMARY:Cowboy Shoot SASS
DESCRIPTION:
URL:https://westsidesportsmens.com/calendar/cowboy-shoot-sass-2/2024-04-27/
LOCATION:Cowboy Town\, 1000 Peerless Rd\, Evansville\, IN\, 47712\, United States
CATEGORIES:Cowboy
END:VEVENT
BEGIN:VEVENT
DTSTART;TZID=UTC:20240420T080000
DTEND;TZID=UTC:20240420T140000
DTSTAMP:20260425T211451
CREATED:20231231T101603Z
LAST-MODIFIED:20231231T101627Z
UID:10001347-1713600000-1713621600@westsidesportsmens.com
SUMMARY:IDPA Shoot
DESCRIPTION:
URL:https://westsidesportsmens.com/calendar/idpa-shoot/2024-04-20/
LOCATION:Event Bays
CATEGORIES:Practical Action Shooting
END:VEVENT
BEGIN:VEVENT
DTSTART;TZID=UTC:20240418T180000
DTEND;TZID=UTC:20240418T200000
DTSTAMP:20260425T211451
CREATED:20231231T101252Z
LAST-MODIFIED:20231231T101315Z
UID:10001287-1713463200-1713470400@westsidesportsmens.com
SUMMARY:Technology Committee Meeting
DESCRIPTION:
URL:https://westsidesportsmens.com/calendar/technology-committee-meeting-3/2024-04-18/
LOCATION:Club Office
CATEGORIES:Technology Committee Meeting
ORGANIZER;CN="Brandon Greene":MAILTO:web@westsidesportsmans.com
END:VEVENT
BEGIN:VEVENT
DTSTART;TZID=UTC:20240417T183000
DTEND;TZID=UTC:20240417T203000
DTSTAMP:20260425T211451
CREATED:20231231T101107Z
LAST-MODIFIED:20231231T101123Z
UID:10001227-1713378600-1713385800@westsidesportsmens.com
SUMMARY:Board of Directors Meeting
DESCRIPTION:
URL:https://westsidesportsmens.com/calendar/board-of-directors-meeting-2/2024-04-17/
LOCATION:Club Office
CATEGORIES:General Event
END:VEVENT
BEGIN:VEVENT
DTSTART;TZID=UTC:20240417T080000
DTEND;TZID=UTC:20240417T110000
DTSTAMP:20260425T211451
CREATED:20231231T112319Z
LAST-MODIFIED:20231231T112413Z
UID:10001452-1713340800-1713351600@westsidesportsmens.com
SUMMARY:Cowboy Shoot Setup
DESCRIPTION:
URL:https://westsidesportsmens.com/calendar/cowboy-shoot-setup/2024-04-17/
LOCATION:Cowboy Town\, 1000 Peerless Rd\, Evansville\, IN\, 47712\, United States
CATEGORIES:Cowboy
END:VEVENT
BEGIN:VEVENT
DTSTART;TZID=UTC:20240416T183000
DTEND;TZID=UTC:20240416T200000
DTSTAMP:20260425T211451
CREATED:20231231T100907Z
LAST-MODIFIED:20231231T100931Z
UID:10001167-1713292200-1713297600@westsidesportsmens.com
SUMMARY:Rules & Regulations Committee Meeting
DESCRIPTION:
URL:https://westsidesportsmens.com/calendar/rules-regulations-committee-meeting/2024-04-16/
LOCATION:Club House
CATEGORIES:General Event
END:VEVENT
BEGIN:VEVENT
DTSTART;TZID=UTC:20240413T080000
DTEND;TZID=UTC:20240413T170000
DTSTAMP:20260425T211451
CREATED:20231231T100506Z
LAST-MODIFIED:20231231T100553Z
UID:10001107-1712995200-1713027600@westsidesportsmens.com
SUMMARY:Club Work Day
DESCRIPTION:
URL:https://westsidesportsmens.com/calendar/club-work-day-2/2024-04-13/
LOCATION:Club Wide Event
CATEGORIES:General Event
END:VEVENT
BEGIN:VEVENT
DTSTART;TZID=UTC:20240410T183000
DTEND;TZID=UTC:20240410T200000
DTSTAMP:20260425T211452
CREATED:20231231T094914Z
LAST-MODIFIED:20231231T095034Z
UID:10000840-1712773800-1712779200@westsidesportsmens.com
SUMMARY:Rifle Range Committee Meeting
DESCRIPTION:
URL:https://westsidesportsmens.com/calendar/rifle-range-committee-meeting-12/2024-04-10/
LOCATION:Club House
CATEGORIES:Rifle Range
END:VEVENT
BEGIN:VEVENT
DTSTART;TZID=UTC:20240409T183000
DTEND;TZID=UTC:20240409T203000
DTSTAMP:20260425T211452
CREATED:20231231T094748Z
LAST-MODIFIED:20240409T213104Z
UID:10001593-1712687400-1712694600@westsidesportsmens.com
SUMMARY:Facility Planning Committee Meeting
DESCRIPTION:
URL:https://westsidesportsmens.com/calendar/facility-planning-committee-meeting/2024-04-09/
LOCATION:Club House
CATEGORIES:Facility Planning
END:VEVENT
BEGIN:VEVENT
DTSTART;TZID=UTC:20240404T180000
DTEND;TZID=UTC:20240404T200000
DTSTAMP:20260425T211452
CREATED:20231231T094347Z
LAST-MODIFIED:20231231T095142Z
UID:10000899-1712253600-1712260800@westsidesportsmens.com
SUMMARY:Membership Committee Meeting
DESCRIPTION:
URL:https://westsidesportsmens.com/calendar/membership-committee-meeting-2/2024-04-04/
LOCATION:Club Office
CATEGORIES:Membership
END:VEVENT
BEGIN:VEVENT
DTSTART;TZID=UTC:20240401T190000
DTEND;TZID=UTC:20240401T210000
DTSTAMP:20260425T211452
CREATED:20231231T093611Z
LAST-MODIFIED:20231231T094546Z
UID:10000778-1711998000-1712005200@westsidesportsmens.com
SUMMARY:Cowboy Committee Meeting
DESCRIPTION:
URL:https://westsidesportsmens.com/calendar/cowboy-committee-meeting-3/2024-04-01/
LOCATION:Cookhouse\, 1000 Peerless Rd\, Evansville\, IN\, 47712\, United States
CATEGORIES:Cowboy
END:VEVENT
BEGIN:VEVENT
DTSTART;TZID=UTC:20240401T180000
DTEND;TZID=UTC:20240401T200000
DTSTAMP:20260425T211452
CREATED:20231231T092753Z
LAST-MODIFIED:20231231T093808Z
UID:10000718-1711994400-1712001600@westsidesportsmens.com
SUMMARY:IDPA Meeting
DESCRIPTION:
URL:https://westsidesportsmens.com/calendar/idpa-meeting-2/2024-04-01/
LOCATION:Club House
CATEGORIES:Practical Action Shooting
END:VEVENT
BEGIN:VEVENT
DTSTART;TZID=UTC:20240330T100000
DTEND;TZID=UTC:20240330T140000
DTSTAMP:20260425T211452
CREATED:20231231T112022Z
LAST-MODIFIED:20231231T112022Z
UID:10001449-1711792800-1711807200@westsidesportsmens.com
SUMMARY:Easter Egg Hunt
DESCRIPTION:
URL:https://westsidesportsmens.com/calendar/easter-egg-hunt/
LOCATION:Club Wide Event
CATEGORIES:Special Events
END:VEVENT
BEGIN:VEVENT
DTSTART;VALUE=DATE:20240325
DTEND;VALUE=DATE:20240326
DTSTAMP:20260425T211452
CREATED:20231231T112601Z
LAST-MODIFIED:20231231T112601Z
UID:10001509-1711324800-1711411199@westsidesportsmens.com
SUMMARY:Spring Trap League Starts
DESCRIPTION:
URL:https://westsidesportsmens.com/calendar/spring-trap-league-starts/
LOCATION:Trap Range
CATEGORIES:Trap Range
END:VEVENT
BEGIN:VEVENT
DTSTART;TZID=UTC:20240323T090000
DTEND;TZID=UTC:20240323T140000
DTSTAMP:20260425T211452
CREATED:20231231T110528Z
LAST-MODIFIED:20231231T110528Z
UID:10001407-1711184400-1711202400@westsidesportsmens.com
SUMMARY:Cowboy Shoot SASS
DESCRIPTION:
URL:https://westsidesportsmens.com/calendar/cowboy-shoot-sass/
LOCATION:Cowboy Town\, 1000 Peerless Rd\, Evansville\, IN\, 47712\, United States
CATEGORIES:Cowboy
END:VEVENT
BEGIN:VEVENT
DTSTART;TZID=UTC:20240321T180000
DTEND;TZID=UTC:20240321T200000
DTSTAMP:20260425T211452
CREATED:20231231T101252Z
LAST-MODIFIED:20231231T101315Z
UID:10001286-1711044000-1711051200@westsidesportsmens.com
SUMMARY:Technology Committee Meeting
DESCRIPTION:
URL:https://westsidesportsmens.com/calendar/technology-committee-meeting-3/2024-03-21/
LOCATION:Club Office
CATEGORIES:Technology Committee Meeting
ORGANIZER;CN="Brandon Greene":MAILTO:web@westsidesportsmans.com
END:VEVENT
BEGIN:VEVENT
DTSTART;TZID=UTC:20240320T183000
DTEND;TZID=UTC:20240320T203000
DTSTAMP:20260425T211452
CREATED:20231231T101107Z
LAST-MODIFIED:20231231T101123Z
UID:10001226-1710959400-1710966600@westsidesportsmens.com
SUMMARY:Board of Directors Meeting
DESCRIPTION:
URL:https://westsidesportsmens.com/calendar/board-of-directors-meeting-2/2024-03-20/
LOCATION:Club Office
CATEGORIES:General Event
END:VEVENT
BEGIN:VEVENT
DTSTART;TZID=UTC:20240320T080000
DTEND;TZID=UTC:20240320T110000
DTSTAMP:20260425T211452
CREATED:20231231T112319Z
LAST-MODIFIED:20231231T112413Z
UID:10001451-1710921600-1710932400@westsidesportsmens.com
SUMMARY:Cowboy Shoot Setup
DESCRIPTION:
URL:https://westsidesportsmens.com/calendar/cowboy-shoot-setup/2024-03-20/
LOCATION:Cowboy Town\, 1000 Peerless Rd\, Evansville\, IN\, 47712\, United States
CATEGORIES:Cowboy
END:VEVENT
BEGIN:VEVENT
DTSTART;TZID=UTC:20240319T183000
DTEND;TZID=UTC:20240319T200000
DTSTAMP:20260425T211452
CREATED:20231231T100907Z
LAST-MODIFIED:20231231T100931Z
UID:10001166-1710873000-1710878400@westsidesportsmens.com
SUMMARY:Rules & Regulations Committee Meeting
DESCRIPTION:
URL:https://westsidesportsmens.com/calendar/rules-regulations-committee-meeting/2024-03-19/
LOCATION:Club House
CATEGORIES:General Event
END:VEVENT
BEGIN:VEVENT
DTSTART;TZID=UTC:20240316T080000
DTEND;TZID=UTC:20240316T140000
DTSTAMP:20260425T211452
CREATED:20231231T101603Z
LAST-MODIFIED:20231231T101627Z
UID:10001346-1710576000-1710597600@westsidesportsmens.com
SUMMARY:IDPA Shoot
DESCRIPTION:
URL:https://westsidesportsmens.com/calendar/idpa-shoot/2024-03-16/
LOCATION:Event Bays
CATEGORIES:Practical Action Shooting
END:VEVENT
BEGIN:VEVENT
DTSTART;TZID=UTC:20240314T183000
DTEND;TZID=UTC:20240314T200000
DTSTAMP:20260425T211452
CREATED:20231231T095910Z
LAST-MODIFIED:20231231T100235Z
UID:10001075-1710441000-1710446400@westsidesportsmens.com
SUMMARY:Leadership Meeting
DESCRIPTION:
URL:https://westsidesportsmens.com/calendar/leadership-meeting-7/2024-03-14/
LOCATION:Club Office
CATEGORIES:General Event
END:VEVENT
BEGIN:VEVENT
DTSTART;TZID=UTC:20240313T183000
DTEND;TZID=UTC:20240313T200000
DTSTAMP:20260425T211452
CREATED:20231231T094914Z
LAST-MODIFIED:20231231T095034Z
UID:10000839-1710354600-1710360000@westsidesportsmens.com
SUMMARY:Rifle Range Committee Meeting
DESCRIPTION:
URL:https://westsidesportsmens.com/calendar/rifle-range-committee-meeting-12/2024-03-13/
LOCATION:Club House
CATEGORIES:Rifle Range
END:VEVENT
BEGIN:VEVENT
DTSTART;TZID=UTC:20240312T183000
DTEND;TZID=UTC:20240312T203000
DTSTAMP:20260425T211452
CREATED:20231231T094748Z
LAST-MODIFIED:20240409T213104Z
UID:10001592-1710268200-1710275400@westsidesportsmens.com
SUMMARY:Facility Planning Committee Meeting
DESCRIPTION:
URL:https://westsidesportsmens.com/calendar/facility-planning-committee-meeting/2024-03-12/
LOCATION:Club House
CATEGORIES:Facility Planning
END:VEVENT
BEGIN:VEVENT
DTSTART;TZID=UTC:20240309T080000
DTEND;TZID=UTC:20240309T170000
DTSTAMP:20260425T211452
CREATED:20231231T100506Z
LAST-MODIFIED:20231231T100553Z
UID:10001106-1709971200-1710003600@westsidesportsmens.com
SUMMARY:Club Work Day
DESCRIPTION:
URL:https://westsidesportsmens.com/calendar/club-work-day-2/2024-03-09/
LOCATION:Club Wide Event
CATEGORIES:General Event
END:VEVENT
BEGIN:VEVENT
DTSTART;VALUE=DATE:20240309
DTEND;VALUE=DATE:20240310
DTSTAMP:20260425T211452
CREATED:20240301T003831Z
LAST-MODIFIED:20240301T003831Z
UID:10001588-1709942400-1710028799@westsidesportsmens.com
SUMMARY:IDPA Range Safety Officer Training
DESCRIPTION:
URL:https://westsidesportsmens.com/calendar/idpa-range-safety-officer-training/
LOCATION:Club House
CATEGORIES:Firearms Training,Practical Action Shooting,Special Events
END:VEVENT
BEGIN:VEVENT
DTSTART;TZID=UTC:20240307T180000
DTEND;TZID=UTC:20240307T200000
DTSTAMP:20260425T211452
CREATED:20231231T094347Z
LAST-MODIFIED:20231231T095142Z
UID:10000898-1709834400-1709841600@westsidesportsmens.com
SUMMARY:Membership Committee Meeting
DESCRIPTION:
URL:https://westsidesportsmens.com/calendar/membership-committee-meeting-2/2024-03-07/
LOCATION:Club Office
CATEGORIES:Membership
END:VEVENT
BEGIN:VEVENT
DTSTART;TZID=UTC:20240304T190000
DTEND;TZID=UTC:20240304T210000
DTSTAMP:20260425T211452
CREATED:20231231T093611Z
LAST-MODIFIED:20231231T094546Z
UID:10000777-1709578800-1709586000@westsidesportsmens.com
SUMMARY:Cowboy Committee Meeting
DESCRIPTION:
URL:https://westsidesportsmens.com/calendar/cowboy-committee-meeting-3/2024-03-04/
LOCATION:Cookhouse\, 1000 Peerless Rd\, Evansville\, IN\, 47712\, United States
CATEGORIES:Cowboy
END:VEVENT
END:VCALENDAR