BEGIN:VCALENDAR
VERSION:2.0
PRODID:-//West Side Sportsmans Club - ECPv6.15.15//NONSGML v1.0//EN
CALSCALE:GREGORIAN
METHOD:PUBLISH
X-ORIGINAL-URL:https://westsidesportsmens.com
X-WR-CALDESC:Events for West Side Sportsmans Club
REFRESH-INTERVAL;VALUE=DURATION:PT1H
X-Robots-Tag:noindex
X-PUBLISHED-TTL:PT1H
BEGIN:VTIMEZONE
TZID:America/Chicago
BEGIN:DAYLIGHT
TZOFFSETFROM:-0600
TZOFFSETTO:-0500
TZNAME:CDT
DTSTART:20270314T080000
END:DAYLIGHT
BEGIN:STANDARD
TZOFFSETFROM:-0500
TZOFFSETTO:-0600
TZNAME:CST
DTSTART:20271107T070000
END:STANDARD
BEGIN:DAYLIGHT
TZOFFSETFROM:-0600
TZOFFSETTO:-0500
TZNAME:CDT
DTSTART:20280312T080000
END:DAYLIGHT
BEGIN:STANDARD
TZOFFSETFROM:-0500
TZOFFSETTO:-0600
TZNAME:CST
DTSTART:20281105T070000
END:STANDARD
BEGIN:DAYLIGHT
TZOFFSETFROM:-0600
TZOFFSETTO:-0500
TZNAME:CDT
DTSTART:20290311T080000
END:DAYLIGHT
BEGIN:STANDARD
TZOFFSETFROM:-0500
TZOFFSETTO:-0600
TZNAME:CST
DTSTART:20291104T070000
END:STANDARD
END:VTIMEZONE
BEGIN:VTIMEZONE
TZID:UTC
BEGIN:STANDARD
TZOFFSETFROM:+0000
TZOFFSETTO:+0000
TZNAME:UTC
DTSTART:20270101T000000
END:STANDARD
END:VTIMEZONE
BEGIN:VEVENT
DTSTART;TZID=America/Chicago:20280301T190000
DTEND;TZID=America/Chicago:20280301T203000
DTSTAMP:20260423T130027
CREATED:20250306T000144Z
LAST-MODIFIED:20250719T215717Z
UID:10001655-1835550000-1835555400@westsidesportsmens.com
SUMMARY:General Member Meeting
DESCRIPTION:
URL:https://westsidesportsmens.com/calendar/general-member-meeting/2028-03-01/
LOCATION:Club House
CATEGORIES:General Event
END:VEVENT
BEGIN:VEVENT
DTSTART;TZID=UTC:20280302T180000
DTEND;TZID=UTC:20280302T200000
DTSTAMP:20260423T130027
CREATED:20231231T094347Z
LAST-MODIFIED:20231231T095142Z
UID:10000946-1835632800-1835640000@westsidesportsmens.com
SUMMARY:Membership Committee Meeting
DESCRIPTION:
URL:https://westsidesportsmens.com/calendar/membership-committee-meeting-2/2028-03-02/
LOCATION:Club Office
CATEGORIES:Membership
END:VEVENT
BEGIN:VEVENT
DTSTART;TZID=UTC:20280306T180000
DTEND;TZID=UTC:20280306T200000
DTSTAMP:20260423T130027
CREATED:20231231T092753Z
LAST-MODIFIED:20231231T093808Z
UID:10000765-1835978400-1835985600@westsidesportsmens.com
SUMMARY:IDPA Meeting
DESCRIPTION:
URL:https://westsidesportsmens.com/calendar/idpa-meeting-2/2028-03-06/
LOCATION:Club House
CATEGORIES:Practical Action Shooting
END:VEVENT
BEGIN:VEVENT
DTSTART;TZID=UTC:20280306T190000
DTEND;TZID=UTC:20280306T210000
DTSTAMP:20260423T130027
CREATED:20231231T093611Z
LAST-MODIFIED:20231231T094546Z
UID:10000825-1835982000-1835989200@westsidesportsmens.com
SUMMARY:Cowboy Committee Meeting
DESCRIPTION:
URL:https://westsidesportsmens.com/calendar/cowboy-committee-meeting-3/2028-03-06/
LOCATION:Cookhouse\, 1000 Peerless Rd\, Evansville\, IN\, 47712\, United States
CATEGORIES:Cowboy
END:VEVENT
BEGIN:VEVENT
DTSTART;TZID=UTC:20280308T183000
DTEND;TZID=UTC:20280308T200000
DTSTAMP:20260423T130027
CREATED:20231231T094914Z
LAST-MODIFIED:20231231T095034Z
UID:10000887-1836153000-1836158400@westsidesportsmens.com
SUMMARY:Rifle Range Committee Meeting
DESCRIPTION:
URL:https://westsidesportsmens.com/calendar/rifle-range-committee-meeting-12/2028-03-08/
LOCATION:Club House
CATEGORIES:Rifle Range
END:VEVENT
BEGIN:VEVENT
DTSTART;TZID=UTC:20280309T183000
DTEND;TZID=UTC:20280309T200000
DTSTAMP:20260423T130027
CREATED:20231231T095910Z
LAST-MODIFIED:20231231T100235Z
UID:10001099-1836239400-1836244800@westsidesportsmens.com
SUMMARY:Leadership Meeting
DESCRIPTION:
URL:https://westsidesportsmens.com/calendar/leadership-meeting-7/2028-03-09/
LOCATION:Club Office
CATEGORIES:General Event
END:VEVENT
BEGIN:VEVENT
DTSTART;TZID=UTC:20280311T080000
DTEND;TZID=UTC:20280311T170000
DTSTAMP:20260423T130027
CREATED:20231231T100506Z
LAST-MODIFIED:20231231T100553Z
UID:10001154-1836374400-1836406800@westsidesportsmens.com
SUMMARY:Club Work Day
DESCRIPTION:
URL:https://westsidesportsmens.com/calendar/club-work-day-2/2028-03-11/
LOCATION:Club Wide Event
CATEGORIES:General Event
END:VEVENT
BEGIN:VEVENT
DTSTART;TZID=UTC:20280315T080000
DTEND;TZID=UTC:20280315T110000
DTSTAMP:20260423T130027
CREATED:20231231T112319Z
LAST-MODIFIED:20231231T112413Z
UID:10001499-1836720000-1836730800@westsidesportsmens.com
SUMMARY:Cowboy Shoot Setup
DESCRIPTION:
URL:https://westsidesportsmens.com/calendar/cowboy-shoot-setup/2028-03-15/
LOCATION:Cowboy Town\, 1000 Peerless Rd\, Evansville\, IN\, 47712\, United States
CATEGORIES:Cowboy
END:VEVENT
BEGIN:VEVENT
DTSTART;TZID=UTC:20280315T183000
DTEND;TZID=UTC:20280315T203000
DTSTAMP:20260423T130027
CREATED:20231231T101107Z
LAST-MODIFIED:20231231T101123Z
UID:10001274-1836757800-1836765000@westsidesportsmens.com
SUMMARY:Board of Directors Meeting
DESCRIPTION:
URL:https://westsidesportsmens.com/calendar/board-of-directors-meeting-2/2028-03-15/
LOCATION:Club Office
CATEGORIES:General Event
END:VEVENT
BEGIN:VEVENT
DTSTART;TZID=UTC:20280318T080000
DTEND;TZID=UTC:20280318T140000
DTSTAMP:20260423T130027
CREATED:20250306T001902Z
LAST-MODIFIED:20250719T215717Z
UID:10001739-1836979200-1837000800@westsidesportsmens.com
SUMMARY:IDPA Shoot
DESCRIPTION:
URL:https://westsidesportsmens.com/calendar/idpa-shoot-2/2028-03-18/
LOCATION:Event Bays
CATEGORIES:Practical Action Shooting
END:VEVENT
BEGIN:VEVENT
DTSTART;TZID=UTC:20280321T183000
DTEND;TZID=UTC:20280321T200000
DTSTAMP:20260423T130027
CREATED:20231231T100907Z
LAST-MODIFIED:20231231T100931Z
UID:10001214-1837276200-1837281600@westsidesportsmens.com
SUMMARY:Rules & Regulations Committee Meeting
DESCRIPTION:
URL:https://westsidesportsmens.com/calendar/rules-regulations-committee-meeting/2028-03-21/
LOCATION:Club House
CATEGORIES:General Event
END:VEVENT
BEGIN:VEVENT
DTSTART;TZID=America/Chicago:20280322T080000
DTEND;TZID=America/Chicago:20280322T120000
DTSTAMP:20260423T130027
CREATED:20250306T011312Z
LAST-MODIFIED:20250719T215716Z
UID:10001859-1837324800-1837339200@westsidesportsmens.com
SUMMARY:Cowboy Match Setup
DESCRIPTION:
URL:https://westsidesportsmens.com/calendar/cowboy-match-setup-3/2028-03-22/
LOCATION:Cowboy Town\, 1000 Peerless Rd\, Evansville\, IN\, 47712\, United States
CATEGORIES:Cowboy
END:VEVENT
BEGIN:VEVENT
DTSTART;TZID=America/Chicago:20280325T090000
DTEND;TZID=America/Chicago:20280325T160000
DTSTAMP:20260423T130027
CREATED:20250306T011126Z
LAST-MODIFIED:20250719T215715Z
UID:10001800-1837587600-1837612800@westsidesportsmens.com
SUMMARY:Cowboy SASS Match
DESCRIPTION:
URL:https://westsidesportsmens.com/calendar/cowboy-sass-match-2/2028-03-25/
LOCATION:Cookhouse\, 1000 Peerless Rd\, Evansville\, IN\, 47712\, United States
CATEGORIES:Cowboy
END:VEVENT
BEGIN:VEVENT
DTSTART;TZID=UTC:20280403T180000
DTEND;TZID=UTC:20280403T200000
DTSTAMP:20260423T130027
CREATED:20231231T092753Z
LAST-MODIFIED:20231231T093808Z
UID:10000766-1838397600-1838404800@westsidesportsmens.com
SUMMARY:IDPA Meeting
DESCRIPTION:
URL:https://westsidesportsmens.com/calendar/idpa-meeting-2/2028-04-03/
LOCATION:Club House
CATEGORIES:Practical Action Shooting
END:VEVENT
BEGIN:VEVENT
DTSTART;TZID=UTC:20280403T190000
DTEND;TZID=UTC:20280403T210000
DTSTAMP:20260423T130027
CREATED:20231231T093611Z
LAST-MODIFIED:20231231T094546Z
UID:10000826-1838401200-1838408400@westsidesportsmens.com
SUMMARY:Cowboy Committee Meeting
DESCRIPTION:
URL:https://westsidesportsmens.com/calendar/cowboy-committee-meeting-3/2028-04-03/
LOCATION:Cookhouse\, 1000 Peerless Rd\, Evansville\, IN\, 47712\, United States
CATEGORIES:Cowboy
END:VEVENT
BEGIN:VEVENT
DTSTART;TZID=America/Chicago:20280405T190000
DTEND;TZID=America/Chicago:20280405T203000
DTSTAMP:20260423T130027
CREATED:20250306T000144Z
LAST-MODIFIED:20250719T215717Z
UID:10001656-1838574000-1838579400@westsidesportsmens.com
SUMMARY:General Member Meeting
DESCRIPTION:
URL:https://westsidesportsmens.com/calendar/general-member-meeting/2028-04-05/
LOCATION:Club House
CATEGORIES:General Event
END:VEVENT
BEGIN:VEVENT
DTSTART;TZID=UTC:20280406T180000
DTEND;TZID=UTC:20280406T200000
DTSTAMP:20260423T130027
CREATED:20231231T094347Z
LAST-MODIFIED:20231231T095142Z
UID:10000947-1838656800-1838664000@westsidesportsmens.com
SUMMARY:Membership Committee Meeting
DESCRIPTION:
URL:https://westsidesportsmens.com/calendar/membership-committee-meeting-2/2028-04-06/
LOCATION:Club Office
CATEGORIES:Membership
END:VEVENT
BEGIN:VEVENT
DTSTART;TZID=UTC:20280408T080000
DTEND;TZID=UTC:20280408T170000
DTSTAMP:20260423T130027
CREATED:20231231T100506Z
LAST-MODIFIED:20231231T100553Z
UID:10001155-1838793600-1838826000@westsidesportsmens.com
SUMMARY:Club Work Day
DESCRIPTION:
URL:https://westsidesportsmens.com/calendar/club-work-day-2/2028-04-08/
LOCATION:Club Wide Event
CATEGORIES:General Event
END:VEVENT
BEGIN:VEVENT
DTSTART;TZID=UTC:20280412T183000
DTEND;TZID=UTC:20280412T200000
DTSTAMP:20260423T130027
CREATED:20231231T094914Z
LAST-MODIFIED:20231231T095034Z
UID:10000888-1839177000-1839182400@westsidesportsmens.com
SUMMARY:Rifle Range Committee Meeting
DESCRIPTION:
URL:https://westsidesportsmens.com/calendar/rifle-range-committee-meeting-12/2028-04-12/
LOCATION:Club House
CATEGORIES:Rifle Range
END:VEVENT
BEGIN:VEVENT
DTSTART;TZID=UTC:20280415T080000
DTEND;TZID=UTC:20280415T140000
DTSTAMP:20260423T130027
CREATED:20250306T001902Z
LAST-MODIFIED:20250719T215717Z
UID:10001740-1839398400-1839420000@westsidesportsmens.com
SUMMARY:IDPA Shoot
DESCRIPTION:
URL:https://westsidesportsmens.com/calendar/idpa-shoot-2/2028-04-15/
LOCATION:Event Bays
CATEGORIES:Practical Action Shooting
END:VEVENT
BEGIN:VEVENT
DTSTART;TZID=UTC:20280418T183000
DTEND;TZID=UTC:20280418T200000
DTSTAMP:20260423T130027
CREATED:20231231T100907Z
LAST-MODIFIED:20231231T100931Z
UID:10001215-1839695400-1839700800@westsidesportsmens.com
SUMMARY:Rules & Regulations Committee Meeting
DESCRIPTION:
URL:https://westsidesportsmens.com/calendar/rules-regulations-committee-meeting/2028-04-18/
LOCATION:Club House
CATEGORIES:General Event
END:VEVENT
BEGIN:VEVENT
DTSTART;TZID=UTC:20280419T080000
DTEND;TZID=UTC:20280419T110000
DTSTAMP:20260423T130027
CREATED:20231231T112319Z
LAST-MODIFIED:20231231T112413Z
UID:10001500-1839744000-1839754800@westsidesportsmens.com
SUMMARY:Cowboy Shoot Setup
DESCRIPTION:
URL:https://westsidesportsmens.com/calendar/cowboy-shoot-setup/2028-04-19/
LOCATION:Cowboy Town\, 1000 Peerless Rd\, Evansville\, IN\, 47712\, United States
CATEGORIES:Cowboy
END:VEVENT
BEGIN:VEVENT
DTSTART;TZID=UTC:20280419T183000
DTEND;TZID=UTC:20280419T203000
DTSTAMP:20260423T130027
CREATED:20231231T101107Z
LAST-MODIFIED:20231231T101123Z
UID:10001275-1839781800-1839789000@westsidesportsmens.com
SUMMARY:Board of Directors Meeting
DESCRIPTION:
URL:https://westsidesportsmens.com/calendar/board-of-directors-meeting-2/2028-04-19/
LOCATION:Club Office
CATEGORIES:General Event
END:VEVENT
BEGIN:VEVENT
DTSTART;TZID=America/Chicago:20280422T090000
DTEND;TZID=America/Chicago:20280422T160000
DTSTAMP:20260423T130027
CREATED:20250306T011126Z
LAST-MODIFIED:20250719T215715Z
UID:10001801-1840006800-1840032000@westsidesportsmens.com
SUMMARY:Cowboy SASS Match
DESCRIPTION:
URL:https://westsidesportsmens.com/calendar/cowboy-sass-match-2/2028-04-22/
LOCATION:Cookhouse\, 1000 Peerless Rd\, Evansville\, IN\, 47712\, United States
CATEGORIES:Cowboy
END:VEVENT
BEGIN:VEVENT
DTSTART;TZID=America/Chicago:20280426T080000
DTEND;TZID=America/Chicago:20280426T120000
DTSTAMP:20260423T130027
CREATED:20250306T011312Z
LAST-MODIFIED:20250719T215716Z
UID:10001860-1840348800-1840363200@westsidesportsmens.com
SUMMARY:Cowboy Match Setup
DESCRIPTION:
URL:https://westsidesportsmens.com/calendar/cowboy-match-setup-3/2028-04-26/
LOCATION:Cowboy Town\, 1000 Peerless Rd\, Evansville\, IN\, 47712\, United States
CATEGORIES:Cowboy
END:VEVENT
BEGIN:VEVENT
DTSTART;TZID=UTC:20280501T180000
DTEND;TZID=UTC:20280501T200000
DTSTAMP:20260423T130027
CREATED:20231231T092753Z
LAST-MODIFIED:20231231T093808Z
UID:10000767-1840816800-1840824000@westsidesportsmens.com
SUMMARY:IDPA Meeting
DESCRIPTION:
URL:https://westsidesportsmens.com/calendar/idpa-meeting-2/2028-05-01/
LOCATION:Club House
CATEGORIES:Practical Action Shooting
END:VEVENT
BEGIN:VEVENT
DTSTART;TZID=UTC:20280501T190000
DTEND;TZID=UTC:20280501T210000
DTSTAMP:20260423T130027
CREATED:20231231T093611Z
LAST-MODIFIED:20231231T094546Z
UID:10000827-1840820400-1840827600@westsidesportsmens.com
SUMMARY:Cowboy Committee Meeting
DESCRIPTION:
URL:https://westsidesportsmens.com/calendar/cowboy-committee-meeting-3/2028-05-01/
LOCATION:Cookhouse\, 1000 Peerless Rd\, Evansville\, IN\, 47712\, United States
CATEGORIES:Cowboy
END:VEVENT
BEGIN:VEVENT
DTSTART;TZID=America/Chicago:20280503T190000
DTEND;TZID=America/Chicago:20280503T203000
DTSTAMP:20260423T130027
CREATED:20250306T000144Z
LAST-MODIFIED:20250719T215717Z
UID:10001657-1840993200-1840998600@westsidesportsmens.com
SUMMARY:General Member Meeting
DESCRIPTION:
URL:https://westsidesportsmens.com/calendar/general-member-meeting/2028-05-03/
LOCATION:Club House
CATEGORIES:General Event
END:VEVENT
BEGIN:VEVENT
DTSTART;TZID=UTC:20280504T180000
DTEND;TZID=UTC:20280504T200000
DTSTAMP:20260423T130027
CREATED:20231231T094347Z
LAST-MODIFIED:20231231T095142Z
UID:10000948-1841076000-1841083200@westsidesportsmens.com
SUMMARY:Membership Committee Meeting
DESCRIPTION:
URL:https://westsidesportsmens.com/calendar/membership-committee-meeting-2/2028-05-04/
LOCATION:Club Office
CATEGORIES:Membership
END:VEVENT
BEGIN:VEVENT
DTSTART;TZID=UTC:20280510T183000
DTEND;TZID=UTC:20280510T200000
DTSTAMP:20260423T130027
CREATED:20231231T094914Z
LAST-MODIFIED:20231231T095034Z
UID:10000889-1841596200-1841601600@westsidesportsmens.com
SUMMARY:Rifle Range Committee Meeting
DESCRIPTION:
URL:https://westsidesportsmens.com/calendar/rifle-range-committee-meeting-12/2028-05-10/
LOCATION:Club House
CATEGORIES:Rifle Range
END:VEVENT
END:VCALENDAR