BEGIN:VCALENDAR
VERSION:2.0
PRODID:-//West Side Sportsmans Club - ECPv6.15.15//NONSGML v1.0//EN
CALSCALE:GREGORIAN
METHOD:PUBLISH
X-WR-CALNAME:West Side Sportsmans Club
X-ORIGINAL-URL:https://westsidesportsmens.com
X-WR-CALDESC:Events for West Side Sportsmans Club
REFRESH-INTERVAL;VALUE=DURATION:PT1H
X-Robots-Tag:noindex
X-PUBLISHED-TTL:PT1H
BEGIN:VTIMEZONE
TZID:UTC
BEGIN:STANDARD
TZOFFSETFROM:+0000
TZOFFSETTO:+0000
TZNAME:UTC
DTSTART:20230101T000000
END:STANDARD
END:VTIMEZONE
BEGIN:VTIMEZONE
TZID:America/Chicago
BEGIN:DAYLIGHT
TZOFFSETFROM:-0600
TZOFFSETTO:-0500
TZNAME:CDT
DTSTART:20230312T080000
END:DAYLIGHT
BEGIN:STANDARD
TZOFFSETFROM:-0500
TZOFFSETTO:-0600
TZNAME:CST
DTSTART:20231105T070000
END:STANDARD
BEGIN:DAYLIGHT
TZOFFSETFROM:-0600
TZOFFSETTO:-0500
TZNAME:CDT
DTSTART:20240310T080000
END:DAYLIGHT
BEGIN:STANDARD
TZOFFSETFROM:-0500
TZOFFSETTO:-0600
TZNAME:CST
DTSTART:20241103T070000
END:STANDARD
BEGIN:DAYLIGHT
TZOFFSETFROM:-0600
TZOFFSETTO:-0500
TZNAME:CDT
DTSTART:20250309T080000
END:DAYLIGHT
BEGIN:STANDARD
TZOFFSETFROM:-0500
TZOFFSETTO:-0600
TZNAME:CST
DTSTART:20251102T070000
END:STANDARD
END:VTIMEZONE
BEGIN:VEVENT
DTSTART;TZID=UTC:20240917T183000
DTEND;TZID=UTC:20240917T200000
DTSTAMP:20260423T170404
CREATED:20231231T100907Z
LAST-MODIFIED:20231231T100931Z
UID:10001172-1726597800-1726603200@westsidesportsmens.com
SUMMARY:Rules & Regulations Committee Meeting
DESCRIPTION:
URL:https://westsidesportsmens.com/calendar/rules-regulations-committee-meeting/2024-09-17/
LOCATION:Club House
CATEGORIES:General Event
END:VEVENT
BEGIN:VEVENT
DTSTART;TZID=UTC:20240915T120000
DTEND;TZID=UTC:20240915T170000
DTSTAMP:20260423T170404
CREATED:20231231T111752Z
LAST-MODIFIED:20231231T111833Z
UID:10001438-1726401600-1726419600@westsidesportsmens.com
SUMMARY:Spot Shoot Fall
DESCRIPTION:
URL:https://westsidesportsmens.com/calendar/spot-shoot-fall/2024-09-15/
LOCATION:Spot Range
CATEGORIES:Spot Shoot
ORGANIZER;CN="Kraig Hausmann":MAILTO:kraighausmann@gmail.com
END:VEVENT
BEGIN:VEVENT
DTSTART;TZID=UTC:20240914T080000
DTEND;TZID=UTC:20240914T170000
DTSTAMP:20260423T170404
CREATED:20231231T100506Z
LAST-MODIFIED:20231231T100553Z
UID:10001112-1726300800-1726333200@westsidesportsmens.com
SUMMARY:Club Work Day
DESCRIPTION:
URL:https://westsidesportsmens.com/calendar/club-work-day-2/2024-09-14/
LOCATION:Club Wide Event
CATEGORIES:General Event
END:VEVENT
BEGIN:VEVENT
DTSTART;TZID=UTC:20240912T183000
DTEND;TZID=UTC:20240912T200000
DTSTAMP:20260423T170404
CREATED:20231231T095910Z
LAST-MODIFIED:20231231T100235Z
UID:10001078-1726165800-1726171200@westsidesportsmens.com
SUMMARY:Leadership Meeting
DESCRIPTION:
URL:https://westsidesportsmens.com/calendar/leadership-meeting-7/2024-09-12/
LOCATION:Club Office
CATEGORIES:General Event
END:VEVENT
BEGIN:VEVENT
DTSTART;TZID=UTC:20240911T183000
DTEND;TZID=UTC:20240911T200000
DTSTAMP:20260423T170404
CREATED:20231231T094914Z
LAST-MODIFIED:20231231T095034Z
UID:10000845-1726079400-1726084800@westsidesportsmens.com
SUMMARY:Rifle Range Committee Meeting
DESCRIPTION:
URL:https://westsidesportsmens.com/calendar/rifle-range-committee-meeting-12/2024-09-11/
LOCATION:Club House
CATEGORIES:Rifle Range
END:VEVENT
BEGIN:VEVENT
DTSTART;TZID=America/Chicago:20240907T080000
DTEND;TZID=America/Chicago:20240907T120000
DTSTAMP:20260423T170404
CREATED:20240430T230350Z
LAST-MODIFIED:20240430T230350Z
UID:10001602-1725696000-1725710400@westsidesportsmens.com
SUMMARY:Basic Handgun Training
DESCRIPTION:
URL:https://westsidesportsmens.com/calendar/basic-handgun-training-2/
LOCATION:Club House
CATEGORIES:Firearms Training
ORGANIZER;CN="Brent Gariby":MAILTO:brent.garibay@gmail.com
END:VEVENT
BEGIN:VEVENT
DTSTART;TZID=UTC:20240905T180000
DTEND;TZID=UTC:20240905T200000
DTSTAMP:20260423T170404
CREATED:20231231T094347Z
LAST-MODIFIED:20231231T095142Z
UID:10000904-1725559200-1725566400@westsidesportsmens.com
SUMMARY:Membership Committee Meeting
DESCRIPTION:
URL:https://westsidesportsmens.com/calendar/membership-committee-meeting-2/2024-09-05/
LOCATION:Club Office
CATEGORIES:Membership
END:VEVENT
BEGIN:VEVENT
DTSTART;TZID=UTC:20240902T190000
DTEND;TZID=UTC:20240902T210000
DTSTAMP:20260423T170404
CREATED:20231231T093611Z
LAST-MODIFIED:20231231T094546Z
UID:10000783-1725303600-1725310800@westsidesportsmens.com
SUMMARY:Cowboy Committee Meeting
DESCRIPTION:
URL:https://westsidesportsmens.com/calendar/cowboy-committee-meeting-3/2024-09-02/
LOCATION:Cookhouse\, 1000 Peerless Rd\, Evansville\, IN\, 47712\, United States
CATEGORIES:Cowboy
END:VEVENT
BEGIN:VEVENT
DTSTART;TZID=UTC:20240902T180000
DTEND;TZID=UTC:20240902T200000
DTSTAMP:20260423T170404
CREATED:20231231T092753Z
LAST-MODIFIED:20231231T093808Z
UID:10000723-1725300000-1725307200@westsidesportsmens.com
SUMMARY:IDPA Meeting
DESCRIPTION:
URL:https://westsidesportsmens.com/calendar/idpa-meeting-2/2024-09-02/
LOCATION:Club House
CATEGORIES:Practical Action Shooting
END:VEVENT
BEGIN:VEVENT
DTSTART;TZID=UTC:20240901T120000
DTEND;TZID=UTC:20240901T170000
DTSTAMP:20260423T170404
CREATED:20231231T111501Z
LAST-MODIFIED:20231231T111605Z
UID:10001437-1725192000-1725210000@westsidesportsmens.com
SUMMARY:Spot Shoot Round Robin
DESCRIPTION:
URL:https://westsidesportsmens.com/calendar/spot-shoot-round-robin/2024-09-01/
LOCATION:Spot Range
CATEGORIES:Spot Shoot
ORGANIZER;CN="Kraig Hausmann":MAILTO:kraighausmann@gmail.com
END:VEVENT
BEGIN:VEVENT
DTSTART;TZID=UTC:20240824T090000
DTEND;TZID=UTC:20240824T140000
DTSTAMP:20260423T170404
CREATED:20231231T112150Z
LAST-MODIFIED:20231231T114342Z
UID:10001521-1724490000-1724508000@westsidesportsmens.com
SUMMARY:Cowboy Shoot SASS
DESCRIPTION:
URL:https://westsidesportsmens.com/calendar/cowboy-shoot-sass-2/2024-08-24/
LOCATION:Cowboy Town\, 1000 Peerless Rd\, Evansville\, IN\, 47712\, United States
CATEGORIES:Cowboy
END:VEVENT
BEGIN:VEVENT
DTSTART;TZID=America/Chicago:20240824T080000
DTEND;TZID=America/Chicago:20240824T120000
DTSTAMP:20260423T170404
CREATED:20240430T230154Z
LAST-MODIFIED:20240430T230154Z
UID:10001601-1724486400-1724500800@westsidesportsmens.com
SUMMARY:Conceal Carry Training
DESCRIPTION:
URL:https://westsidesportsmens.com/calendar/conceal-carry-training/
LOCATION:Club House
CATEGORIES:Firearms Training
ORGANIZER;CN="Brent Gariby":MAILTO:brent.garibay@gmail.com
END:VEVENT
BEGIN:VEVENT
DTSTART;TZID=UTC:20240821T183000
DTEND;TZID=UTC:20240821T203000
DTSTAMP:20260423T170404
CREATED:20231231T101107Z
LAST-MODIFIED:20231231T101123Z
UID:10001231-1724265000-1724272200@westsidesportsmens.com
SUMMARY:Board of Directors Meeting
DESCRIPTION:
URL:https://westsidesportsmens.com/calendar/board-of-directors-meeting-2/2024-08-21/
LOCATION:Club Office
CATEGORIES:General Event
END:VEVENT
BEGIN:VEVENT
DTSTART;TZID=UTC:20240821T080000
DTEND;TZID=UTC:20240821T110000
DTSTAMP:20260423T170404
CREATED:20231231T112319Z
LAST-MODIFIED:20231231T112413Z
UID:10001456-1724227200-1724238000@westsidesportsmens.com
SUMMARY:Cowboy Shoot Setup
DESCRIPTION:
URL:https://westsidesportsmens.com/calendar/cowboy-shoot-setup/2024-08-21/
LOCATION:Cowboy Town\, 1000 Peerless Rd\, Evansville\, IN\, 47712\, United States
CATEGORIES:Cowboy
END:VEVENT
BEGIN:VEVENT
DTSTART;TZID=UTC:20240820T183000
DTEND;TZID=UTC:20240820T200000
DTSTAMP:20260423T170404
CREATED:20231231T100907Z
LAST-MODIFIED:20231231T100931Z
UID:10001171-1724178600-1724184000@westsidesportsmens.com
SUMMARY:Rules & Regulations Committee Meeting
DESCRIPTION:
URL:https://westsidesportsmens.com/calendar/rules-regulations-committee-meeting/2024-08-20/
LOCATION:Club House
CATEGORIES:General Event
END:VEVENT
BEGIN:VEVENT
DTSTART;TZID=UTC:20240817T080000
DTEND;TZID=UTC:20240817T140000
DTSTAMP:20260423T170404
CREATED:20231231T101603Z
LAST-MODIFIED:20231231T101627Z
UID:10001351-1723881600-1723903200@westsidesportsmens.com
SUMMARY:IDPA Shoot
DESCRIPTION:
URL:https://westsidesportsmens.com/calendar/idpa-shoot/2024-08-17/
LOCATION:Event Bays
CATEGORIES:Practical Action Shooting
END:VEVENT
BEGIN:VEVENT
DTSTART;TZID=UTC:20240814T183000
DTEND;TZID=UTC:20240814T200000
DTSTAMP:20260423T170404
CREATED:20231231T094914Z
LAST-MODIFIED:20231231T095034Z
UID:10000844-1723660200-1723665600@westsidesportsmens.com
SUMMARY:Rifle Range Committee Meeting
DESCRIPTION:
URL:https://westsidesportsmens.com/calendar/rifle-range-committee-meeting-12/2024-08-14/
LOCATION:Club House
CATEGORIES:Rifle Range
END:VEVENT
BEGIN:VEVENT
DTSTART;VALUE=DATE:20240812
DTEND;VALUE=DATE:20240813
DTSTAMP:20260423T170404
CREATED:20231231T113347Z
LAST-MODIFIED:20231231T113347Z
UID:10001513-1723420800-1723507199@westsidesportsmens.com
SUMMARY:Fall Trap League Begins
DESCRIPTION:
URL:https://westsidesportsmens.com/calendar/fall-trap-league-begins/
LOCATION:Trap Range
CATEGORIES:Trap Range
END:VEVENT
BEGIN:VEVENT
DTSTART;TZID=UTC:20240810T080000
DTEND;TZID=UTC:20240810T170000
DTSTAMP:20260423T170404
CREATED:20231231T100506Z
LAST-MODIFIED:20231231T100553Z
UID:10001111-1723276800-1723309200@westsidesportsmens.com
SUMMARY:Club Work Day
DESCRIPTION:
URL:https://westsidesportsmens.com/calendar/club-work-day-2/2024-08-10/
LOCATION:Club Wide Event
CATEGORIES:General Event
END:VEVENT
BEGIN:VEVENT
DTSTART;TZID=America/Chicago:20240810T080000
DTEND;TZID=America/Chicago:20240810T120000
DTSTAMP:20260423T170404
CREATED:20240430T230052Z
LAST-MODIFIED:20240430T230052Z
UID:10001600-1723276800-1723291200@westsidesportsmens.com
SUMMARY:Women Only Firearms Class
DESCRIPTION:
URL:https://westsidesportsmens.com/calendar/women-only-firearms-class/
LOCATION:Club House
CATEGORIES:Firearms Training
ORGANIZER;CN="Brent Gariby":MAILTO:brent.garibay@gmail.com
END:VEVENT
BEGIN:VEVENT
DTSTART;TZID=UTC:20240805T190000
DTEND;TZID=UTC:20240805T210000
DTSTAMP:20260423T170404
CREATED:20231231T093611Z
LAST-MODIFIED:20231231T094546Z
UID:10000782-1722884400-1722891600@westsidesportsmens.com
SUMMARY:Cowboy Committee Meeting
DESCRIPTION:
URL:https://westsidesportsmens.com/calendar/cowboy-committee-meeting-3/2024-08-05/
LOCATION:Cookhouse\, 1000 Peerless Rd\, Evansville\, IN\, 47712\, United States
CATEGORIES:Cowboy
END:VEVENT
BEGIN:VEVENT
DTSTART;TZID=UTC:20240805T180000
DTEND;TZID=UTC:20240805T200000
DTSTAMP:20260423T170404
CREATED:20231231T092753Z
LAST-MODIFIED:20231231T093808Z
UID:10000722-1722880800-1722888000@westsidesportsmens.com
SUMMARY:IDPA Meeting
DESCRIPTION:
URL:https://westsidesportsmens.com/calendar/idpa-meeting-2/2024-08-05/
LOCATION:Club House
CATEGORIES:Practical Action Shooting
END:VEVENT
BEGIN:VEVENT
DTSTART;TZID=UTC:20240804T120000
DTEND;TZID=UTC:20240804T170000
DTSTAMP:20260423T170404
CREATED:20231231T111501Z
LAST-MODIFIED:20231231T111605Z
UID:10001436-1722772800-1722790800@westsidesportsmens.com
SUMMARY:Spot Shoot Round Robin
DESCRIPTION:
URL:https://westsidesportsmens.com/calendar/spot-shoot-round-robin/2024-08-04/
LOCATION:Spot Range
CATEGORIES:Spot Shoot
ORGANIZER;CN="Kraig Hausmann":MAILTO:kraighausmann@gmail.com
END:VEVENT
BEGIN:VEVENT
DTSTART;TZID=UTC:20240801T180000
DTEND;TZID=UTC:20240801T200000
DTSTAMP:20260423T170404
CREATED:20231231T094347Z
LAST-MODIFIED:20231231T095142Z
UID:10000903-1722535200-1722542400@westsidesportsmens.com
SUMMARY:Membership Committee Meeting
DESCRIPTION:
URL:https://westsidesportsmens.com/calendar/membership-committee-meeting-2/2024-08-01/
LOCATION:Club Office
CATEGORIES:Membership
END:VEVENT
BEGIN:VEVENT
DTSTART;TZID=America/Chicago:20240727T100000
DTEND;TZID=America/Chicago:20240727T140000
DTSTAMP:20260423T170404
CREATED:20240430T225942Z
LAST-MODIFIED:20240430T225942Z
UID:10001599-1722074400-1722088800@westsidesportsmens.com
SUMMARY:Refuse to be a Victim + Handgun Training
DESCRIPTION:
URL:https://westsidesportsmens.com/calendar/refuse-to-be-a-victim-handgun-training/
LOCATION:Club House
CATEGORIES:Firearms Training
ORGANIZER;CN="Brent Gariby":MAILTO:brent.garibay@gmail.com
END:VEVENT
BEGIN:VEVENT
DTSTART;TZID=UTC:20240727T090000
DTEND;TZID=UTC:20240727T140000
DTSTAMP:20260423T170404
CREATED:20231231T112150Z
LAST-MODIFIED:20231231T114342Z
UID:10001520-1722070800-1722088800@westsidesportsmens.com
SUMMARY:Cowboy Shoot SASS
DESCRIPTION:
URL:https://westsidesportsmens.com/calendar/cowboy-shoot-sass-2/2024-07-27/
LOCATION:Cowboy Town\, 1000 Peerless Rd\, Evansville\, IN\, 47712\, United States
CATEGORIES:Cowboy
END:VEVENT
BEGIN:VEVENT
DTSTART;TZID=UTC:20240725T180000
DTEND;TZID=UTC:20240725T200000
DTSTAMP:20260423T170404
CREATED:20240718T234048Z
LAST-MODIFIED:20240718T234048Z
UID:10001610-1721930400-1721937600@westsidesportsmens.com
SUMMARY:Technology Committee Meeting
DESCRIPTION:
URL:https://westsidesportsmens.com/calendar/technology-committee-meeting-3-2/
LOCATION:Club Office
CATEGORIES:Technology Committee Meeting
ORGANIZER;CN="Brandon Greene":MAILTO:web@westsidesportsmans.com
END:VEVENT
BEGIN:VEVENT
DTSTART;TZID=UTC:20240720T080000
DTEND;TZID=UTC:20240720T140000
DTSTAMP:20260423T170404
CREATED:20231231T101603Z
LAST-MODIFIED:20231231T101627Z
UID:10001350-1721462400-1721484000@westsidesportsmens.com
SUMMARY:IDPA Shoot
DESCRIPTION:
URL:https://westsidesportsmens.com/calendar/idpa-shoot/2024-07-20/
LOCATION:Event Bays
CATEGORIES:Practical Action Shooting
END:VEVENT
BEGIN:VEVENT
DTSTART;TZID=UTC:20240717T183000
DTEND;TZID=UTC:20240717T203000
DTSTAMP:20260423T170404
CREATED:20231231T101107Z
LAST-MODIFIED:20231231T101123Z
UID:10001230-1721241000-1721248200@westsidesportsmens.com
SUMMARY:Board of Directors Meeting
DESCRIPTION:
URL:https://westsidesportsmens.com/calendar/board-of-directors-meeting-2/2024-07-17/
LOCATION:Club Office
CATEGORIES:General Event
END:VEVENT
BEGIN:VEVENT
DTSTART;TZID=UTC:20240717T080000
DTEND;TZID=UTC:20240717T110000
DTSTAMP:20260423T170404
CREATED:20231231T112319Z
LAST-MODIFIED:20231231T112413Z
UID:10001455-1721203200-1721214000@westsidesportsmens.com
SUMMARY:Cowboy Shoot Setup
DESCRIPTION:
URL:https://westsidesportsmens.com/calendar/cowboy-shoot-setup/2024-07-17/
LOCATION:Cowboy Town\, 1000 Peerless Rd\, Evansville\, IN\, 47712\, United States
CATEGORIES:Cowboy
END:VEVENT
END:VCALENDAR