BEGIN:VCALENDAR
VERSION:2.0
PRODID:-//West Side Sportsmans Club - ECPv6.15.15//NONSGML v1.0//EN
CALSCALE:GREGORIAN
METHOD:PUBLISH
X-ORIGINAL-URL:https://westsidesportsmens.com
X-WR-CALDESC:Events for West Side Sportsmans Club
REFRESH-INTERVAL;VALUE=DURATION:PT1H
X-Robots-Tag:noindex
X-PUBLISHED-TTL:PT1H
BEGIN:VTIMEZONE
TZID:UTC
BEGIN:STANDARD
TZOFFSETFROM:+0000
TZOFFSETTO:+0000
TZNAME:UTC
DTSTART:20260101T000000
END:STANDARD
END:VTIMEZONE
BEGIN:VTIMEZONE
TZID:America/Chicago
BEGIN:DAYLIGHT
TZOFFSETFROM:-0600
TZOFFSETTO:-0500
TZNAME:CDT
DTSTART:20260308T080000
END:DAYLIGHT
BEGIN:STANDARD
TZOFFSETFROM:-0500
TZOFFSETTO:-0600
TZNAME:CST
DTSTART:20261101T070000
END:STANDARD
BEGIN:DAYLIGHT
TZOFFSETFROM:-0600
TZOFFSETTO:-0500
TZNAME:CDT
DTSTART:20270314T080000
END:DAYLIGHT
BEGIN:STANDARD
TZOFFSETFROM:-0500
TZOFFSETTO:-0600
TZNAME:CST
DTSTART:20271107T070000
END:STANDARD
BEGIN:DAYLIGHT
TZOFFSETFROM:-0600
TZOFFSETTO:-0500
TZNAME:CDT
DTSTART:20280312T080000
END:DAYLIGHT
BEGIN:STANDARD
TZOFFSETFROM:-0500
TZOFFSETTO:-0600
TZNAME:CST
DTSTART:20281105T070000
END:STANDARD
BEGIN:DAYLIGHT
TZOFFSETFROM:-0600
TZOFFSETTO:-0500
TZNAME:CDT
DTSTART:20290311T080000
END:DAYLIGHT
BEGIN:STANDARD
TZOFFSETFROM:-0500
TZOFFSETTO:-0600
TZNAME:CST
DTSTART:20291104T070000
END:STANDARD
END:VTIMEZONE
BEGIN:VEVENT
DTSTART;TZID=UTC:20271202T180000
DTEND;TZID=UTC:20271202T200000
DTSTAMP:20260423T043443
CREATED:20231231T094347Z
LAST-MODIFIED:20231231T095142Z
UID:10000943-1827770400-1827777600@westsidesportsmens.com
SUMMARY:Membership Committee Meeting
DESCRIPTION:
URL:https://westsidesportsmens.com/calendar/membership-committee-meeting-2/2027-12-02/
LOCATION:Club Office
CATEGORIES:Membership
END:VEVENT
BEGIN:VEVENT
DTSTART;TZID=UTC:20271206T180000
DTEND;TZID=UTC:20271206T200000
DTSTAMP:20260423T043443
CREATED:20231231T092753Z
LAST-MODIFIED:20231231T093808Z
UID:10000762-1828116000-1828123200@westsidesportsmens.com
SUMMARY:IDPA Meeting
DESCRIPTION:
URL:https://westsidesportsmens.com/calendar/idpa-meeting-2/2027-12-06/
LOCATION:Club House
CATEGORIES:Practical Action Shooting
END:VEVENT
BEGIN:VEVENT
DTSTART;TZID=UTC:20271206T190000
DTEND;TZID=UTC:20271206T210000
DTSTAMP:20260423T043443
CREATED:20231231T093611Z
LAST-MODIFIED:20231231T094546Z
UID:10000822-1828119600-1828126800@westsidesportsmens.com
SUMMARY:Cowboy Committee Meeting
DESCRIPTION:
URL:https://westsidesportsmens.com/calendar/cowboy-committee-meeting-3/2027-12-06/
LOCATION:Cookhouse\, 1000 Peerless Rd\, Evansville\, IN\, 47712\, United States
CATEGORIES:Cowboy
END:VEVENT
BEGIN:VEVENT
DTSTART;TZID=UTC:20271208T183000
DTEND;TZID=UTC:20271208T200000
DTSTAMP:20260423T043443
CREATED:20231231T094914Z
LAST-MODIFIED:20231231T095034Z
UID:10000884-1828290600-1828296000@westsidesportsmens.com
SUMMARY:Rifle Range Committee Meeting
DESCRIPTION:
URL:https://westsidesportsmens.com/calendar/rifle-range-committee-meeting-12/2027-12-08/
LOCATION:Club House
CATEGORIES:Rifle Range
END:VEVENT
BEGIN:VEVENT
DTSTART;TZID=UTC:20271211T080000
DTEND;TZID=UTC:20271211T170000
DTSTAMP:20260423T043443
CREATED:20231231T100506Z
LAST-MODIFIED:20231231T100553Z
UID:10001151-1828512000-1828544400@westsidesportsmens.com
SUMMARY:Club Work Day
DESCRIPTION:
URL:https://westsidesportsmens.com/calendar/club-work-day-2/2027-12-11/
LOCATION:Club Wide Event
CATEGORIES:General Event
END:VEVENT
BEGIN:VEVENT
DTSTART;TZID=UTC:20271215T080000
DTEND;TZID=UTC:20271215T110000
DTSTAMP:20260423T043443
CREATED:20231231T112319Z
LAST-MODIFIED:20231231T112413Z
UID:10001496-1828857600-1828868400@westsidesportsmens.com
SUMMARY:Cowboy Shoot Setup
DESCRIPTION:
URL:https://westsidesportsmens.com/calendar/cowboy-shoot-setup/2027-12-15/
LOCATION:Cowboy Town\, 1000 Peerless Rd\, Evansville\, IN\, 47712\, United States
CATEGORIES:Cowboy
END:VEVENT
BEGIN:VEVENT
DTSTART;TZID=UTC:20271215T183000
DTEND;TZID=UTC:20271215T203000
DTSTAMP:20260423T043443
CREATED:20231231T101107Z
LAST-MODIFIED:20231231T101123Z
UID:10001271-1828895400-1828902600@westsidesportsmens.com
SUMMARY:Board of Directors Meeting
DESCRIPTION:
URL:https://westsidesportsmens.com/calendar/board-of-directors-meeting-2/2027-12-15/
LOCATION:Club Office
CATEGORIES:General Event
END:VEVENT
BEGIN:VEVENT
DTSTART;TZID=UTC:20271218T080000
DTEND;TZID=UTC:20271218T140000
DTSTAMP:20260423T043443
CREATED:20250306T001902Z
LAST-MODIFIED:20250719T215717Z
UID:10001736-1829116800-1829138400@westsidesportsmens.com
SUMMARY:IDPA Shoot
DESCRIPTION:
URL:https://westsidesportsmens.com/calendar/idpa-shoot-2/2027-12-18/
LOCATION:Event Bays
CATEGORIES:Practical Action Shooting
END:VEVENT
BEGIN:VEVENT
DTSTART;TZID=UTC:20271221T183000
DTEND;TZID=UTC:20271221T200000
DTSTAMP:20260423T043444
CREATED:20231231T100907Z
LAST-MODIFIED:20231231T100931Z
UID:10001211-1829413800-1829419200@westsidesportsmens.com
SUMMARY:Rules & Regulations Committee Meeting
DESCRIPTION:
URL:https://westsidesportsmens.com/calendar/rules-regulations-committee-meeting/2027-12-21/
LOCATION:Club House
CATEGORIES:General Event
END:VEVENT
BEGIN:VEVENT
DTSTART;TZID=America/Chicago:20271222T080000
DTEND;TZID=America/Chicago:20271222T120000
DTSTAMP:20260423T043444
CREATED:20250306T011312Z
LAST-MODIFIED:20250719T215716Z
UID:10001856-1829462400-1829476800@westsidesportsmens.com
SUMMARY:Cowboy Match Setup
DESCRIPTION:
URL:https://westsidesportsmens.com/calendar/cowboy-match-setup-3/2027-12-22/
LOCATION:Cowboy Town\, 1000 Peerless Rd\, Evansville\, IN\, 47712\, United States
CATEGORIES:Cowboy
END:VEVENT
BEGIN:VEVENT
DTSTART;TZID=America/Chicago:20271225T090000
DTEND;TZID=America/Chicago:20271225T160000
DTSTAMP:20260423T043444
CREATED:20250306T011126Z
LAST-MODIFIED:20250719T215715Z
UID:10001797-1829725200-1829750400@westsidesportsmens.com
SUMMARY:Cowboy SASS Match
DESCRIPTION:
URL:https://westsidesportsmens.com/calendar/cowboy-sass-match-2/2027-12-25/
LOCATION:Cookhouse\, 1000 Peerless Rd\, Evansville\, IN\, 47712\, United States
CATEGORIES:Cowboy
END:VEVENT
BEGIN:VEVENT
DTSTART;TZID=UTC:20280103T180000
DTEND;TZID=UTC:20280103T200000
DTSTAMP:20260423T043444
CREATED:20231231T092753Z
LAST-MODIFIED:20231231T093808Z
UID:10000763-1830535200-1830542400@westsidesportsmens.com
SUMMARY:IDPA Meeting
DESCRIPTION:
URL:https://westsidesportsmens.com/calendar/idpa-meeting-2/2028-01-03/
LOCATION:Club House
CATEGORIES:Practical Action Shooting
END:VEVENT
BEGIN:VEVENT
DTSTART;TZID=UTC:20280103T190000
DTEND;TZID=UTC:20280103T210000
DTSTAMP:20260423T043444
CREATED:20231231T093611Z
LAST-MODIFIED:20231231T094546Z
UID:10000823-1830538800-1830546000@westsidesportsmens.com
SUMMARY:Cowboy Committee Meeting
DESCRIPTION:
URL:https://westsidesportsmens.com/calendar/cowboy-committee-meeting-3/2028-01-03/
LOCATION:Cookhouse\, 1000 Peerless Rd\, Evansville\, IN\, 47712\, United States
CATEGORIES:Cowboy
END:VEVENT
BEGIN:VEVENT
DTSTART;TZID=America/Chicago:20280105T190000
DTEND;TZID=America/Chicago:20280105T203000
DTSTAMP:20260423T043444
CREATED:20250306T000144Z
LAST-MODIFIED:20250719T215717Z
UID:10001653-1830711600-1830717000@westsidesportsmens.com
SUMMARY:General Member Meeting
DESCRIPTION:
URL:https://westsidesportsmens.com/calendar/general-member-meeting/2028-01-05/
LOCATION:Club House
CATEGORIES:General Event
END:VEVENT
BEGIN:VEVENT
DTSTART;TZID=UTC:20280106T180000
DTEND;TZID=UTC:20280106T200000
DTSTAMP:20260423T043444
CREATED:20231231T094347Z
LAST-MODIFIED:20231231T095142Z
UID:10000944-1830794400-1830801600@westsidesportsmens.com
SUMMARY:Membership Committee Meeting
DESCRIPTION:
URL:https://westsidesportsmens.com/calendar/membership-committee-meeting-2/2028-01-06/
LOCATION:Club Office
CATEGORIES:Membership
END:VEVENT
BEGIN:VEVENT
DTSTART;TZID=UTC:20280108T080000
DTEND;TZID=UTC:20280108T170000
DTSTAMP:20260423T043444
CREATED:20231231T100506Z
LAST-MODIFIED:20231231T100553Z
UID:10001152-1830931200-1830963600@westsidesportsmens.com
SUMMARY:Club Work Day
DESCRIPTION:
URL:https://westsidesportsmens.com/calendar/club-work-day-2/2028-01-08/
LOCATION:Club Wide Event
CATEGORIES:General Event
END:VEVENT
BEGIN:VEVENT
DTSTART;TZID=UTC:20280112T183000
DTEND;TZID=UTC:20280112T200000
DTSTAMP:20260423T043444
CREATED:20231231T094914Z
LAST-MODIFIED:20231231T095034Z
UID:10000885-1831314600-1831320000@westsidesportsmens.com
SUMMARY:Rifle Range Committee Meeting
DESCRIPTION:
URL:https://westsidesportsmens.com/calendar/rifle-range-committee-meeting-12/2028-01-12/
LOCATION:Club House
CATEGORIES:Rifle Range
END:VEVENT
BEGIN:VEVENT
DTSTART;TZID=UTC:20280113T183000
DTEND;TZID=UTC:20280113T200000
DTSTAMP:20260423T043444
CREATED:20231231T095910Z
LAST-MODIFIED:20231231T100235Z
UID:10001098-1831401000-1831406400@westsidesportsmens.com
SUMMARY:Leadership Meeting
DESCRIPTION:
URL:https://westsidesportsmens.com/calendar/leadership-meeting-7/2028-01-13/
LOCATION:Club Office
CATEGORIES:General Event
END:VEVENT
BEGIN:VEVENT
DTSTART;TZID=UTC:20280115T080000
DTEND;TZID=UTC:20280115T140000
DTSTAMP:20260423T043444
CREATED:20250306T001902Z
LAST-MODIFIED:20250719T215717Z
UID:10001737-1831536000-1831557600@westsidesportsmens.com
SUMMARY:IDPA Shoot
DESCRIPTION:
URL:https://westsidesportsmens.com/calendar/idpa-shoot-2/2028-01-15/
LOCATION:Event Bays
CATEGORIES:Practical Action Shooting
END:VEVENT
BEGIN:VEVENT
DTSTART;TZID=UTC:20280118T183000
DTEND;TZID=UTC:20280118T200000
DTSTAMP:20260423T043444
CREATED:20231231T100907Z
LAST-MODIFIED:20231231T100931Z
UID:10001212-1831833000-1831838400@westsidesportsmens.com
SUMMARY:Rules & Regulations Committee Meeting
DESCRIPTION:
URL:https://westsidesportsmens.com/calendar/rules-regulations-committee-meeting/2028-01-18/
LOCATION:Club House
CATEGORIES:General Event
END:VEVENT
BEGIN:VEVENT
DTSTART;TZID=UTC:20280119T080000
DTEND;TZID=UTC:20280119T110000
DTSTAMP:20260423T043444
CREATED:20231231T112319Z
LAST-MODIFIED:20231231T112413Z
UID:10001497-1831881600-1831892400@westsidesportsmens.com
SUMMARY:Cowboy Shoot Setup
DESCRIPTION:
URL:https://westsidesportsmens.com/calendar/cowboy-shoot-setup/2028-01-19/
LOCATION:Cowboy Town\, 1000 Peerless Rd\, Evansville\, IN\, 47712\, United States
CATEGORIES:Cowboy
END:VEVENT
BEGIN:VEVENT
DTSTART;TZID=UTC:20280119T183000
DTEND;TZID=UTC:20280119T203000
DTSTAMP:20260423T043444
CREATED:20231231T101107Z
LAST-MODIFIED:20231231T101123Z
UID:10001272-1831919400-1831926600@westsidesportsmens.com
SUMMARY:Board of Directors Meeting
DESCRIPTION:
URL:https://westsidesportsmens.com/calendar/board-of-directors-meeting-2/2028-01-19/
LOCATION:Club Office
CATEGORIES:General Event
END:VEVENT
BEGIN:VEVENT
DTSTART;TZID=America/Chicago:20280122T090000
DTEND;TZID=America/Chicago:20280122T160000
DTSTAMP:20260423T043444
CREATED:20250306T011126Z
LAST-MODIFIED:20250719T215715Z
UID:10001798-1832144400-1832169600@westsidesportsmens.com
SUMMARY:Cowboy SASS Match
DESCRIPTION:
URL:https://westsidesportsmens.com/calendar/cowboy-sass-match-2/2028-01-22/
LOCATION:Cookhouse\, 1000 Peerless Rd\, Evansville\, IN\, 47712\, United States
CATEGORIES:Cowboy
END:VEVENT
BEGIN:VEVENT
DTSTART;TZID=America/Chicago:20280126T080000
DTEND;TZID=America/Chicago:20280126T120000
DTSTAMP:20260423T043444
CREATED:20250306T011312Z
LAST-MODIFIED:20250719T215716Z
UID:10001857-1832486400-1832500800@westsidesportsmens.com
SUMMARY:Cowboy Match Setup
DESCRIPTION:
URL:https://westsidesportsmens.com/calendar/cowboy-match-setup-3/2028-01-26/
LOCATION:Cowboy Town\, 1000 Peerless Rd\, Evansville\, IN\, 47712\, United States
CATEGORIES:Cowboy
END:VEVENT
BEGIN:VEVENT
DTSTART;TZID=America/Chicago:20280202T190000
DTEND;TZID=America/Chicago:20280202T203000
DTSTAMP:20260423T043444
CREATED:20250306T000144Z
LAST-MODIFIED:20250719T215717Z
UID:10001654-1833130800-1833136200@westsidesportsmens.com
SUMMARY:General Member Meeting
DESCRIPTION:
URL:https://westsidesportsmens.com/calendar/general-member-meeting/2028-02-02/
LOCATION:Club House
CATEGORIES:General Event
END:VEVENT
BEGIN:VEVENT
DTSTART;TZID=UTC:20280203T180000
DTEND;TZID=UTC:20280203T200000
DTSTAMP:20260423T043444
CREATED:20231231T094347Z
LAST-MODIFIED:20231231T095142Z
UID:10000945-1833213600-1833220800@westsidesportsmens.com
SUMMARY:Membership Committee Meeting
DESCRIPTION:
URL:https://westsidesportsmens.com/calendar/membership-committee-meeting-2/2028-02-03/
LOCATION:Club Office
CATEGORIES:Membership
END:VEVENT
BEGIN:VEVENT
DTSTART;TZID=UTC:20280207T180000
DTEND;TZID=UTC:20280207T200000
DTSTAMP:20260423T043444
CREATED:20231231T092753Z
LAST-MODIFIED:20231231T093808Z
UID:10000764-1833559200-1833566400@westsidesportsmens.com
SUMMARY:IDPA Meeting
DESCRIPTION:
URL:https://westsidesportsmens.com/calendar/idpa-meeting-2/2028-02-07/
LOCATION:Club House
CATEGORIES:Practical Action Shooting
END:VEVENT
BEGIN:VEVENT
DTSTART;TZID=UTC:20280207T190000
DTEND;TZID=UTC:20280207T210000
DTSTAMP:20260423T043444
CREATED:20231231T093611Z
LAST-MODIFIED:20231231T094546Z
UID:10000824-1833562800-1833570000@westsidesportsmens.com
SUMMARY:Cowboy Committee Meeting
DESCRIPTION:
URL:https://westsidesportsmens.com/calendar/cowboy-committee-meeting-3/2028-02-07/
LOCATION:Cookhouse\, 1000 Peerless Rd\, Evansville\, IN\, 47712\, United States
CATEGORIES:Cowboy
END:VEVENT
BEGIN:VEVENT
DTSTART;TZID=UTC:20280209T183000
DTEND;TZID=UTC:20280209T200000
DTSTAMP:20260423T043444
CREATED:20231231T094914Z
LAST-MODIFIED:20231231T095034Z
UID:10000886-1833733800-1833739200@westsidesportsmens.com
SUMMARY:Rifle Range Committee Meeting
DESCRIPTION:
URL:https://westsidesportsmens.com/calendar/rifle-range-committee-meeting-12/2028-02-09/
LOCATION:Club House
CATEGORIES:Rifle Range
END:VEVENT
BEGIN:VEVENT
DTSTART;TZID=UTC:20280212T080000
DTEND;TZID=UTC:20280212T170000
DTSTAMP:20260423T043444
CREATED:20231231T100506Z
LAST-MODIFIED:20231231T100553Z
UID:10001153-1833955200-1833987600@westsidesportsmens.com
SUMMARY:Club Work Day
DESCRIPTION:
URL:https://westsidesportsmens.com/calendar/club-work-day-2/2028-02-12/
LOCATION:Club Wide Event
CATEGORIES:General Event
END:VEVENT
END:VCALENDAR