BEGIN:VCALENDAR
VERSION:2.0
PRODID:-//West Side Sportsmans Club - ECPv6.15.15//NONSGML v1.0//EN
CALSCALE:GREGORIAN
METHOD:PUBLISH
X-WR-CALNAME:West Side Sportsmans Club
X-ORIGINAL-URL:https://westsidesportsmens.com
X-WR-CALDESC:Events for West Side Sportsmans Club
REFRESH-INTERVAL;VALUE=DURATION:PT1H
X-Robots-Tag:noindex
X-PUBLISHED-TTL:PT1H
BEGIN:VTIMEZONE
TZID:America/Chicago
BEGIN:DAYLIGHT
TZOFFSETFROM:-0600
TZOFFSETTO:-0500
TZNAME:CDT
DTSTART:20230312T080000
END:DAYLIGHT
BEGIN:STANDARD
TZOFFSETFROM:-0500
TZOFFSETTO:-0600
TZNAME:CST
DTSTART:20231105T070000
END:STANDARD
BEGIN:DAYLIGHT
TZOFFSETFROM:-0600
TZOFFSETTO:-0500
TZNAME:CDT
DTSTART:20240310T080000
END:DAYLIGHT
BEGIN:STANDARD
TZOFFSETFROM:-0500
TZOFFSETTO:-0600
TZNAME:CST
DTSTART:20241103T070000
END:STANDARD
BEGIN:DAYLIGHT
TZOFFSETFROM:-0600
TZOFFSETTO:-0500
TZNAME:CDT
DTSTART:20250309T080000
END:DAYLIGHT
BEGIN:STANDARD
TZOFFSETFROM:-0500
TZOFFSETTO:-0600
TZNAME:CST
DTSTART:20251102T070000
END:STANDARD
END:VTIMEZONE
BEGIN:VTIMEZONE
TZID:UTC
BEGIN:STANDARD
TZOFFSETFROM:+0000
TZOFFSETTO:+0000
TZNAME:UTC
DTSTART:20230101T000000
END:STANDARD
END:VTIMEZONE
BEGIN:VEVENT
DTSTART;TZID=America/Chicago:20241026T080000
DTEND;TZID=America/Chicago:20241026T140000
DTSTAMP:20260423T081540
CREATED:20240917T005851Z
LAST-MODIFIED:20240917T005851Z
UID:10001611-1729929600-1729951200@westsidesportsmens.com
SUMMARY:WSSC Gun Show
DESCRIPTION:WSSC GUN SHOW FLYER 10-26-2024
URL:https://westsidesportsmens.com/calendar/wssc-gun-show-2/
LOCATION:Club House
CATEGORIES:General Event
END:VEVENT
BEGIN:VEVENT
DTSTART;TZID=UTC:20241020T120000
DTEND;TZID=UTC:20241020T170000
DTSTAMP:20260423T081540
CREATED:20231231T111752Z
LAST-MODIFIED:20231231T111833Z
UID:10001443-1729425600-1729443600@westsidesportsmens.com
SUMMARY:Spot Shoot Fall
DESCRIPTION:
URL:https://westsidesportsmens.com/calendar/spot-shoot-fall/2024-10-20/
LOCATION:Spot Range
CATEGORIES:Spot Shoot
ORGANIZER;CN="Kraig Hausmann":MAILTO:kraighausmann@gmail.com
END:VEVENT
BEGIN:VEVENT
DTSTART;TZID=America/Chicago:20241019T080000
DTEND;TZID=America/Chicago:20241019T170000
DTSTAMP:20260423T081540
CREATED:20240430T230721Z
LAST-MODIFIED:20240430T230721Z
UID:10001605-1729324800-1729357200@westsidesportsmens.com
SUMMARY:Women's Only Firearms Class
DESCRIPTION:
URL:https://westsidesportsmens.com/calendar/womens-only-firearms-class/
LOCATION:Club House
CATEGORIES:Firearms Training
ORGANIZER;CN="Brent Gariby":MAILTO:brent.garibay@gmail.com
END:VEVENT
BEGIN:VEVENT
DTSTART;TZID=UTC:20241019T080000
DTEND;TZID=UTC:20241019T140000
DTSTAMP:20260423T081540
CREATED:20231231T101603Z
LAST-MODIFIED:20231231T101627Z
UID:10001353-1729324800-1729346400@westsidesportsmens.com
SUMMARY:IDPA Shoot
DESCRIPTION:
URL:https://westsidesportsmens.com/calendar/idpa-shoot/2024-10-19/
LOCATION:Event Bays
CATEGORIES:Practical Action Shooting
END:VEVENT
BEGIN:VEVENT
DTSTART;TZID=UTC:20241016T183000
DTEND;TZID=UTC:20241016T203000
DTSTAMP:20260423T081540
CREATED:20231231T101107Z
LAST-MODIFIED:20231231T101123Z
UID:10001233-1729103400-1729110600@westsidesportsmens.com
SUMMARY:Board of Directors Meeting
DESCRIPTION:
URL:https://westsidesportsmens.com/calendar/board-of-directors-meeting-2/2024-10-16/
LOCATION:Club Office
CATEGORIES:General Event
END:VEVENT
BEGIN:VEVENT
DTSTART;TZID=UTC:20241016T080000
DTEND;TZID=UTC:20241016T110000
DTSTAMP:20260423T081540
CREATED:20231231T112319Z
LAST-MODIFIED:20231231T112413Z
UID:10001458-1729065600-1729076400@westsidesportsmens.com
SUMMARY:Cowboy Shoot Setup
DESCRIPTION:
URL:https://westsidesportsmens.com/calendar/cowboy-shoot-setup/2024-10-16/
LOCATION:Cowboy Town\, 1000 Peerless Rd\, Evansville\, IN\, 47712\, United States
CATEGORIES:Cowboy
END:VEVENT
BEGIN:VEVENT
DTSTART;TZID=UTC:20241015T183000
DTEND;TZID=UTC:20241015T200000
DTSTAMP:20260423T081540
CREATED:20231231T100907Z
LAST-MODIFIED:20231231T100931Z
UID:10001173-1729017000-1729022400@westsidesportsmens.com
SUMMARY:Rules & Regulations Committee Meeting
DESCRIPTION:
URL:https://westsidesportsmens.com/calendar/rules-regulations-committee-meeting/2024-10-15/
LOCATION:Club House
CATEGORIES:General Event
END:VEVENT
BEGIN:VEVENT
DTSTART;TZID=UTC:20241013T120000
DTEND;TZID=UTC:20241013T170000
DTSTAMP:20260423T081540
CREATED:20231231T111752Z
LAST-MODIFIED:20231231T111833Z
UID:10001442-1728820800-1728838800@westsidesportsmens.com
SUMMARY:Spot Shoot Fall
DESCRIPTION:
URL:https://westsidesportsmens.com/calendar/spot-shoot-fall/2024-10-13/
LOCATION:Spot Range
CATEGORIES:Spot Shoot
ORGANIZER;CN="Kraig Hausmann":MAILTO:kraighausmann@gmail.com
END:VEVENT
BEGIN:VEVENT
DTSTART;TZID=UTC:20241012T080000
DTEND;TZID=UTC:20241012T170000
DTSTAMP:20260423T081540
CREATED:20231231T100506Z
LAST-MODIFIED:20231231T100553Z
UID:10001113-1728720000-1728752400@westsidesportsmens.com
SUMMARY:Club Work Day
DESCRIPTION:
URL:https://westsidesportsmens.com/calendar/club-work-day-2/2024-10-12/
LOCATION:Club Wide Event
CATEGORIES:General Event
END:VEVENT
BEGIN:VEVENT
DTSTART;TZID=UTC:20241009T183000
DTEND;TZID=UTC:20241009T200000
DTSTAMP:20260423T081540
CREATED:20231231T094914Z
LAST-MODIFIED:20231231T095034Z
UID:10000846-1728498600-1728504000@westsidesportsmens.com
SUMMARY:Rifle Range Committee Meeting
DESCRIPTION:
URL:https://westsidesportsmens.com/calendar/rifle-range-committee-meeting-12/2024-10-09/
LOCATION:Club House
CATEGORIES:Rifle Range
END:VEVENT
BEGIN:VEVENT
DTSTART;TZID=UTC:20241007T190000
DTEND;TZID=UTC:20241007T210000
DTSTAMP:20260423T081540
CREATED:20231231T093611Z
LAST-MODIFIED:20231231T094546Z
UID:10000784-1728327600-1728334800@westsidesportsmens.com
SUMMARY:Cowboy Committee Meeting
DESCRIPTION:
URL:https://westsidesportsmens.com/calendar/cowboy-committee-meeting-3/2024-10-07/
LOCATION:Cookhouse\, 1000 Peerless Rd\, Evansville\, IN\, 47712\, United States
CATEGORIES:Cowboy
END:VEVENT
BEGIN:VEVENT
DTSTART;TZID=UTC:20241007T180000
DTEND;TZID=UTC:20241007T200000
DTSTAMP:20260423T081540
CREATED:20231231T092753Z
LAST-MODIFIED:20231231T093808Z
UID:10000724-1728324000-1728331200@westsidesportsmens.com
SUMMARY:IDPA Meeting
DESCRIPTION:
URL:https://westsidesportsmens.com/calendar/idpa-meeting-2/2024-10-07/
LOCATION:Club House
CATEGORIES:Practical Action Shooting
END:VEVENT
BEGIN:VEVENT
DTSTART;VALUE=DATE:20241007
DTEND;VALUE=DATE:20241013
DTSTAMP:20260423T081540
CREATED:20231231T113603Z
LAST-MODIFIED:20231231T113603Z
UID:10001515-1728259200-1728777599@westsidesportsmens.com
SUMMARY:Westside Nut Club Fall Festival
DESCRIPTION:
URL:https://westsidesportsmens.com/calendar/westside-nut-club-fall-festival/
LOCATION:IN
CATEGORIES:General Event
END:VEVENT
BEGIN:VEVENT
DTSTART;TZID=UTC:20241006T120000
DTEND;TZID=UTC:20241006T170000
DTSTAMP:20260423T081540
CREATED:20231231T111752Z
LAST-MODIFIED:20231231T111833Z
UID:10001441-1728216000-1728234000@westsidesportsmens.com
SUMMARY:Spot Shoot Fall
DESCRIPTION:
URL:https://westsidesportsmens.com/calendar/spot-shoot-fall/2024-10-06/
LOCATION:Spot Range
CATEGORIES:Spot Shoot
ORGANIZER;CN="Kraig Hausmann":MAILTO:kraighausmann@gmail.com
END:VEVENT
BEGIN:VEVENT
DTSTART;VALUE=DATE:20241006
DTEND;VALUE=DATE:20241013
DTSTAMP:20260423T081540
CREATED:20231231T113836Z
LAST-MODIFIED:20231231T113851Z
UID:10001516-1728172800-1728777599@westsidesportsmens.com
SUMMARY:IDPA Holiday Havoc
DESCRIPTION:
URL:https://westsidesportsmens.com/calendar/holiday-havoc-2/
LOCATION:Club Wide Event
CATEGORIES:Archery,Cowboy,General Event,Practical Action Shooting,Rifle Range,Special Events,Spot Shoot,Trap Range
END:VEVENT
BEGIN:VEVENT
DTSTART;TZID=America/Chicago:20241005T080000
DTEND;TZID=America/Chicago:20241005T120000
DTSTAMP:20260423T081540
CREATED:20240430T230557Z
LAST-MODIFIED:20240430T230557Z
UID:10001604-1728115200-1728129600@westsidesportsmens.com
SUMMARY:Basic Firearms Training
DESCRIPTION:
URL:https://westsidesportsmens.com/calendar/basic-firearms-training/
LOCATION:Club House
CATEGORIES:Firearms Training
ORGANIZER;CN="Brent Gariby":MAILTO:brent.garibay@gmail.com
END:VEVENT
BEGIN:VEVENT
DTSTART;TZID=UTC:20241003T180000
DTEND;TZID=UTC:20241003T200000
DTSTAMP:20260423T081540
CREATED:20231231T094347Z
LAST-MODIFIED:20231231T095142Z
UID:10000905-1727978400-1727985600@westsidesportsmens.com
SUMMARY:Membership Committee Meeting
DESCRIPTION:
URL:https://westsidesportsmens.com/calendar/membership-committee-meeting-2/2024-10-03/
LOCATION:Club Office
CATEGORIES:Membership
END:VEVENT
BEGIN:VEVENT
DTSTART;TZID=UTC:20240929T120000
DTEND;TZID=UTC:20240929T170000
DTSTAMP:20260423T081540
CREATED:20231231T111752Z
LAST-MODIFIED:20231231T111833Z
UID:10001440-1727611200-1727629200@westsidesportsmens.com
SUMMARY:Spot Shoot Fall
DESCRIPTION:
URL:https://westsidesportsmens.com/calendar/spot-shoot-fall/2024-09-29/
LOCATION:Spot Range
CATEGORIES:Spot Shoot
ORGANIZER;CN="Kraig Hausmann":MAILTO:kraighausmann@gmail.com
END:VEVENT
BEGIN:VEVENT
DTSTART;TZID=UTC:20240928T090000
DTEND;TZID=UTC:20240928T140000
DTSTAMP:20260423T081540
CREATED:20231231T112150Z
LAST-MODIFIED:20231231T114342Z
UID:10001522-1727514000-1727532000@westsidesportsmens.com
SUMMARY:Cowboy Shoot SASS
DESCRIPTION:
URL:https://westsidesportsmens.com/calendar/cowboy-shoot-sass-2/2024-09-28/
LOCATION:Cowboy Town\, 1000 Peerless Rd\, Evansville\, IN\, 47712\, United States
CATEGORIES:Cowboy
END:VEVENT
BEGIN:VEVENT
DTSTART;TZID=UTC:20240922T120000
DTEND;TZID=UTC:20240922T170000
DTSTAMP:20260423T081540
CREATED:20231231T111752Z
LAST-MODIFIED:20231231T111833Z
UID:10001439-1727006400-1727024400@westsidesportsmens.com
SUMMARY:Spot Shoot Fall
DESCRIPTION:
URL:https://westsidesportsmens.com/calendar/spot-shoot-fall/2024-09-22/
LOCATION:Spot Range
CATEGORIES:Spot Shoot
ORGANIZER;CN="Kraig Hausmann":MAILTO:kraighausmann@gmail.com
END:VEVENT
BEGIN:VEVENT
DTSTART;TZID=UTC:20240921T080000
DTEND;TZID=UTC:20240921T140000
DTSTAMP:20260423T081540
CREATED:20231231T101603Z
LAST-MODIFIED:20231231T101627Z
UID:10001352-1726905600-1726927200@westsidesportsmens.com
SUMMARY:IDPA Shoot
DESCRIPTION:
URL:https://westsidesportsmens.com/calendar/idpa-shoot/2024-09-21/
LOCATION:Event Bays
CATEGORIES:Practical Action Shooting
END:VEVENT
BEGIN:VEVENT
DTSTART;TZID=America/Chicago:20240921T080000
DTEND;TZID=America/Chicago:20240921T120000
DTSTAMP:20260423T081540
CREATED:20240430T230458Z
LAST-MODIFIED:20240430T230458Z
UID:10001603-1726905600-1726920000@westsidesportsmens.com
SUMMARY:Defensive Handgun Training
DESCRIPTION:
URL:https://westsidesportsmens.com/calendar/defensive-handgun-training-2/
LOCATION:Club House
CATEGORIES:Firearms Training
ORGANIZER;CN="Brent Gariby":MAILTO:brent.garibay@gmail.com
END:VEVENT
BEGIN:VEVENT
DTSTART;TZID=UTC:20240918T183000
DTEND;TZID=UTC:20240918T203000
DTSTAMP:20260423T081540
CREATED:20231231T101107Z
LAST-MODIFIED:20231231T101123Z
UID:10001232-1726684200-1726691400@westsidesportsmens.com
SUMMARY:Board of Directors Meeting
DESCRIPTION:
URL:https://westsidesportsmens.com/calendar/board-of-directors-meeting-2/2024-09-18/
LOCATION:Club Office
CATEGORIES:General Event
END:VEVENT
BEGIN:VEVENT
DTSTART;TZID=UTC:20240918T080000
DTEND;TZID=UTC:20240918T110000
DTSTAMP:20260423T081540
CREATED:20231231T112319Z
LAST-MODIFIED:20231231T112413Z
UID:10001457-1726646400-1726657200@westsidesportsmens.com
SUMMARY:Cowboy Shoot Setup
DESCRIPTION:
URL:https://westsidesportsmens.com/calendar/cowboy-shoot-setup/2024-09-18/
LOCATION:Cowboy Town\, 1000 Peerless Rd\, Evansville\, IN\, 47712\, United States
CATEGORIES:Cowboy
END:VEVENT
BEGIN:VEVENT
DTSTART;TZID=UTC:20240917T183000
DTEND;TZID=UTC:20240917T200000
DTSTAMP:20260423T081540
CREATED:20231231T100907Z
LAST-MODIFIED:20231231T100931Z
UID:10001172-1726597800-1726603200@westsidesportsmens.com
SUMMARY:Rules & Regulations Committee Meeting
DESCRIPTION:
URL:https://westsidesportsmens.com/calendar/rules-regulations-committee-meeting/2024-09-17/
LOCATION:Club House
CATEGORIES:General Event
END:VEVENT
BEGIN:VEVENT
DTSTART;TZID=UTC:20240915T120000
DTEND;TZID=UTC:20240915T170000
DTSTAMP:20260423T081540
CREATED:20231231T111752Z
LAST-MODIFIED:20231231T111833Z
UID:10001438-1726401600-1726419600@westsidesportsmens.com
SUMMARY:Spot Shoot Fall
DESCRIPTION:
URL:https://westsidesportsmens.com/calendar/spot-shoot-fall/2024-09-15/
LOCATION:Spot Range
CATEGORIES:Spot Shoot
ORGANIZER;CN="Kraig Hausmann":MAILTO:kraighausmann@gmail.com
END:VEVENT
BEGIN:VEVENT
DTSTART;TZID=UTC:20240914T080000
DTEND;TZID=UTC:20240914T170000
DTSTAMP:20260423T081540
CREATED:20231231T100506Z
LAST-MODIFIED:20231231T100553Z
UID:10001112-1726300800-1726333200@westsidesportsmens.com
SUMMARY:Club Work Day
DESCRIPTION:
URL:https://westsidesportsmens.com/calendar/club-work-day-2/2024-09-14/
LOCATION:Club Wide Event
CATEGORIES:General Event
END:VEVENT
BEGIN:VEVENT
DTSTART;TZID=UTC:20240912T183000
DTEND;TZID=UTC:20240912T200000
DTSTAMP:20260423T081540
CREATED:20231231T095910Z
LAST-MODIFIED:20231231T100235Z
UID:10001078-1726165800-1726171200@westsidesportsmens.com
SUMMARY:Leadership Meeting
DESCRIPTION:
URL:https://westsidesportsmens.com/calendar/leadership-meeting-7/2024-09-12/
LOCATION:Club Office
CATEGORIES:General Event
END:VEVENT
BEGIN:VEVENT
DTSTART;TZID=UTC:20240911T183000
DTEND;TZID=UTC:20240911T200000
DTSTAMP:20260423T081540
CREATED:20231231T094914Z
LAST-MODIFIED:20231231T095034Z
UID:10000845-1726079400-1726084800@westsidesportsmens.com
SUMMARY:Rifle Range Committee Meeting
DESCRIPTION:
URL:https://westsidesportsmens.com/calendar/rifle-range-committee-meeting-12/2024-09-11/
LOCATION:Club House
CATEGORIES:Rifle Range
END:VEVENT
BEGIN:VEVENT
DTSTART;TZID=America/Chicago:20240907T080000
DTEND;TZID=America/Chicago:20240907T120000
DTSTAMP:20260423T081540
CREATED:20240430T230350Z
LAST-MODIFIED:20240430T230350Z
UID:10001602-1725696000-1725710400@westsidesportsmens.com
SUMMARY:Basic Handgun Training
DESCRIPTION:
URL:https://westsidesportsmens.com/calendar/basic-handgun-training-2/
LOCATION:Club House
CATEGORIES:Firearms Training
ORGANIZER;CN="Brent Gariby":MAILTO:brent.garibay@gmail.com
END:VEVENT
END:VCALENDAR