BEGIN:VCALENDAR
VERSION:2.0
PRODID:-//West Side Sportsmans Club - ECPv6.15.15//NONSGML v1.0//EN
CALSCALE:GREGORIAN
METHOD:PUBLISH
X-ORIGINAL-URL:https://westsidesportsmens.com
X-WR-CALDESC:Events for West Side Sportsmans Club
REFRESH-INTERVAL;VALUE=DURATION:PT1H
X-Robots-Tag:noindex
X-PUBLISHED-TTL:PT1H
BEGIN:VTIMEZONE
TZID:UTC
BEGIN:STANDARD
TZOFFSETFROM:+0000
TZOFFSETTO:+0000
TZNAME:UTC
DTSTART:20260101T000000
END:STANDARD
END:VTIMEZONE
BEGIN:VTIMEZONE
TZID:America/Chicago
BEGIN:DAYLIGHT
TZOFFSETFROM:-0600
TZOFFSETTO:-0500
TZNAME:CDT
DTSTART:20260308T080000
END:DAYLIGHT
BEGIN:STANDARD
TZOFFSETFROM:-0500
TZOFFSETTO:-0600
TZNAME:CST
DTSTART:20261101T070000
END:STANDARD
BEGIN:DAYLIGHT
TZOFFSETFROM:-0600
TZOFFSETTO:-0500
TZNAME:CDT
DTSTART:20270314T080000
END:DAYLIGHT
BEGIN:STANDARD
TZOFFSETFROM:-0500
TZOFFSETTO:-0600
TZNAME:CST
DTSTART:20271107T070000
END:STANDARD
BEGIN:DAYLIGHT
TZOFFSETFROM:-0600
TZOFFSETTO:-0500
TZNAME:CDT
DTSTART:20280312T080000
END:DAYLIGHT
BEGIN:STANDARD
TZOFFSETFROM:-0500
TZOFFSETTO:-0600
TZNAME:CST
DTSTART:20281105T070000
END:STANDARD
END:VTIMEZONE
BEGIN:VEVENT
DTSTART;TZID=UTC:20270705T190000
DTEND;TZID=UTC:20270705T210000
DTSTAMP:20260421T115627
CREATED:20231231T093611Z
LAST-MODIFIED:20231231T094546Z
UID:10000817-1814814000-1814821200@westsidesportsmens.com
SUMMARY:Cowboy Committee Meeting
DESCRIPTION:
URL:https://westsidesportsmens.com/calendar/cowboy-committee-meeting-3/2027-07-05/
LOCATION:Cookhouse\, 1000 Peerless Rd\, Evansville\, IN\, 47712\, United States
CATEGORIES:Cowboy
END:VEVENT
BEGIN:VEVENT
DTSTART;TZID=America/Chicago:20270707T190000
DTEND;TZID=America/Chicago:20270707T203000
DTSTAMP:20260421T115627
CREATED:20250306T000144Z
LAST-MODIFIED:20250719T215717Z
UID:10001647-1814986800-1814992200@westsidesportsmens.com
SUMMARY:General Member Meeting
DESCRIPTION:
URL:https://westsidesportsmens.com/calendar/general-member-meeting/2027-07-07/
LOCATION:Club House
CATEGORIES:General Event
END:VEVENT
BEGIN:VEVENT
DTSTART;TZID=UTC:20270708T183000
DTEND;TZID=UTC:20270708T200000
DTSTAMP:20260421T115627
CREATED:20231231T095910Z
LAST-MODIFIED:20231231T100235Z
UID:10001095-1815071400-1815076800@westsidesportsmens.com
SUMMARY:Leadership Meeting
DESCRIPTION:
URL:https://westsidesportsmens.com/calendar/leadership-meeting-7/2027-07-08/
LOCATION:Club Office
CATEGORIES:General Event
END:VEVENT
BEGIN:VEVENT
DTSTART;TZID=UTC:20270710T080000
DTEND;TZID=UTC:20270710T170000
DTSTAMP:20260421T115627
CREATED:20231231T100506Z
LAST-MODIFIED:20231231T100553Z
UID:10001146-1815206400-1815238800@westsidesportsmens.com
SUMMARY:Club Work Day
DESCRIPTION:
URL:https://westsidesportsmens.com/calendar/club-work-day-2/2027-07-10/
LOCATION:Club Wide Event
CATEGORIES:General Event
END:VEVENT
BEGIN:VEVENT
DTSTART;TZID=UTC:20270714T183000
DTEND;TZID=UTC:20270714T200000
DTSTAMP:20260421T115627
CREATED:20231231T094914Z
LAST-MODIFIED:20231231T095034Z
UID:10000879-1815589800-1815595200@westsidesportsmens.com
SUMMARY:Rifle Range Committee Meeting
DESCRIPTION:
URL:https://westsidesportsmens.com/calendar/rifle-range-committee-meeting-12/2027-07-14/
LOCATION:Club House
CATEGORIES:Rifle Range
END:VEVENT
BEGIN:VEVENT
DTSTART;TZID=UTC:20270717T080000
DTEND;TZID=UTC:20270717T140000
DTSTAMP:20260421T115627
CREATED:20250306T001902Z
LAST-MODIFIED:20250719T215717Z
UID:10001731-1815811200-1815832800@westsidesportsmens.com
SUMMARY:IDPA Shoot
DESCRIPTION:
URL:https://westsidesportsmens.com/calendar/idpa-shoot-2/2027-07-17/
LOCATION:Event Bays
CATEGORIES:Practical Action Shooting
END:VEVENT
BEGIN:VEVENT
DTSTART;TZID=UTC:20270720T183000
DTEND;TZID=UTC:20270720T200000
DTSTAMP:20260421T115627
CREATED:20231231T100907Z
LAST-MODIFIED:20231231T100931Z
UID:10001206-1816108200-1816113600@westsidesportsmens.com
SUMMARY:Rules & Regulations Committee Meeting
DESCRIPTION:
URL:https://westsidesportsmens.com/calendar/rules-regulations-committee-meeting/2027-07-20/
LOCATION:Club House
CATEGORIES:General Event
END:VEVENT
BEGIN:VEVENT
DTSTART;TZID=UTC:20270721T080000
DTEND;TZID=UTC:20270721T110000
DTSTAMP:20260421T115627
CREATED:20231231T112319Z
LAST-MODIFIED:20231231T112413Z
UID:10001491-1816156800-1816167600@westsidesportsmens.com
SUMMARY:Cowboy Shoot Setup
DESCRIPTION:
URL:https://westsidesportsmens.com/calendar/cowboy-shoot-setup/2027-07-21/
LOCATION:Cowboy Town\, 1000 Peerless Rd\, Evansville\, IN\, 47712\, United States
CATEGORIES:Cowboy
END:VEVENT
BEGIN:VEVENT
DTSTART;TZID=UTC:20270721T183000
DTEND;TZID=UTC:20270721T203000
DTSTAMP:20260421T115627
CREATED:20231231T101107Z
LAST-MODIFIED:20231231T101123Z
UID:10001266-1816194600-1816201800@westsidesportsmens.com
SUMMARY:Board of Directors Meeting
DESCRIPTION:
URL:https://westsidesportsmens.com/calendar/board-of-directors-meeting-2/2027-07-21/
LOCATION:Club Office
CATEGORIES:General Event
END:VEVENT
BEGIN:VEVENT
DTSTART;TZID=America/Chicago:20270724T090000
DTEND;TZID=America/Chicago:20270724T160000
DTSTAMP:20260421T115627
CREATED:20250306T011126Z
LAST-MODIFIED:20250719T215715Z
UID:10001792-1816419600-1816444800@westsidesportsmens.com
SUMMARY:Cowboy SASS Match
DESCRIPTION:
URL:https://westsidesportsmens.com/calendar/cowboy-sass-match-2/2027-07-24/
LOCATION:Cookhouse\, 1000 Peerless Rd\, Evansville\, IN\, 47712\, United States
CATEGORIES:Cowboy
END:VEVENT
BEGIN:VEVENT
DTSTART;TZID=America/Chicago:20270728T080000
DTEND;TZID=America/Chicago:20270728T120000
DTSTAMP:20260421T115627
CREATED:20250306T011312Z
LAST-MODIFIED:20250719T215716Z
UID:10001851-1816761600-1816776000@westsidesportsmens.com
SUMMARY:Cowboy Match Setup
DESCRIPTION:
URL:https://westsidesportsmens.com/calendar/cowboy-match-setup-3/2027-07-28/
LOCATION:Cowboy Town\, 1000 Peerless Rd\, Evansville\, IN\, 47712\, United States
CATEGORIES:Cowboy
END:VEVENT
BEGIN:VEVENT
DTSTART;TZID=UTC:20270802T180000
DTEND;TZID=UTC:20270802T200000
DTSTAMP:20260421T115627
CREATED:20231231T092753Z
LAST-MODIFIED:20231231T093808Z
UID:10000758-1817229600-1817236800@westsidesportsmens.com
SUMMARY:IDPA Meeting
DESCRIPTION:
URL:https://westsidesportsmens.com/calendar/idpa-meeting-2/2027-08-02/
LOCATION:Club House
CATEGORIES:Practical Action Shooting
END:VEVENT
BEGIN:VEVENT
DTSTART;TZID=UTC:20270802T190000
DTEND;TZID=UTC:20270802T210000
DTSTAMP:20260421T115627
CREATED:20231231T093611Z
LAST-MODIFIED:20231231T094546Z
UID:10000818-1817233200-1817240400@westsidesportsmens.com
SUMMARY:Cowboy Committee Meeting
DESCRIPTION:
URL:https://westsidesportsmens.com/calendar/cowboy-committee-meeting-3/2027-08-02/
LOCATION:Cookhouse\, 1000 Peerless Rd\, Evansville\, IN\, 47712\, United States
CATEGORIES:Cowboy
END:VEVENT
BEGIN:VEVENT
DTSTART;TZID=America/Chicago:20270804T190000
DTEND;TZID=America/Chicago:20270804T203000
DTSTAMP:20260421T115627
CREATED:20250306T000144Z
LAST-MODIFIED:20250719T215717Z
UID:10001648-1817406000-1817411400@westsidesportsmens.com
SUMMARY:General Member Meeting
DESCRIPTION:
URL:https://westsidesportsmens.com/calendar/general-member-meeting/2027-08-04/
LOCATION:Club House
CATEGORIES:General Event
END:VEVENT
BEGIN:VEVENT
DTSTART;TZID=UTC:20270805T180000
DTEND;TZID=UTC:20270805T200000
DTSTAMP:20260421T115627
CREATED:20231231T094347Z
LAST-MODIFIED:20231231T095142Z
UID:10000939-1817488800-1817496000@westsidesportsmens.com
SUMMARY:Membership Committee Meeting
DESCRIPTION:
URL:https://westsidesportsmens.com/calendar/membership-committee-meeting-2/2027-08-05/
LOCATION:Club Office
CATEGORIES:Membership
END:VEVENT
BEGIN:VEVENT
DTSTART;TZID=UTC:20270811T183000
DTEND;TZID=UTC:20270811T200000
DTSTAMP:20260421T115627
CREATED:20231231T094914Z
LAST-MODIFIED:20231231T095034Z
UID:10000880-1818009000-1818014400@westsidesportsmens.com
SUMMARY:Rifle Range Committee Meeting
DESCRIPTION:
URL:https://westsidesportsmens.com/calendar/rifle-range-committee-meeting-12/2027-08-11/
LOCATION:Club House
CATEGORIES:Rifle Range
END:VEVENT
BEGIN:VEVENT
DTSTART;TZID=UTC:20270814T080000
DTEND;TZID=UTC:20270814T170000
DTSTAMP:20260421T115627
CREATED:20231231T100506Z
LAST-MODIFIED:20231231T100553Z
UID:10001147-1818230400-1818262800@westsidesportsmens.com
SUMMARY:Club Work Day
DESCRIPTION:
URL:https://westsidesportsmens.com/calendar/club-work-day-2/2027-08-14/
LOCATION:Club Wide Event
CATEGORIES:General Event
END:VEVENT
BEGIN:VEVENT
DTSTART;TZID=UTC:20270817T183000
DTEND;TZID=UTC:20270817T200000
DTSTAMP:20260421T115627
CREATED:20231231T100907Z
LAST-MODIFIED:20231231T100931Z
UID:10001207-1818527400-1818532800@westsidesportsmens.com
SUMMARY:Rules & Regulations Committee Meeting
DESCRIPTION:
URL:https://westsidesportsmens.com/calendar/rules-regulations-committee-meeting/2027-08-17/
LOCATION:Club House
CATEGORIES:General Event
END:VEVENT
BEGIN:VEVENT
DTSTART;TZID=UTC:20270818T080000
DTEND;TZID=UTC:20270818T110000
DTSTAMP:20260421T115627
CREATED:20231231T112319Z
LAST-MODIFIED:20231231T112413Z
UID:10001492-1818576000-1818586800@westsidesportsmens.com
SUMMARY:Cowboy Shoot Setup
DESCRIPTION:
URL:https://westsidesportsmens.com/calendar/cowboy-shoot-setup/2027-08-18/
LOCATION:Cowboy Town\, 1000 Peerless Rd\, Evansville\, IN\, 47712\, United States
CATEGORIES:Cowboy
END:VEVENT
BEGIN:VEVENT
DTSTART;TZID=UTC:20270818T183000
DTEND;TZID=UTC:20270818T203000
DTSTAMP:20260421T115627
CREATED:20231231T101107Z
LAST-MODIFIED:20231231T101123Z
UID:10001267-1818613800-1818621000@westsidesportsmens.com
SUMMARY:Board of Directors Meeting
DESCRIPTION:
URL:https://westsidesportsmens.com/calendar/board-of-directors-meeting-2/2027-08-18/
LOCATION:Club Office
CATEGORIES:General Event
END:VEVENT
BEGIN:VEVENT
DTSTART;TZID=UTC:20270821T080000
DTEND;TZID=UTC:20270821T140000
DTSTAMP:20260421T115627
CREATED:20250306T001902Z
LAST-MODIFIED:20250719T215717Z
UID:10001732-1818835200-1818856800@westsidesportsmens.com
SUMMARY:IDPA Shoot
DESCRIPTION:
URL:https://westsidesportsmens.com/calendar/idpa-shoot-2/2027-08-21/
LOCATION:Event Bays
CATEGORIES:Practical Action Shooting
END:VEVENT
BEGIN:VEVENT
DTSTART;TZID=America/Chicago:20270825T080000
DTEND;TZID=America/Chicago:20270825T120000
DTSTAMP:20260421T115627
CREATED:20250306T011312Z
LAST-MODIFIED:20250719T215716Z
UID:10001852-1819180800-1819195200@westsidesportsmens.com
SUMMARY:Cowboy Match Setup
DESCRIPTION:
URL:https://westsidesportsmens.com/calendar/cowboy-match-setup-3/2027-08-25/
LOCATION:Cowboy Town\, 1000 Peerless Rd\, Evansville\, IN\, 47712\, United States
CATEGORIES:Cowboy
END:VEVENT
BEGIN:VEVENT
DTSTART;TZID=America/Chicago:20270828T090000
DTEND;TZID=America/Chicago:20270828T160000
DTSTAMP:20260421T115627
CREATED:20250306T011126Z
LAST-MODIFIED:20250719T215715Z
UID:10001793-1819443600-1819468800@westsidesportsmens.com
SUMMARY:Cowboy SASS Match
DESCRIPTION:
URL:https://westsidesportsmens.com/calendar/cowboy-sass-match-2/2027-08-28/
LOCATION:Cookhouse\, 1000 Peerless Rd\, Evansville\, IN\, 47712\, United States
CATEGORIES:Cowboy
END:VEVENT
BEGIN:VEVENT
DTSTART;TZID=America/Chicago:20270901T190000
DTEND;TZID=America/Chicago:20270901T203000
DTSTAMP:20260421T115627
CREATED:20250306T000144Z
LAST-MODIFIED:20250719T215717Z
UID:10001649-1819825200-1819830600@westsidesportsmens.com
SUMMARY:General Member Meeting
DESCRIPTION:
URL:https://westsidesportsmens.com/calendar/general-member-meeting/2027-09-01/
LOCATION:Club House
CATEGORIES:General Event
END:VEVENT
BEGIN:VEVENT
DTSTART;TZID=UTC:20270902T180000
DTEND;TZID=UTC:20270902T200000
DTSTAMP:20260421T115627
CREATED:20231231T094347Z
LAST-MODIFIED:20231231T095142Z
UID:10000940-1819908000-1819915200@westsidesportsmens.com
SUMMARY:Membership Committee Meeting
DESCRIPTION:
URL:https://westsidesportsmens.com/calendar/membership-committee-meeting-2/2027-09-02/
LOCATION:Club Office
CATEGORIES:Membership
END:VEVENT
BEGIN:VEVENT
DTSTART;TZID=UTC:20270906T180000
DTEND;TZID=UTC:20270906T200000
DTSTAMP:20260421T115627
CREATED:20231231T092753Z
LAST-MODIFIED:20231231T093808Z
UID:10000759-1820253600-1820260800@westsidesportsmens.com
SUMMARY:IDPA Meeting
DESCRIPTION:
URL:https://westsidesportsmens.com/calendar/idpa-meeting-2/2027-09-06/
LOCATION:Club House
CATEGORIES:Practical Action Shooting
END:VEVENT
BEGIN:VEVENT
DTSTART;TZID=UTC:20270906T190000
DTEND;TZID=UTC:20270906T210000
DTSTAMP:20260421T115627
CREATED:20231231T093611Z
LAST-MODIFIED:20231231T094546Z
UID:10000819-1820257200-1820264400@westsidesportsmens.com
SUMMARY:Cowboy Committee Meeting
DESCRIPTION:
URL:https://westsidesportsmens.com/calendar/cowboy-committee-meeting-3/2027-09-06/
LOCATION:Cookhouse\, 1000 Peerless Rd\, Evansville\, IN\, 47712\, United States
CATEGORIES:Cowboy
END:VEVENT
BEGIN:VEVENT
DTSTART;TZID=UTC:20270908T183000
DTEND;TZID=UTC:20270908T200000
DTSTAMP:20260421T115627
CREATED:20231231T094914Z
LAST-MODIFIED:20231231T095034Z
UID:10000881-1820428200-1820433600@westsidesportsmens.com
SUMMARY:Rifle Range Committee Meeting
DESCRIPTION:
URL:https://westsidesportsmens.com/calendar/rifle-range-committee-meeting-12/2027-09-08/
LOCATION:Club House
CATEGORIES:Rifle Range
END:VEVENT
BEGIN:VEVENT
DTSTART;TZID=UTC:20270909T183000
DTEND;TZID=UTC:20270909T200000
DTSTAMP:20260421T115627
CREATED:20231231T095910Z
LAST-MODIFIED:20231231T100235Z
UID:10001096-1820514600-1820520000@westsidesportsmens.com
SUMMARY:Leadership Meeting
DESCRIPTION:
URL:https://westsidesportsmens.com/calendar/leadership-meeting-7/2027-09-09/
LOCATION:Club Office
CATEGORIES:General Event
END:VEVENT
BEGIN:VEVENT
DTSTART;TZID=UTC:20270911T080000
DTEND;TZID=UTC:20270911T170000
DTSTAMP:20260421T115627
CREATED:20231231T100506Z
LAST-MODIFIED:20231231T100553Z
UID:10001148-1820649600-1820682000@westsidesportsmens.com
SUMMARY:Club Work Day
DESCRIPTION:
URL:https://westsidesportsmens.com/calendar/club-work-day-2/2027-09-11/
LOCATION:Club Wide Event
CATEGORIES:General Event
END:VEVENT
END:VCALENDAR