BEGIN:VCALENDAR
VERSION:2.0
PRODID:-//West Side Sportsmans Club - ECPv6.15.15//NONSGML v1.0//EN
CALSCALE:GREGORIAN
METHOD:PUBLISH
X-WR-CALNAME:West Side Sportsmans Club
X-ORIGINAL-URL:https://westsidesportsmens.com
X-WR-CALDESC:Events for West Side Sportsmans Club
REFRESH-INTERVAL;VALUE=DURATION:PT1H
X-Robots-Tag:noindex
X-PUBLISHED-TTL:PT1H
BEGIN:VTIMEZONE
TZID:UTC
BEGIN:STANDARD
TZOFFSETFROM:+0000
TZOFFSETTO:+0000
TZNAME:UTC
DTSTART:20240101T000000
END:STANDARD
END:VTIMEZONE
BEGIN:VTIMEZONE
TZID:America/Chicago
BEGIN:DAYLIGHT
TZOFFSETFROM:-0600
TZOFFSETTO:-0500
TZNAME:CDT
DTSTART:20240310T080000
END:DAYLIGHT
BEGIN:STANDARD
TZOFFSETFROM:-0500
TZOFFSETTO:-0600
TZNAME:CST
DTSTART:20241103T070000
END:STANDARD
BEGIN:DAYLIGHT
TZOFFSETFROM:-0600
TZOFFSETTO:-0500
TZNAME:CDT
DTSTART:20250309T080000
END:DAYLIGHT
BEGIN:STANDARD
TZOFFSETFROM:-0500
TZOFFSETTO:-0600
TZNAME:CST
DTSTART:20251102T070000
END:STANDARD
BEGIN:DAYLIGHT
TZOFFSETFROM:-0600
TZOFFSETTO:-0500
TZNAME:CDT
DTSTART:20260308T080000
END:DAYLIGHT
BEGIN:STANDARD
TZOFFSETFROM:-0500
TZOFFSETTO:-0600
TZNAME:CST
DTSTART:20261101T070000
END:STANDARD
END:VTIMEZONE
BEGIN:VEVENT
DTSTART;TZID=UTC:20250409T183000
DTEND;TZID=UTC:20250409T200000
DTSTAMP:20260421T110700
CREATED:20231231T094914Z
LAST-MODIFIED:20231231T095034Z
UID:10000852-1744223400-1744228800@westsidesportsmens.com
SUMMARY:Rifle Range Committee Meeting
DESCRIPTION:
URL:https://westsidesportsmens.com/calendar/rifle-range-committee-meeting-12/2025-04-09/
LOCATION:Club House
CATEGORIES:Rifle Range
END:VEVENT
BEGIN:VEVENT
DTSTART;TZID=UTC:20250407T190000
DTEND;TZID=UTC:20250407T210000
DTSTAMP:20260421T110700
CREATED:20231231T093611Z
LAST-MODIFIED:20231231T094546Z
UID:10000790-1744052400-1744059600@westsidesportsmens.com
SUMMARY:Cowboy Committee Meeting
DESCRIPTION:
URL:https://westsidesportsmens.com/calendar/cowboy-committee-meeting-3/2025-04-07/
LOCATION:Cookhouse\, 1000 Peerless Rd\, Evansville\, IN\, 47712\, United States
CATEGORIES:Cowboy
END:VEVENT
BEGIN:VEVENT
DTSTART;TZID=UTC:20250407T180000
DTEND;TZID=UTC:20250407T200000
DTSTAMP:20260421T110700
CREATED:20231231T092753Z
LAST-MODIFIED:20231231T093808Z
UID:10000730-1744048800-1744056000@westsidesportsmens.com
SUMMARY:IDPA Meeting
DESCRIPTION:
URL:https://westsidesportsmens.com/calendar/idpa-meeting-2/2025-04-07/
LOCATION:Club House
CATEGORIES:Practical Action Shooting
END:VEVENT
BEGIN:VEVENT
DTSTART;TZID=America/Chicago:20250406T120000
DTEND;TZID=America/Chicago:20250406T170000
DTSTAMP:20260421T110700
CREATED:20250306T001530Z
LAST-MODIFIED:20250719T215716Z
UID:10001700-1743940800-1743958800@westsidesportsmens.com
SUMMARY:Spring Spot Shoot
DESCRIPTION:WSSC Spring-Fall Spot Shoot Flyer 2025 (1)
URL:https://westsidesportsmens.com/calendar/spring-spot-shoot/2025-04-06/
LOCATION:Spot Range
CATEGORIES:Spot Shoot
ORGANIZER;CN="Kraig Hausmann":MAILTO:kraighausmann@gmail.com
END:VEVENT
BEGIN:VEVENT
DTSTART;TZID=UTC:20250403T180000
DTEND;TZID=UTC:20250403T200000
DTSTAMP:20260421T110700
CREATED:20231231T094347Z
LAST-MODIFIED:20231231T095142Z
UID:10000911-1743703200-1743710400@westsidesportsmens.com
SUMMARY:Membership Committee Meeting
DESCRIPTION:
URL:https://westsidesportsmens.com/calendar/membership-committee-meeting-2/2025-04-03/
LOCATION:Club Office
CATEGORIES:Membership
END:VEVENT
BEGIN:VEVENT
DTSTART;TZID=America/Chicago:20250402T190000
DTEND;TZID=America/Chicago:20250402T203000
DTSTAMP:20260421T110700
CREATED:20250306T000144Z
LAST-MODIFIED:20250719T215717Z
UID:10001620-1743620400-1743625800@westsidesportsmens.com
SUMMARY:General Member Meeting
DESCRIPTION:
URL:https://westsidesportsmens.com/calendar/general-member-meeting/2025-04-02/
LOCATION:Club House
CATEGORIES:General Event
END:VEVENT
BEGIN:VEVENT
DTSTART;TZID=America/Chicago:20250330T120000
DTEND;TZID=America/Chicago:20250330T170000
DTSTAMP:20260421T110700
CREATED:20250306T001530Z
LAST-MODIFIED:20250719T215716Z
UID:10001699-1743336000-1743354000@westsidesportsmens.com
SUMMARY:Spring Spot Shoot
DESCRIPTION:WSSC Spring-Fall Spot Shoot Flyer 2025 (1)
URL:https://westsidesportsmens.com/calendar/spring-spot-shoot/2025-03-30/
LOCATION:Spot Range
CATEGORIES:Spot Shoot
ORGANIZER;CN="Kraig Hausmann":MAILTO:kraighausmann@gmail.com
END:VEVENT
BEGIN:VEVENT
DTSTART;TZID=America/Chicago:20250323T120000
DTEND;TZID=America/Chicago:20250323T170000
DTSTAMP:20260421T110700
CREATED:20250306T001530Z
LAST-MODIFIED:20250719T215716Z
UID:10001682-1742731200-1742749200@westsidesportsmens.com
SUMMARY:Spring Spot Shoot
DESCRIPTION:WSSC Spring-Fall Spot Shoot Flyer 2025 (1)
URL:https://westsidesportsmens.com/calendar/spring-spot-shoot/2025-03-23/
LOCATION:Spot Range
CATEGORIES:Spot Shoot
ORGANIZER;CN="Kraig Hausmann":MAILTO:kraighausmann@gmail.com
END:VEVENT
BEGIN:VEVENT
DTSTART;TZID=America/Chicago:20250322T080000
DTEND;TZID=America/Chicago:20250322T170000
DTSTAMP:20260421T110700
CREATED:20250306T010942Z
LAST-MODIFIED:20250719T215716Z
UID:10001764-1742630400-1742662800@westsidesportsmens.com
SUMMARY:Cowboy SASS Match
DESCRIPTION:
URL:https://westsidesportsmens.com/calendar/cowboy-sass-match/
LOCATION:Cowboy Town\, 1000 Peerless Rd\, Evansville\, IN\, 47712\, United States
CATEGORIES:Cowboy
END:VEVENT
BEGIN:VEVENT
DTSTART;TZID=UTC:20250319T183000
DTEND;TZID=UTC:20250319T203000
DTSTAMP:20260421T110700
CREATED:20231231T101107Z
LAST-MODIFIED:20231231T101123Z
UID:10001238-1742409000-1742416200@westsidesportsmens.com
SUMMARY:Board of Directors Meeting
DESCRIPTION:
URL:https://westsidesportsmens.com/calendar/board-of-directors-meeting-2/2025-03-19/
LOCATION:Club Office
CATEGORIES:General Event
END:VEVENT
BEGIN:VEVENT
DTSTART;TZID=America/Chicago:20250319T080000
DTEND;TZID=America/Chicago:20250319T160000
DTSTAMP:20260421T110700
CREATED:20250306T010442Z
LAST-MODIFIED:20250719T215717Z
UID:10001763-1742371200-1742400000@westsidesportsmens.com
SUMMARY:Cowboy Match Setup
DESCRIPTION:
URL:https://westsidesportsmens.com/calendar/cowboy-match-setup-2/
LOCATION:Cowboy Town\, 1000 Peerless Rd\, Evansville\, IN\, 47712\, United States
CATEGORIES:Cowboy
END:VEVENT
BEGIN:VEVENT
DTSTART;TZID=UTC:20250319T080000
DTEND;TZID=UTC:20250319T110000
DTSTAMP:20260421T110700
CREATED:20231231T112319Z
LAST-MODIFIED:20231231T112413Z
UID:10001463-1742371200-1742382000@westsidesportsmens.com
SUMMARY:Cowboy Shoot Setup
DESCRIPTION:
URL:https://westsidesportsmens.com/calendar/cowboy-shoot-setup/2025-03-19/
LOCATION:Cowboy Town\, 1000 Peerless Rd\, Evansville\, IN\, 47712\, United States
CATEGORIES:Cowboy
END:VEVENT
BEGIN:VEVENT
DTSTART;TZID=UTC:20250318T183000
DTEND;TZID=UTC:20250318T200000
DTSTAMP:20260421T110700
CREATED:20231231T100907Z
LAST-MODIFIED:20231231T100931Z
UID:10001178-1742322600-1742328000@westsidesportsmens.com
SUMMARY:Rules & Regulations Committee Meeting
DESCRIPTION:
URL:https://westsidesportsmens.com/calendar/rules-regulations-committee-meeting/2025-03-18/
LOCATION:Club House
CATEGORIES:General Event
END:VEVENT
BEGIN:VEVENT
DTSTART;TZID=UTC:20250315T080000
DTEND;TZID=UTC:20250315T140000
DTSTAMP:20260421T110700
CREATED:20250306T001902Z
LAST-MODIFIED:20250719T215717Z
UID:10001703-1742025600-1742047200@westsidesportsmens.com
SUMMARY:IDPA Shoot
DESCRIPTION:
URL:https://westsidesportsmens.com/calendar/idpa-shoot-2/2025-03-15/
LOCATION:Event Bays
CATEGORIES:Practical Action Shooting
END:VEVENT
BEGIN:VEVENT
DTSTART;TZID=UTC:20250313T183000
DTEND;TZID=UTC:20250313T200000
DTSTAMP:20260421T110700
CREATED:20231231T095910Z
LAST-MODIFIED:20231231T100235Z
UID:10001081-1741890600-1741896000@westsidesportsmens.com
SUMMARY:Leadership Meeting
DESCRIPTION:
URL:https://westsidesportsmens.com/calendar/leadership-meeting-7/2025-03-13/
LOCATION:Club Office
CATEGORIES:General Event
END:VEVENT
BEGIN:VEVENT
DTSTART;TZID=UTC:20250312T183000
DTEND;TZID=UTC:20250312T200000
DTSTAMP:20260421T110700
CREATED:20231231T094914Z
LAST-MODIFIED:20231231T095034Z
UID:10000851-1741804200-1741809600@westsidesportsmens.com
SUMMARY:Rifle Range Committee Meeting
DESCRIPTION:
URL:https://westsidesportsmens.com/calendar/rifle-range-committee-meeting-12/2025-03-12/
LOCATION:Club House
CATEGORIES:Rifle Range
END:VEVENT
BEGIN:VEVENT
DTSTART;TZID=UTC:20250308T080000
DTEND;TZID=UTC:20250308T170000
DTSTAMP:20260421T110700
CREATED:20231231T100506Z
LAST-MODIFIED:20231231T100553Z
UID:10001118-1741420800-1741453200@westsidesportsmens.com
SUMMARY:Club Work Day
DESCRIPTION:
URL:https://westsidesportsmens.com/calendar/club-work-day-2/2025-03-08/
LOCATION:Club Wide Event
CATEGORIES:General Event
END:VEVENT
BEGIN:VEVENT
DTSTART;TZID=America/Chicago:20250308T070000
DTEND;TZID=America/Chicago:20250308T150000
DTSTAMP:20260421T110700
CREATED:20250306T001142Z
LAST-MODIFIED:20250719T215717Z
UID:10001681-1741417200-1741446000@westsidesportsmens.com
SUMMARY:IDPA SRO Training
DESCRIPTION:
URL:https://westsidesportsmens.com/calendar/idpa-sro-training/
LOCATION:Club House
CATEGORIES:Practical Action Shooting
END:VEVENT
BEGIN:VEVENT
DTSTART;TZID=UTC:20250306T180000
DTEND;TZID=UTC:20250306T200000
DTSTAMP:20260421T110700
CREATED:20231231T094347Z
LAST-MODIFIED:20231231T095142Z
UID:10000910-1741284000-1741291200@westsidesportsmens.com
SUMMARY:Membership Committee Meeting
DESCRIPTION:
URL:https://westsidesportsmens.com/calendar/membership-committee-meeting-2/2025-03-06/
LOCATION:Club Office
CATEGORIES:Membership
END:VEVENT
BEGIN:VEVENT
DTSTART;TZID=America/Chicago:20250305T190000
DTEND;TZID=America/Chicago:20250305T203000
DTSTAMP:20260421T110700
CREATED:20250306T000144Z
LAST-MODIFIED:20250719T215717Z
UID:10001619-1741201200-1741206600@westsidesportsmens.com
SUMMARY:General Member Meeting
DESCRIPTION:
URL:https://westsidesportsmens.com/calendar/general-member-meeting/2025-03-05/
LOCATION:Club House
CATEGORIES:General Event
END:VEVENT
BEGIN:VEVENT
DTSTART;TZID=UTC:20250303T190000
DTEND;TZID=UTC:20250303T210000
DTSTAMP:20260421T110700
CREATED:20231231T093611Z
LAST-MODIFIED:20231231T094546Z
UID:10000789-1741028400-1741035600@westsidesportsmens.com
SUMMARY:Cowboy Committee Meeting
DESCRIPTION:
URL:https://westsidesportsmens.com/calendar/cowboy-committee-meeting-3/2025-03-03/
LOCATION:Cookhouse\, 1000 Peerless Rd\, Evansville\, IN\, 47712\, United States
CATEGORIES:Cowboy
END:VEVENT
BEGIN:VEVENT
DTSTART;TZID=UTC:20250303T180000
DTEND;TZID=UTC:20250303T200000
DTSTAMP:20260421T110700
CREATED:20231231T092753Z
LAST-MODIFIED:20231231T093808Z
UID:10000729-1741024800-1741032000@westsidesportsmens.com
SUMMARY:IDPA Meeting
DESCRIPTION:
URL:https://westsidesportsmens.com/calendar/idpa-meeting-2/2025-03-03/
LOCATION:Club House
CATEGORIES:Practical Action Shooting
END:VEVENT
BEGIN:VEVENT
DTSTART;TZID=UTC:20250219T183000
DTEND;TZID=UTC:20250219T203000
DTSTAMP:20260421T110700
CREATED:20231231T101107Z
LAST-MODIFIED:20231231T101123Z
UID:10001237-1739989800-1739997000@westsidesportsmens.com
SUMMARY:Board of Directors Meeting
DESCRIPTION:
URL:https://westsidesportsmens.com/calendar/board-of-directors-meeting-2/2025-02-19/
LOCATION:Club Office
CATEGORIES:General Event
END:VEVENT
BEGIN:VEVENT
DTSTART;TZID=UTC:20250219T080000
DTEND;TZID=UTC:20250219T110000
DTSTAMP:20260421T110700
CREATED:20231231T112319Z
LAST-MODIFIED:20231231T112413Z
UID:10001462-1739952000-1739962800@westsidesportsmens.com
SUMMARY:Cowboy Shoot Setup
DESCRIPTION:
URL:https://westsidesportsmens.com/calendar/cowboy-shoot-setup/2025-02-19/
LOCATION:Cowboy Town\, 1000 Peerless Rd\, Evansville\, IN\, 47712\, United States
CATEGORIES:Cowboy
END:VEVENT
BEGIN:VEVENT
DTSTART;TZID=UTC:20250218T183000
DTEND;TZID=UTC:20250218T200000
DTSTAMP:20260421T110700
CREATED:20231231T100907Z
LAST-MODIFIED:20231231T100931Z
UID:10001177-1739903400-1739908800@westsidesportsmens.com
SUMMARY:Rules & Regulations Committee Meeting
DESCRIPTION:
URL:https://westsidesportsmens.com/calendar/rules-regulations-committee-meeting/2025-02-18/
LOCATION:Club House
CATEGORIES:General Event
END:VEVENT
BEGIN:VEVENT
DTSTART;TZID=UTC:20250215T080000
DTEND;TZID=UTC:20250215T140000
DTSTAMP:20260421T110700
CREATED:20231231T101603Z
LAST-MODIFIED:20231231T101627Z
UID:10001357-1739606400-1739628000@westsidesportsmens.com
SUMMARY:IDPA Shoot
DESCRIPTION:
URL:https://westsidesportsmens.com/calendar/idpa-shoot/2025-02-15/
LOCATION:Event Bays
CATEGORIES:Practical Action Shooting
END:VEVENT
BEGIN:VEVENT
DTSTART;TZID=UTC:20250212T183000
DTEND;TZID=UTC:20250212T200000
DTSTAMP:20260421T110700
CREATED:20231231T094914Z
LAST-MODIFIED:20231231T095034Z
UID:10000850-1739385000-1739390400@westsidesportsmens.com
SUMMARY:Rifle Range Committee Meeting
DESCRIPTION:
URL:https://westsidesportsmens.com/calendar/rifle-range-committee-meeting-12/2025-02-12/
LOCATION:Club House
CATEGORIES:Rifle Range
END:VEVENT
BEGIN:VEVENT
DTSTART;TZID=UTC:20250208T080000
DTEND;TZID=UTC:20250208T170000
DTSTAMP:20260421T110700
CREATED:20231231T100506Z
LAST-MODIFIED:20231231T100553Z
UID:10001117-1739001600-1739034000@westsidesportsmens.com
SUMMARY:Club Work Day
DESCRIPTION:
URL:https://westsidesportsmens.com/calendar/club-work-day-2/2025-02-08/
LOCATION:Club Wide Event
CATEGORIES:General Event
END:VEVENT
BEGIN:VEVENT
DTSTART;TZID=UTC:20250206T180000
DTEND;TZID=UTC:20250206T200000
DTSTAMP:20260421T110700
CREATED:20231231T094347Z
LAST-MODIFIED:20231231T095142Z
UID:10000909-1738864800-1738872000@westsidesportsmens.com
SUMMARY:Membership Committee Meeting
DESCRIPTION:
URL:https://westsidesportsmens.com/calendar/membership-committee-meeting-2/2025-02-06/
LOCATION:Club Office
CATEGORIES:Membership
END:VEVENT
BEGIN:VEVENT
DTSTART;TZID=America/Chicago:20250205T190000
DTEND;TZID=America/Chicago:20250205T203000
DTSTAMP:20260421T110700
CREATED:20250122T014930Z
LAST-MODIFIED:20250719T215718Z
UID:10001614-1738782000-1738787400@westsidesportsmens.com
SUMMARY:General Membership Meeting
DESCRIPTION:
URL:https://westsidesportsmens.com/calendar/general-membership-meeting-14/
LOCATION:Club House
CATEGORIES:General Event
END:VEVENT
END:VCALENDAR