BEGIN:VCALENDAR
VERSION:2.0
PRODID:-//West Side Sportsmans Club - ECPv6.15.15//NONSGML v1.0//EN
CALSCALE:GREGORIAN
METHOD:PUBLISH
X-WR-CALNAME:West Side Sportsmans Club
X-ORIGINAL-URL:https://westsidesportsmens.com
X-WR-CALDESC:Events for West Side Sportsmans Club
REFRESH-INTERVAL;VALUE=DURATION:PT1H
X-Robots-Tag:noindex
X-PUBLISHED-TTL:PT1H
BEGIN:VTIMEZONE
TZID:America/Chicago
BEGIN:DAYLIGHT
TZOFFSETFROM:-0600
TZOFFSETTO:-0500
TZNAME:CDT
DTSTART:20240310T080000
END:DAYLIGHT
BEGIN:STANDARD
TZOFFSETFROM:-0500
TZOFFSETTO:-0600
TZNAME:CST
DTSTART:20241103T070000
END:STANDARD
BEGIN:DAYLIGHT
TZOFFSETFROM:-0600
TZOFFSETTO:-0500
TZNAME:CDT
DTSTART:20250309T080000
END:DAYLIGHT
BEGIN:STANDARD
TZOFFSETFROM:-0500
TZOFFSETTO:-0600
TZNAME:CST
DTSTART:20251102T070000
END:STANDARD
BEGIN:DAYLIGHT
TZOFFSETFROM:-0600
TZOFFSETTO:-0500
TZNAME:CDT
DTSTART:20260308T080000
END:DAYLIGHT
BEGIN:STANDARD
TZOFFSETFROM:-0500
TZOFFSETTO:-0600
TZNAME:CST
DTSTART:20261101T070000
END:STANDARD
END:VTIMEZONE
BEGIN:VTIMEZONE
TZID:UTC
BEGIN:STANDARD
TZOFFSETFROM:+0000
TZOFFSETTO:+0000
TZNAME:UTC
DTSTART:20240101T000000
END:STANDARD
END:VTIMEZONE
BEGIN:VEVENT
DTSTART;TZID=America/Chicago:20250528T080000
DTEND;TZID=America/Chicago:20250528T120000
DTSTAMP:20260420T224505
CREATED:20250306T011312Z
LAST-MODIFIED:20250719T215716Z
UID:10001825-1748419200-1748433600@westsidesportsmens.com
SUMMARY:Cowboy Match Setup
DESCRIPTION:
URL:https://westsidesportsmens.com/calendar/cowboy-match-setup-3/2025-05-28/
LOCATION:Cowboy Town\, 1000 Peerless Rd\, Evansville\, IN\, 47712\, United States
CATEGORIES:Cowboy
END:VEVENT
BEGIN:VEVENT
DTSTART;TZID=America/Chicago:20250524T090000
DTEND;TZID=America/Chicago:20250524T160000
DTSTAMP:20260420T224505
CREATED:20250306T011126Z
LAST-MODIFIED:20250719T215715Z
UID:10001766-1748077200-1748102400@westsidesportsmens.com
SUMMARY:Cowboy SASS Match
DESCRIPTION:
URL:https://westsidesportsmens.com/calendar/cowboy-sass-match-2/2025-05-24/
LOCATION:Cookhouse\, 1000 Peerless Rd\, Evansville\, IN\, 47712\, United States
CATEGORIES:Cowboy
END:VEVENT
BEGIN:VEVENT
DTSTART;TZID=UTC:20250521T183000
DTEND;TZID=UTC:20250521T203000
DTSTAMP:20260420T224505
CREATED:20231231T101107Z
LAST-MODIFIED:20231231T101123Z
UID:10001240-1747852200-1747859400@westsidesportsmens.com
SUMMARY:Board of Directors Meeting
DESCRIPTION:
URL:https://westsidesportsmens.com/calendar/board-of-directors-meeting-2/2025-05-21/
LOCATION:Club Office
CATEGORIES:General Event
END:VEVENT
BEGIN:VEVENT
DTSTART;TZID=UTC:20250521T080000
DTEND;TZID=UTC:20250521T110000
DTSTAMP:20260420T224505
CREATED:20231231T112319Z
LAST-MODIFIED:20231231T112413Z
UID:10001465-1747814400-1747825200@westsidesportsmens.com
SUMMARY:Cowboy Shoot Setup
DESCRIPTION:
URL:https://westsidesportsmens.com/calendar/cowboy-shoot-setup/2025-05-21/
LOCATION:Cowboy Town\, 1000 Peerless Rd\, Evansville\, IN\, 47712\, United States
CATEGORIES:Cowboy
END:VEVENT
BEGIN:VEVENT
DTSTART;TZID=UTC:20250520T183000
DTEND;TZID=UTC:20250520T200000
DTSTAMP:20260420T224505
CREATED:20231231T100907Z
LAST-MODIFIED:20231231T100931Z
UID:10001180-1747765800-1747771200@westsidesportsmens.com
SUMMARY:Rules & Regulations Committee Meeting
DESCRIPTION:
URL:https://westsidesportsmens.com/calendar/rules-regulations-committee-meeting/2025-05-20/
LOCATION:Club House
CATEGORIES:General Event
END:VEVENT
BEGIN:VEVENT
DTSTART;TZID=UTC:20250517T080000
DTEND;TZID=UTC:20250517T140000
DTSTAMP:20260420T224505
CREATED:20250306T001902Z
LAST-MODIFIED:20250719T215717Z
UID:10001705-1747468800-1747490400@westsidesportsmens.com
SUMMARY:IDPA Shoot
DESCRIPTION:
URL:https://westsidesportsmens.com/calendar/idpa-shoot-2/2025-05-17/
LOCATION:Event Bays
CATEGORIES:Practical Action Shooting
END:VEVENT
BEGIN:VEVENT
DTSTART;TZID=UTC:20250514T183000
DTEND;TZID=UTC:20250514T200000
DTSTAMP:20260420T224505
CREATED:20231231T094914Z
LAST-MODIFIED:20231231T095034Z
UID:10000853-1747247400-1747252800@westsidesportsmens.com
SUMMARY:Rifle Range Committee Meeting
DESCRIPTION:
URL:https://westsidesportsmens.com/calendar/rifle-range-committee-meeting-12/2025-05-14/
LOCATION:Club House
CATEGORIES:Rifle Range
END:VEVENT
BEGIN:VEVENT
DTSTART;TZID=UTC:20250510T080000
DTEND;TZID=UTC:20250510T170000
DTSTAMP:20260420T224505
CREATED:20231231T100506Z
LAST-MODIFIED:20231231T100553Z
UID:10001120-1746864000-1746896400@westsidesportsmens.com
SUMMARY:Club Work Day
DESCRIPTION:
URL:https://westsidesportsmens.com/calendar/club-work-day-2/2025-05-10/
LOCATION:Club Wide Event
CATEGORIES:General Event
END:VEVENT
BEGIN:VEVENT
DTSTART;TZID=UTC:20250508T183000
DTEND;TZID=UTC:20250508T200000
DTSTAMP:20260420T224505
CREATED:20231231T095910Z
LAST-MODIFIED:20231231T100235Z
UID:10001082-1746729000-1746734400@westsidesportsmens.com
SUMMARY:Leadership Meeting
DESCRIPTION:
URL:https://westsidesportsmens.com/calendar/leadership-meeting-7/2025-05-08/
LOCATION:Club Office
CATEGORIES:General Event
END:VEVENT
BEGIN:VEVENT
DTSTART;TZID=America/Chicago:20250507T190000
DTEND;TZID=America/Chicago:20250507T203000
DTSTAMP:20260420T224505
CREATED:20250306T000144Z
LAST-MODIFIED:20250719T215717Z
UID:10001621-1746644400-1746649800@westsidesportsmens.com
SUMMARY:General Member Meeting
DESCRIPTION:
URL:https://westsidesportsmens.com/calendar/general-member-meeting/2025-05-07/
LOCATION:Club House
CATEGORIES:General Event
END:VEVENT
BEGIN:VEVENT
DTSTART;TZID=UTC:20250505T190000
DTEND;TZID=UTC:20250505T210000
DTSTAMP:20260420T224505
CREATED:20231231T093611Z
LAST-MODIFIED:20231231T094546Z
UID:10000791-1746471600-1746478800@westsidesportsmens.com
SUMMARY:Cowboy Committee Meeting
DESCRIPTION:
URL:https://westsidesportsmens.com/calendar/cowboy-committee-meeting-3/2025-05-05/
LOCATION:Cookhouse\, 1000 Peerless Rd\, Evansville\, IN\, 47712\, United States
CATEGORIES:Cowboy
END:VEVENT
BEGIN:VEVENT
DTSTART;TZID=UTC:20250505T180000
DTEND;TZID=UTC:20250505T200000
DTSTAMP:20260420T224505
CREATED:20231231T092753Z
LAST-MODIFIED:20231231T093808Z
UID:10000731-1746468000-1746475200@westsidesportsmens.com
SUMMARY:IDPA Meeting
DESCRIPTION:
URL:https://westsidesportsmens.com/calendar/idpa-meeting-2/2025-05-05/
LOCATION:Club House
CATEGORIES:Practical Action Shooting
END:VEVENT
BEGIN:VEVENT
DTSTART;TZID=America/Chicago:20250505T080000
DTEND;TZID=America/Chicago:20250510T170000
DTSTAMP:20260420T224505
CREATED:20250306T011610Z
LAST-MODIFIED:20250719T215715Z
UID:10001883-1746432000-1746896400@westsidesportsmens.com
SUMMARY:Cowboy Spring Round-Up
DESCRIPTION:Trap Range Closed
URL:https://westsidesportsmens.com/calendar/cowboy-spring-round-up/
LOCATION:Cowboy Town\, 1000 Peerless Rd\, Evansville\, IN\, 47712\, United States
CATEGORIES:Cowboy
END:VEVENT
BEGIN:VEVENT
DTSTART;TZID=America/Chicago:20250504T120000
DTEND;TZID=America/Chicago:20250504T170000
DTSTAMP:20260420T224505
CREATED:20250306T000734Z
LAST-MODIFIED:20250719T215715Z
UID:10001679-1746360000-1746378000@westsidesportsmens.com
SUMMARY:Spot Shoot Round Robin
DESCRIPTION:WSSC Spring-Fall Spot Shoot Flyer 2025 (1)
URL:https://westsidesportsmens.com/calendar/spot-shoot-round-robin-2/2025-05-04/
LOCATION:Spot Range
CATEGORIES:Spot Shoot
ORGANIZER;CN="Kraig Hausmann":MAILTO:kraighausmann@gmail.com
END:VEVENT
BEGIN:VEVENT
DTSTART;TZID=UTC:20250501T180000
DTEND;TZID=UTC:20250501T200000
DTSTAMP:20260420T224505
CREATED:20231231T094347Z
LAST-MODIFIED:20231231T095142Z
UID:10000912-1746122400-1746129600@westsidesportsmens.com
SUMMARY:Membership Committee Meeting
DESCRIPTION:
URL:https://westsidesportsmens.com/calendar/membership-committee-meeting-2/2025-05-01/
LOCATION:Club Office
CATEGORIES:Membership
END:VEVENT
BEGIN:VEVENT
DTSTART;TZID=America/Chicago:20250427T120000
DTEND;TZID=America/Chicago:20250427T170000
DTSTAMP:20260420T224505
CREATED:20250306T001530Z
LAST-MODIFIED:20250719T215716Z
UID:10001702-1745755200-1745773200@westsidesportsmens.com
SUMMARY:Spring Spot Shoot
DESCRIPTION:WSSC Spring-Fall Spot Shoot Flyer 2025 (1)
URL:https://westsidesportsmens.com/calendar/spring-spot-shoot/2025-04-27/
LOCATION:Spot Range
CATEGORIES:Spot Shoot
ORGANIZER;CN="Kraig Hausmann":MAILTO:kraighausmann@gmail.com
END:VEVENT
BEGIN:VEVENT
DTSTART;TZID=America/Chicago:20250426T090000
DTEND;TZID=America/Chicago:20250426T160000
DTSTAMP:20260420T224505
CREATED:20250306T011126Z
LAST-MODIFIED:20250719T215715Z
UID:10001765-1745658000-1745683200@westsidesportsmens.com
SUMMARY:Cowboy SASS Match
DESCRIPTION:
URL:https://westsidesportsmens.com/calendar/cowboy-sass-match-2/2025-04-26/
LOCATION:Cookhouse\, 1000 Peerless Rd\, Evansville\, IN\, 47712\, United States
CATEGORIES:Cowboy
END:VEVENT
BEGIN:VEVENT
DTSTART;TZID=America/Chicago:20250423T080000
DTEND;TZID=America/Chicago:20250423T120000
DTSTAMP:20260420T224505
CREATED:20250306T011312Z
LAST-MODIFIED:20250719T215716Z
UID:10001824-1745395200-1745409600@westsidesportsmens.com
SUMMARY:Cowboy Match Setup
DESCRIPTION:
URL:https://westsidesportsmens.com/calendar/cowboy-match-setup-3/2025-04-23/
LOCATION:Cowboy Town\, 1000 Peerless Rd\, Evansville\, IN\, 47712\, United States
CATEGORIES:Cowboy
END:VEVENT
BEGIN:VEVENT
DTSTART;TZID=America/Chicago:20250419T090000
DTEND;TZID=America/Chicago:20250419T110000
DTSTAMP:20260420T224505
CREATED:20250418T145159Z
LAST-MODIFIED:20250719T215716Z
UID:10001888-1745053200-1745060400@westsidesportsmens.com
SUMMARY:WSSC Easter Egg Hunt
DESCRIPTION:Members and their families are invited to Attend.  Children up to age 13 welcome to participate in the Easter Egg Hunt.
URL:https://westsidesportsmens.com/calendar/wssc-easter-egg-hunt/
LOCATION:Club House
CATEGORIES:Special Events
END:VEVENT
BEGIN:VEVENT
DTSTART;TZID=UTC:20250419T080000
DTEND;TZID=UTC:20250419T140000
DTSTAMP:20260420T224505
CREATED:20250306T001902Z
LAST-MODIFIED:20250719T215717Z
UID:10001704-1745049600-1745071200@westsidesportsmens.com
SUMMARY:IDPA Shoot
DESCRIPTION:
URL:https://westsidesportsmens.com/calendar/idpa-shoot-2/2025-04-19/
LOCATION:Event Bays
CATEGORIES:Practical Action Shooting
END:VEVENT
BEGIN:VEVENT
DTSTART;TZID=UTC:20250416T183000
DTEND;TZID=UTC:20250416T203000
DTSTAMP:20260420T224505
CREATED:20231231T101107Z
LAST-MODIFIED:20231231T101123Z
UID:10001239-1744828200-1744835400@westsidesportsmens.com
SUMMARY:Board of Directors Meeting
DESCRIPTION:
URL:https://westsidesportsmens.com/calendar/board-of-directors-meeting-2/2025-04-16/
LOCATION:Club Office
CATEGORIES:General Event
END:VEVENT
BEGIN:VEVENT
DTSTART;TZID=UTC:20250416T080000
DTEND;TZID=UTC:20250416T110000
DTSTAMP:20260420T224505
CREATED:20231231T112319Z
LAST-MODIFIED:20231231T112413Z
UID:10001464-1744790400-1744801200@westsidesportsmens.com
SUMMARY:Cowboy Shoot Setup
DESCRIPTION:
URL:https://westsidesportsmens.com/calendar/cowboy-shoot-setup/2025-04-16/
LOCATION:Cowboy Town\, 1000 Peerless Rd\, Evansville\, IN\, 47712\, United States
CATEGORIES:Cowboy
END:VEVENT
BEGIN:VEVENT
DTSTART;TZID=UTC:20250415T183000
DTEND;TZID=UTC:20250415T200000
DTSTAMP:20260420T224505
CREATED:20231231T100907Z
LAST-MODIFIED:20231231T100931Z
UID:10001179-1744741800-1744747200@westsidesportsmens.com
SUMMARY:Rules & Regulations Committee Meeting
DESCRIPTION:
URL:https://westsidesportsmens.com/calendar/rules-regulations-committee-meeting/2025-04-15/
LOCATION:Club House
CATEGORIES:General Event
END:VEVENT
BEGIN:VEVENT
DTSTART;TZID=America/Chicago:20250413T120000
DTEND;TZID=America/Chicago:20250413T170000
DTSTAMP:20260420T224505
CREATED:20250306T001530Z
LAST-MODIFIED:20250719T215716Z
UID:10001701-1744545600-1744563600@westsidesportsmens.com
SUMMARY:Spring Spot Shoot
DESCRIPTION:WSSC Spring-Fall Spot Shoot Flyer 2025 (1)
URL:https://westsidesportsmens.com/calendar/spring-spot-shoot/2025-04-13/
LOCATION:Spot Range
CATEGORIES:Spot Shoot
ORGANIZER;CN="Kraig Hausmann":MAILTO:kraighausmann@gmail.com
END:VEVENT
BEGIN:VEVENT
DTSTART;TZID=UTC:20250412T080000
DTEND;TZID=UTC:20250412T170000
DTSTAMP:20260420T224505
CREATED:20231231T100506Z
LAST-MODIFIED:20231231T100553Z
UID:10001119-1744444800-1744477200@westsidesportsmens.com
SUMMARY:Club Work Day
DESCRIPTION:
URL:https://westsidesportsmens.com/calendar/club-work-day-2/2025-04-12/
LOCATION:Club Wide Event
CATEGORIES:General Event
END:VEVENT
BEGIN:VEVENT
DTSTART;TZID=UTC:20250409T183000
DTEND;TZID=UTC:20250409T200000
DTSTAMP:20260420T224505
CREATED:20231231T094914Z
LAST-MODIFIED:20231231T095034Z
UID:10000852-1744223400-1744228800@westsidesportsmens.com
SUMMARY:Rifle Range Committee Meeting
DESCRIPTION:
URL:https://westsidesportsmens.com/calendar/rifle-range-committee-meeting-12/2025-04-09/
LOCATION:Club House
CATEGORIES:Rifle Range
END:VEVENT
BEGIN:VEVENT
DTSTART;TZID=UTC:20250407T190000
DTEND;TZID=UTC:20250407T210000
DTSTAMP:20260420T224505
CREATED:20231231T093611Z
LAST-MODIFIED:20231231T094546Z
UID:10000790-1744052400-1744059600@westsidesportsmens.com
SUMMARY:Cowboy Committee Meeting
DESCRIPTION:
URL:https://westsidesportsmens.com/calendar/cowboy-committee-meeting-3/2025-04-07/
LOCATION:Cookhouse\, 1000 Peerless Rd\, Evansville\, IN\, 47712\, United States
CATEGORIES:Cowboy
END:VEVENT
BEGIN:VEVENT
DTSTART;TZID=UTC:20250407T180000
DTEND;TZID=UTC:20250407T200000
DTSTAMP:20260420T224505
CREATED:20231231T092753Z
LAST-MODIFIED:20231231T093808Z
UID:10000730-1744048800-1744056000@westsidesportsmens.com
SUMMARY:IDPA Meeting
DESCRIPTION:
URL:https://westsidesportsmens.com/calendar/idpa-meeting-2/2025-04-07/
LOCATION:Club House
CATEGORIES:Practical Action Shooting
END:VEVENT
BEGIN:VEVENT
DTSTART;TZID=America/Chicago:20250406T120000
DTEND;TZID=America/Chicago:20250406T170000
DTSTAMP:20260420T224505
CREATED:20250306T001530Z
LAST-MODIFIED:20250719T215716Z
UID:10001700-1743940800-1743958800@westsidesportsmens.com
SUMMARY:Spring Spot Shoot
DESCRIPTION:WSSC Spring-Fall Spot Shoot Flyer 2025 (1)
URL:https://westsidesportsmens.com/calendar/spring-spot-shoot/2025-04-06/
LOCATION:Spot Range
CATEGORIES:Spot Shoot
ORGANIZER;CN="Kraig Hausmann":MAILTO:kraighausmann@gmail.com
END:VEVENT
BEGIN:VEVENT
DTSTART;TZID=UTC:20250403T180000
DTEND;TZID=UTC:20250403T200000
DTSTAMP:20260420T224505
CREATED:20231231T094347Z
LAST-MODIFIED:20231231T095142Z
UID:10000911-1743703200-1743710400@westsidesportsmens.com
SUMMARY:Membership Committee Meeting
DESCRIPTION:
URL:https://westsidesportsmens.com/calendar/membership-committee-meeting-2/2025-04-03/
LOCATION:Club Office
CATEGORIES:Membership
END:VEVENT
END:VCALENDAR