BEGIN:VCALENDAR
VERSION:2.0
PRODID:-//West Side Sportsmans Club - ECPv6.15.15//NONSGML v1.0//EN
CALSCALE:GREGORIAN
METHOD:PUBLISH
X-WR-CALNAME:West Side Sportsmans Club
X-ORIGINAL-URL:https://westsidesportsmens.com
X-WR-CALDESC:Events for West Side Sportsmans Club
REFRESH-INTERVAL;VALUE=DURATION:PT1H
X-Robots-Tag:noindex
X-PUBLISHED-TTL:PT1H
BEGIN:VTIMEZONE
TZID:UTC
BEGIN:STANDARD
TZOFFSETFROM:+0000
TZOFFSETTO:+0000
TZNAME:UTC
DTSTART:20260101T000000
END:STANDARD
END:VTIMEZONE
BEGIN:VTIMEZONE
TZID:America/Chicago
BEGIN:DAYLIGHT
TZOFFSETFROM:-0600
TZOFFSETTO:-0500
TZNAME:CDT
DTSTART:20260308T080000
END:DAYLIGHT
BEGIN:STANDARD
TZOFFSETFROM:-0500
TZOFFSETTO:-0600
TZNAME:CST
DTSTART:20261101T070000
END:STANDARD
BEGIN:DAYLIGHT
TZOFFSETFROM:-0600
TZOFFSETTO:-0500
TZNAME:CDT
DTSTART:20270314T080000
END:DAYLIGHT
BEGIN:STANDARD
TZOFFSETFROM:-0500
TZOFFSETTO:-0600
TZNAME:CST
DTSTART:20271107T070000
END:STANDARD
BEGIN:DAYLIGHT
TZOFFSETFROM:-0600
TZOFFSETTO:-0500
TZNAME:CDT
DTSTART:20280312T080000
END:DAYLIGHT
BEGIN:STANDARD
TZOFFSETFROM:-0500
TZOFFSETTO:-0600
TZNAME:CST
DTSTART:20281105T070000
END:STANDARD
END:VTIMEZONE
BEGIN:VEVENT
DTSTART;TZID=UTC:20270114T183000
DTEND;TZID=UTC:20270114T200000
DTSTAMP:20260420T235405
CREATED:20231231T095910Z
LAST-MODIFIED:20231231T100235Z
UID:10001092-1799951400-1799956800@westsidesportsmens.com
SUMMARY:Leadership Meeting
DESCRIPTION:
URL:https://westsidesportsmens.com/calendar/leadership-meeting-7/2027-01-14/
LOCATION:Club Office
CATEGORIES:General Event
END:VEVENT
BEGIN:VEVENT
DTSTART;TZID=UTC:20270116T080000
DTEND;TZID=UTC:20270116T140000
DTSTAMP:20260420T235405
CREATED:20250306T001902Z
LAST-MODIFIED:20250719T215717Z
UID:10001725-1800086400-1800108000@westsidesportsmens.com
SUMMARY:IDPA Shoot
DESCRIPTION:
URL:https://westsidesportsmens.com/calendar/idpa-shoot-2/2027-01-16/
LOCATION:Event Bays
CATEGORIES:Practical Action Shooting
END:VEVENT
BEGIN:VEVENT
DTSTART;TZID=UTC:20270119T183000
DTEND;TZID=UTC:20270119T200000
DTSTAMP:20260420T235405
CREATED:20231231T100907Z
LAST-MODIFIED:20231231T100931Z
UID:10001200-1800383400-1800388800@westsidesportsmens.com
SUMMARY:Rules & Regulations Committee Meeting
DESCRIPTION:
URL:https://westsidesportsmens.com/calendar/rules-regulations-committee-meeting/2027-01-19/
LOCATION:Club House
CATEGORIES:General Event
END:VEVENT
BEGIN:VEVENT
DTSTART;TZID=UTC:20270120T080000
DTEND;TZID=UTC:20270120T110000
DTSTAMP:20260420T235405
CREATED:20231231T112319Z
LAST-MODIFIED:20231231T112413Z
UID:10001485-1800432000-1800442800@westsidesportsmens.com
SUMMARY:Cowboy Shoot Setup
DESCRIPTION:
URL:https://westsidesportsmens.com/calendar/cowboy-shoot-setup/2027-01-20/
LOCATION:Cowboy Town\, 1000 Peerless Rd\, Evansville\, IN\, 47712\, United States
CATEGORIES:Cowboy
END:VEVENT
BEGIN:VEVENT
DTSTART;TZID=UTC:20270120T183000
DTEND;TZID=UTC:20270120T203000
DTSTAMP:20260420T235405
CREATED:20231231T101107Z
LAST-MODIFIED:20231231T101123Z
UID:10001260-1800469800-1800477000@westsidesportsmens.com
SUMMARY:Board of Directors Meeting
DESCRIPTION:
URL:https://westsidesportsmens.com/calendar/board-of-directors-meeting-2/2027-01-20/
LOCATION:Club Office
CATEGORIES:General Event
END:VEVENT
BEGIN:VEVENT
DTSTART;TZID=America/Chicago:20270123T090000
DTEND;TZID=America/Chicago:20270123T160000
DTSTAMP:20260420T235405
CREATED:20250306T011126Z
LAST-MODIFIED:20250719T215715Z
UID:10001786-1800694800-1800720000@westsidesportsmens.com
SUMMARY:Cowboy SASS Match
DESCRIPTION:
URL:https://westsidesportsmens.com/calendar/cowboy-sass-match-2/2027-01-23/
LOCATION:Cookhouse\, 1000 Peerless Rd\, Evansville\, IN\, 47712\, United States
CATEGORIES:Cowboy
END:VEVENT
BEGIN:VEVENT
DTSTART;TZID=America/Chicago:20270127T080000
DTEND;TZID=America/Chicago:20270127T120000
DTSTAMP:20260420T235405
CREATED:20250306T011312Z
LAST-MODIFIED:20250719T215716Z
UID:10001845-1801036800-1801051200@westsidesportsmens.com
SUMMARY:Cowboy Match Setup
DESCRIPTION:
URL:https://westsidesportsmens.com/calendar/cowboy-match-setup-3/2027-01-27/
LOCATION:Cowboy Town\, 1000 Peerless Rd\, Evansville\, IN\, 47712\, United States
CATEGORIES:Cowboy
END:VEVENT
BEGIN:VEVENT
DTSTART;TZID=UTC:20270201T180000
DTEND;TZID=UTC:20270201T200000
DTSTAMP:20260420T235405
CREATED:20231231T092753Z
LAST-MODIFIED:20231231T093808Z
UID:10000752-1801504800-1801512000@westsidesportsmens.com
SUMMARY:IDPA Meeting
DESCRIPTION:
URL:https://westsidesportsmens.com/calendar/idpa-meeting-2/2027-02-01/
LOCATION:Club House
CATEGORIES:Practical Action Shooting
END:VEVENT
BEGIN:VEVENT
DTSTART;TZID=UTC:20270201T190000
DTEND;TZID=UTC:20270201T210000
DTSTAMP:20260420T235405
CREATED:20231231T093611Z
LAST-MODIFIED:20231231T094546Z
UID:10000812-1801508400-1801515600@westsidesportsmens.com
SUMMARY:Cowboy Committee Meeting
DESCRIPTION:
URL:https://westsidesportsmens.com/calendar/cowboy-committee-meeting-3/2027-02-01/
LOCATION:Cookhouse\, 1000 Peerless Rd\, Evansville\, IN\, 47712\, United States
CATEGORIES:Cowboy
END:VEVENT
BEGIN:VEVENT
DTSTART;TZID=America/Chicago:20270203T190000
DTEND;TZID=America/Chicago:20270203T203000
DTSTAMP:20260420T235405
CREATED:20250306T000144Z
LAST-MODIFIED:20250719T215717Z
UID:10001642-1801681200-1801686600@westsidesportsmens.com
SUMMARY:General Member Meeting
DESCRIPTION:
URL:https://westsidesportsmens.com/calendar/general-member-meeting/2027-02-03/
LOCATION:Club House
CATEGORIES:General Event
END:VEVENT
BEGIN:VEVENT
DTSTART;TZID=UTC:20270204T180000
DTEND;TZID=UTC:20270204T200000
DTSTAMP:20260420T235405
CREATED:20231231T094347Z
LAST-MODIFIED:20231231T095142Z
UID:10000933-1801764000-1801771200@westsidesportsmens.com
SUMMARY:Membership Committee Meeting
DESCRIPTION:
URL:https://westsidesportsmens.com/calendar/membership-committee-meeting-2/2027-02-04/
LOCATION:Club Office
CATEGORIES:Membership
END:VEVENT
BEGIN:VEVENT
DTSTART;TZID=UTC:20270210T183000
DTEND;TZID=UTC:20270210T200000
DTSTAMP:20260420T235405
CREATED:20231231T094914Z
LAST-MODIFIED:20231231T095034Z
UID:10000874-1802284200-1802289600@westsidesportsmens.com
SUMMARY:Rifle Range Committee Meeting
DESCRIPTION:
URL:https://westsidesportsmens.com/calendar/rifle-range-committee-meeting-12/2027-02-10/
LOCATION:Club House
CATEGORIES:Rifle Range
END:VEVENT
BEGIN:VEVENT
DTSTART;TZID=UTC:20270213T080000
DTEND;TZID=UTC:20270213T170000
DTSTAMP:20260420T235405
CREATED:20231231T100506Z
LAST-MODIFIED:20231231T100553Z
UID:10001141-1802505600-1802538000@westsidesportsmens.com
SUMMARY:Club Work Day
DESCRIPTION:
URL:https://westsidesportsmens.com/calendar/club-work-day-2/2027-02-13/
LOCATION:Club Wide Event
CATEGORIES:General Event
END:VEVENT
BEGIN:VEVENT
DTSTART;TZID=UTC:20270216T183000
DTEND;TZID=UTC:20270216T200000
DTSTAMP:20260420T235405
CREATED:20231231T100907Z
LAST-MODIFIED:20231231T100931Z
UID:10001201-1802802600-1802808000@westsidesportsmens.com
SUMMARY:Rules & Regulations Committee Meeting
DESCRIPTION:
URL:https://westsidesportsmens.com/calendar/rules-regulations-committee-meeting/2027-02-16/
LOCATION:Club House
CATEGORIES:General Event
END:VEVENT
BEGIN:VEVENT
DTSTART;TZID=UTC:20270217T080000
DTEND;TZID=UTC:20270217T110000
DTSTAMP:20260420T235405
CREATED:20231231T112319Z
LAST-MODIFIED:20231231T112413Z
UID:10001486-1802851200-1802862000@westsidesportsmens.com
SUMMARY:Cowboy Shoot Setup
DESCRIPTION:
URL:https://westsidesportsmens.com/calendar/cowboy-shoot-setup/2027-02-17/
LOCATION:Cowboy Town\, 1000 Peerless Rd\, Evansville\, IN\, 47712\, United States
CATEGORIES:Cowboy
END:VEVENT
BEGIN:VEVENT
DTSTART;TZID=UTC:20270217T183000
DTEND;TZID=UTC:20270217T203000
DTSTAMP:20260420T235405
CREATED:20231231T101107Z
LAST-MODIFIED:20231231T101123Z
UID:10001261-1802889000-1802896200@westsidesportsmens.com
SUMMARY:Board of Directors Meeting
DESCRIPTION:
URL:https://westsidesportsmens.com/calendar/board-of-directors-meeting-2/2027-02-17/
LOCATION:Club Office
CATEGORIES:General Event
END:VEVENT
BEGIN:VEVENT
DTSTART;TZID=UTC:20270220T080000
DTEND;TZID=UTC:20270220T140000
DTSTAMP:20260420T235405
CREATED:20250306T001902Z
LAST-MODIFIED:20250719T215717Z
UID:10001726-1803110400-1803132000@westsidesportsmens.com
SUMMARY:IDPA Shoot
DESCRIPTION:
URL:https://westsidesportsmens.com/calendar/idpa-shoot-2/2027-02-20/
LOCATION:Event Bays
CATEGORIES:Practical Action Shooting
END:VEVENT
BEGIN:VEVENT
DTSTART;TZID=America/Chicago:20270224T080000
DTEND;TZID=America/Chicago:20270224T120000
DTSTAMP:20260420T235405
CREATED:20250306T011312Z
LAST-MODIFIED:20250719T215716Z
UID:10001846-1803456000-1803470400@westsidesportsmens.com
SUMMARY:Cowboy Match Setup
DESCRIPTION:
URL:https://westsidesportsmens.com/calendar/cowboy-match-setup-3/2027-02-24/
LOCATION:Cowboy Town\, 1000 Peerless Rd\, Evansville\, IN\, 47712\, United States
CATEGORIES:Cowboy
END:VEVENT
BEGIN:VEVENT
DTSTART;TZID=America/Chicago:20270227T090000
DTEND;TZID=America/Chicago:20270227T160000
DTSTAMP:20260420T235405
CREATED:20250306T011126Z
LAST-MODIFIED:20250719T215715Z
UID:10001787-1803718800-1803744000@westsidesportsmens.com
SUMMARY:Cowboy SASS Match
DESCRIPTION:
URL:https://westsidesportsmens.com/calendar/cowboy-sass-match-2/2027-02-27/
LOCATION:Cookhouse\, 1000 Peerless Rd\, Evansville\, IN\, 47712\, United States
CATEGORIES:Cowboy
END:VEVENT
BEGIN:VEVENT
DTSTART;TZID=UTC:20270301T180000
DTEND;TZID=UTC:20270301T200000
DTSTAMP:20260420T235405
CREATED:20231231T092753Z
LAST-MODIFIED:20231231T093808Z
UID:10000753-1803924000-1803931200@westsidesportsmens.com
SUMMARY:IDPA Meeting
DESCRIPTION:
URL:https://westsidesportsmens.com/calendar/idpa-meeting-2/2027-03-01/
LOCATION:Club House
CATEGORIES:Practical Action Shooting
END:VEVENT
BEGIN:VEVENT
DTSTART;TZID=UTC:20270301T190000
DTEND;TZID=UTC:20270301T210000
DTSTAMP:20260420T235405
CREATED:20231231T093611Z
LAST-MODIFIED:20231231T094546Z
UID:10000813-1803927600-1803934800@westsidesportsmens.com
SUMMARY:Cowboy Committee Meeting
DESCRIPTION:
URL:https://westsidesportsmens.com/calendar/cowboy-committee-meeting-3/2027-03-01/
LOCATION:Cookhouse\, 1000 Peerless Rd\, Evansville\, IN\, 47712\, United States
CATEGORIES:Cowboy
END:VEVENT
BEGIN:VEVENT
DTSTART;TZID=America/Chicago:20270303T190000
DTEND;TZID=America/Chicago:20270303T203000
DTSTAMP:20260420T235405
CREATED:20250306T000144Z
LAST-MODIFIED:20250719T215717Z
UID:10001643-1804100400-1804105800@westsidesportsmens.com
SUMMARY:General Member Meeting
DESCRIPTION:
URL:https://westsidesportsmens.com/calendar/general-member-meeting/2027-03-03/
LOCATION:Club House
CATEGORIES:General Event
END:VEVENT
BEGIN:VEVENT
DTSTART;TZID=UTC:20270304T180000
DTEND;TZID=UTC:20270304T200000
DTSTAMP:20260420T235405
CREATED:20231231T094347Z
LAST-MODIFIED:20231231T095142Z
UID:10000934-1804183200-1804190400@westsidesportsmens.com
SUMMARY:Membership Committee Meeting
DESCRIPTION:
URL:https://westsidesportsmens.com/calendar/membership-committee-meeting-2/2027-03-04/
LOCATION:Club Office
CATEGORIES:Membership
END:VEVENT
BEGIN:VEVENT
DTSTART;TZID=UTC:20270310T183000
DTEND;TZID=UTC:20270310T200000
DTSTAMP:20260420T235405
CREATED:20231231T094914Z
LAST-MODIFIED:20231231T095034Z
UID:10000875-1804703400-1804708800@westsidesportsmens.com
SUMMARY:Rifle Range Committee Meeting
DESCRIPTION:
URL:https://westsidesportsmens.com/calendar/rifle-range-committee-meeting-12/2027-03-10/
LOCATION:Club House
CATEGORIES:Rifle Range
END:VEVENT
BEGIN:VEVENT
DTSTART;TZID=UTC:20270311T183000
DTEND;TZID=UTC:20270311T200000
DTSTAMP:20260420T235405
CREATED:20231231T095910Z
LAST-MODIFIED:20231231T100235Z
UID:10001093-1804789800-1804795200@westsidesportsmens.com
SUMMARY:Leadership Meeting
DESCRIPTION:
URL:https://westsidesportsmens.com/calendar/leadership-meeting-7/2027-03-11/
LOCATION:Club Office
CATEGORIES:General Event
END:VEVENT
BEGIN:VEVENT
DTSTART;TZID=UTC:20270313T080000
DTEND;TZID=UTC:20270313T170000
DTSTAMP:20260420T235405
CREATED:20231231T100506Z
LAST-MODIFIED:20231231T100553Z
UID:10001142-1804924800-1804957200@westsidesportsmens.com
SUMMARY:Club Work Day
DESCRIPTION:
URL:https://westsidesportsmens.com/calendar/club-work-day-2/2027-03-13/
LOCATION:Club Wide Event
CATEGORIES:General Event
END:VEVENT
BEGIN:VEVENT
DTSTART;TZID=UTC:20270316T183000
DTEND;TZID=UTC:20270316T200000
DTSTAMP:20260420T235405
CREATED:20231231T100907Z
LAST-MODIFIED:20231231T100931Z
UID:10001202-1805221800-1805227200@westsidesportsmens.com
SUMMARY:Rules & Regulations Committee Meeting
DESCRIPTION:
URL:https://westsidesportsmens.com/calendar/rules-regulations-committee-meeting/2027-03-16/
LOCATION:Club House
CATEGORIES:General Event
END:VEVENT
BEGIN:VEVENT
DTSTART;TZID=UTC:20270317T080000
DTEND;TZID=UTC:20270317T110000
DTSTAMP:20260420T235405
CREATED:20231231T112319Z
LAST-MODIFIED:20231231T112413Z
UID:10001487-1805270400-1805281200@westsidesportsmens.com
SUMMARY:Cowboy Shoot Setup
DESCRIPTION:
URL:https://westsidesportsmens.com/calendar/cowboy-shoot-setup/2027-03-17/
LOCATION:Cowboy Town\, 1000 Peerless Rd\, Evansville\, IN\, 47712\, United States
CATEGORIES:Cowboy
END:VEVENT
BEGIN:VEVENT
DTSTART;TZID=UTC:20270317T183000
DTEND;TZID=UTC:20270317T203000
DTSTAMP:20260420T235405
CREATED:20231231T101107Z
LAST-MODIFIED:20231231T101123Z
UID:10001262-1805308200-1805315400@westsidesportsmens.com
SUMMARY:Board of Directors Meeting
DESCRIPTION:
URL:https://westsidesportsmens.com/calendar/board-of-directors-meeting-2/2027-03-17/
LOCATION:Club Office
CATEGORIES:General Event
END:VEVENT
BEGIN:VEVENT
DTSTART;TZID=UTC:20270320T080000
DTEND;TZID=UTC:20270320T140000
DTSTAMP:20260420T235405
CREATED:20250306T001902Z
LAST-MODIFIED:20250719T215717Z
UID:10001727-1805529600-1805551200@westsidesportsmens.com
SUMMARY:IDPA Shoot
DESCRIPTION:
URL:https://westsidesportsmens.com/calendar/idpa-shoot-2/2027-03-20/
LOCATION:Event Bays
CATEGORIES:Practical Action Shooting
END:VEVENT
END:VCALENDAR