BEGIN:VCALENDAR
VERSION:2.0
PRODID:-//West Side Sportsmans Club - ECPv6.15.15//NONSGML v1.0//EN
CALSCALE:GREGORIAN
METHOD:PUBLISH
X-ORIGINAL-URL:https://westsidesportsmens.com
X-WR-CALDESC:Events for West Side Sportsmans Club
REFRESH-INTERVAL;VALUE=DURATION:PT1H
X-Robots-Tag:noindex
X-PUBLISHED-TTL:PT1H
BEGIN:VTIMEZONE
TZID:America/Chicago
BEGIN:DAYLIGHT
TZOFFSETFROM:-0600
TZOFFSETTO:-0500
TZNAME:CDT
DTSTART:20240310T080000
END:DAYLIGHT
BEGIN:STANDARD
TZOFFSETFROM:-0500
TZOFFSETTO:-0600
TZNAME:CST
DTSTART:20241103T070000
END:STANDARD
BEGIN:DAYLIGHT
TZOFFSETFROM:-0600
TZOFFSETTO:-0500
TZNAME:CDT
DTSTART:20250309T080000
END:DAYLIGHT
BEGIN:STANDARD
TZOFFSETFROM:-0500
TZOFFSETTO:-0600
TZNAME:CST
DTSTART:20251102T070000
END:STANDARD
BEGIN:DAYLIGHT
TZOFFSETFROM:-0600
TZOFFSETTO:-0500
TZNAME:CDT
DTSTART:20260308T080000
END:DAYLIGHT
BEGIN:STANDARD
TZOFFSETFROM:-0500
TZOFFSETTO:-0600
TZNAME:CST
DTSTART:20261101T070000
END:STANDARD
END:VTIMEZONE
BEGIN:VEVENT
DTSTART;TZID=America/Chicago:20250601T120000
DTEND;TZID=America/Chicago:20250601T170000
DTSTAMP:20260422T211158
CREATED:20250306T000734Z
LAST-MODIFIED:20250719T215715Z
UID:10001684-1748779200-1748797200@westsidesportsmens.com
SUMMARY:Spot Shoot Round Robin
DESCRIPTION:WSSC Spring-Fall Spot Shoot Flyer 2025 (1)
URL:https://westsidesportsmens.com/calendar/spot-shoot-round-robin-2/2025-06-01/
LOCATION:Spot Range
CATEGORIES:Spot Shoot
ORGANIZER;CN="Kraig Hausmann":MAILTO:kraighausmann@gmail.com
END:VEVENT
END:VCALENDAR