BEGIN:VCALENDAR
VERSION:2.0
PRODID:-//West Side Sportsmans Club - ECPv6.15.15//NONSGML v1.0//EN
CALSCALE:GREGORIAN
METHOD:PUBLISH
X-ORIGINAL-URL:https://westsidesportsmens.com
X-WR-CALDESC:Events for West Side Sportsmans Club
REFRESH-INTERVAL;VALUE=DURATION:PT1H
X-Robots-Tag:noindex
X-PUBLISHED-TTL:PT1H
BEGIN:VTIMEZONE
TZID:UTC
BEGIN:STANDARD
TZOFFSETFROM:+0000
TZOFFSETTO:+0000
TZNAME:UTC
DTSTART:20210101T000000
END:STANDARD
END:VTIMEZONE
BEGIN:VEVENT
DTSTART;VALUE=DATE:20240309
DTEND;VALUE=DATE:20240310
DTSTAMP:20260421T150415
CREATED:20240301T003831Z
LAST-MODIFIED:20240301T003831Z
UID:10001588-1709942400-1710028799@westsidesportsmens.com
SUMMARY:IDPA Range Safety Officer Training
DESCRIPTION:
URL:https://westsidesportsmens.com/calendar/idpa-range-safety-officer-training/
LOCATION:Club House
CATEGORIES:Firearms Training,Practical Action Shooting,Special Events
END:VEVENT
BEGIN:VEVENT
DTSTART;TZID=UTC:20240210T080000
DTEND;TZID=UTC:20240210T140000
DTSTAMP:20260421T150415
CREATED:20240112T060802Z
LAST-MODIFIED:20240112T061125Z
UID:10001586-1707552000-1707573600@westsidesportsmens.com
SUMMARY:NRA Range Safety Officer
DESCRIPTION:
URL:https://westsidesportsmens.com/calendar/nra-range-safety-officer/
LOCATION:Club House
CATEGORIES:Firearms Training
ORGANIZER;CN="Brent Gariby":MAILTO:brent.garibay@gmail.com
END:VEVENT
BEGIN:VEVENT
DTSTART;TZID=UTC:20240127T100000
DTEND;TZID=UTC:20240127T140000
DTSTAMP:20260421T150415
CREATED:20231231T103133Z
LAST-MODIFIED:20231231T105515Z
UID:10001404-1706349600-1706364000@westsidesportsmens.com
SUMMARY:Firearms Training
DESCRIPTION:January: Handgun 101 Course 10A-2P \nFebruary: 2/10 NRA Range Safety Officer 8A; 2/24 Deadly Force 10A-2P \n  March: 3/2 Basic Handgun 8A-12p; 3/23 Women Only Class 8A-12P \nApril: 4/6 Reality Based Training 8A-12P; 4/20 Women Only Class 8A-12P \nMay: 5/4 Basic Handgun 8A-12P; 5/18 Women’s Class 8A-12P \nJune: 6/1 Concealed Carry 8A-12P; 6/15 Defensive Handgun 8A-12p \nJuly: 7/6 Reality Based Training 8A-12P; 7/27 Refuse to be a Victim+Handgun 10A-2P \nAugust: 8/10 Women’s Only 8A-12P; 8/24 Conceal Carry 8A-12P \nSeptember: 9/7 Basic Handgun 8-12; 9/21 Defensive Handgun 8A-12P \nOctober: 10/5 Basic Training 8A-12P; 10/19 Women’s Only Class 8A-12p \nNovember: 11/2 Deadly Force 10A-2P \nDecember: NO CLASS
URL:https://westsidesportsmens.com/calendar/firearms-training/
LOCATION:Club House
CATEGORIES:Firearms Training
ORGANIZER;CN="Brent Gariby":MAILTO:brent.garibay@gmail.com
END:VEVENT
BEGIN:VEVENT
DTSTART;TZID=UTC:20240112T100000
DTEND;TZID=UTC:20240112T140000
DTSTAMP:20260421T150415
CREATED:20240112T061353Z
LAST-MODIFIED:20240112T061405Z
UID:10001587-1705053600-1705068000@westsidesportsmens.com
SUMMARY:Deadly Force Class
DESCRIPTION:
URL:https://westsidesportsmens.com/calendar/deadly-force/
LOCATION:Club Office
CATEGORIES:Firearms Training
ORGANIZER;CN="Brent Gariby":MAILTO:brent.garibay@gmail.com
END:VEVENT
BEGIN:VEVENT
DTSTART;TZID=UTC:20231104T100000
DTEND;TZID=UTC:20231104T140000
DTSTAMP:20260421T150415
CREATED:20221228T100244Z
LAST-MODIFIED:20221228T100244Z
UID:10000511-1699092000-1699106400@westsidesportsmens.com
SUMMARY:Firearms Training Class
DESCRIPTION:
URL:https://westsidesportsmens.com/calendar/firearms-training-class/2023-11-04/
CATEGORIES:Firearms Training
ORGANIZER;CN="Brent Gariby":MAILTO:brent.garibay@gmail.com
END:VEVENT
BEGIN:VEVENT
DTSTART;TZID=UTC:20231021T080000
DTEND;TZID=UTC:20231021T140000
DTSTAMP:20260421T150415
CREATED:20221228T100244Z
LAST-MODIFIED:20221228T100244Z
UID:10000510-1697875200-1697896800@westsidesportsmens.com
SUMMARY:Firearms Training Class
DESCRIPTION:
URL:https://westsidesportsmens.com/calendar/firearms-training-class/2023-10-21/
CATEGORIES:Firearms Training
ORGANIZER;CN="Brent Gariby":MAILTO:brent.garibay@gmail.com
END:VEVENT
BEGIN:VEVENT
DTSTART;TZID=UTC:20231014T080000
DTEND;TZID=UTC:20231014T170000
DTSTAMP:20260421T150415
CREATED:20221228T100244Z
LAST-MODIFIED:20221228T100244Z
UID:10000509-1697270400-1697302800@westsidesportsmens.com
SUMMARY:Firearms Training Class
DESCRIPTION:
URL:https://westsidesportsmens.com/calendar/firearms-training-class/2023-10-14/
CATEGORIES:Firearms Training
ORGANIZER;CN="Brent Gariby":MAILTO:brent.garibay@gmail.com
END:VEVENT
BEGIN:VEVENT
DTSTART;TZID=UTC:20230923T080000
DTEND;TZID=UTC:20230923T120000
DTSTAMP:20260421T150415
CREATED:20221228T100244Z
LAST-MODIFIED:20221228T100244Z
UID:10000508-1695456000-1695470400@westsidesportsmens.com
SUMMARY:Firearms Training Class
DESCRIPTION:
URL:https://westsidesportsmens.com/calendar/firearms-training-class/2023-09-23/
CATEGORIES:Firearms Training
ORGANIZER;CN="Brent Gariby":MAILTO:brent.garibay@gmail.com
END:VEVENT
BEGIN:VEVENT
DTSTART;TZID=UTC:20230909T080000
DTEND;TZID=UTC:20230909T120000
DTSTAMP:20260421T150415
CREATED:20221228T100244Z
LAST-MODIFIED:20221228T100244Z
UID:10000507-1694246400-1694260800@westsidesportsmens.com
SUMMARY:Firearms Training Class
DESCRIPTION:
URL:https://westsidesportsmens.com/calendar/firearms-training-class/2023-09-09/
CATEGORIES:Firearms Training
ORGANIZER;CN="Brent Gariby":MAILTO:brent.garibay@gmail.com
END:VEVENT
BEGIN:VEVENT
DTSTART;TZID=UTC:20230826T080000
DTEND;TZID=UTC:20230826T120000
DTSTAMP:20260421T150415
CREATED:20221228T100244Z
LAST-MODIFIED:20221228T100244Z
UID:10000506-1693036800-1693051200@westsidesportsmens.com
SUMMARY:Firearms Training Class
DESCRIPTION:
URL:https://westsidesportsmens.com/calendar/firearms-training-class/2023-08-26/
CATEGORIES:Firearms Training
ORGANIZER;CN="Brent Gariby":MAILTO:brent.garibay@gmail.com
END:VEVENT
BEGIN:VEVENT
DTSTART;TZID=UTC:20230812T080000
DTEND;TZID=UTC:20230812T120000
DTSTAMP:20260421T150415
CREATED:20221228T100244Z
LAST-MODIFIED:20221228T100244Z
UID:10000505-1691827200-1691841600@westsidesportsmens.com
SUMMARY:Firearms Training Class
DESCRIPTION:
URL:https://westsidesportsmens.com/calendar/firearms-training-class/2023-08-12/
CATEGORIES:Firearms Training
ORGANIZER;CN="Brent Gariby":MAILTO:brent.garibay@gmail.com
END:VEVENT
BEGIN:VEVENT
DTSTART;TZID=UTC:20230729T100000
DTEND;TZID=UTC:20230729T140000
DTSTAMP:20260421T150415
CREATED:20221228T100244Z
LAST-MODIFIED:20221228T100244Z
UID:10000504-1690624800-1690639200@westsidesportsmens.com
SUMMARY:Firearms Training Class
DESCRIPTION:
URL:https://westsidesportsmens.com/calendar/firearms-training-class/2023-07-29/
CATEGORIES:Firearms Training
ORGANIZER;CN="Brent Gariby":MAILTO:brent.garibay@gmail.com
END:VEVENT
BEGIN:VEVENT
DTSTART;VALUE=DATE:20230715
DTEND;VALUE=DATE:20230716
DTSTAMP:20260421T150415
CREATED:20230222T084852Z
LAST-MODIFIED:20230606T083428Z
UID:10000692-1689379200-1689465599@westsidesportsmens.com
SUMMARY:NRA Youth Day
DESCRIPTION:Advertisement for NRA Youth Day July 16 2022 Rev 9.pdf.docx
URL:https://westsidesportsmens.com/calendar/nra-youth-day-2/
LOCATION:Club Wide Event
CATEGORIES:Archery,Cowboy,Firearms Training,General Event,Practical Action Shooting,Rifle Range,Special Events,Spot Shoot,Trap Range,Youth
END:VEVENT
BEGIN:VEVENT
DTSTART;TZID=UTC:20230617T080000
DTEND;TZID=UTC:20230617T120000
DTSTAMP:20260421T150415
CREATED:20221228T100244Z
LAST-MODIFIED:20221228T100244Z
UID:10000503-1686988800-1687003200@westsidesportsmens.com
SUMMARY:Firearms Training Class
DESCRIPTION:
URL:https://westsidesportsmens.com/calendar/firearms-training-class/2023-06-17/
CATEGORIES:Firearms Training
ORGANIZER;CN="Brent Gariby":MAILTO:brent.garibay@gmail.com
END:VEVENT
BEGIN:VEVENT
DTSTART;TZID=UTC:20230603T080000
DTEND;TZID=UTC:20230603T120000
DTSTAMP:20260421T150415
CREATED:20221228T100244Z
LAST-MODIFIED:20221228T100244Z
UID:10000502-1685779200-1685793600@westsidesportsmens.com
SUMMARY:Firearms Training Class
DESCRIPTION:
URL:https://westsidesportsmens.com/calendar/firearms-training-class/2023-06-03/
CATEGORIES:Firearms Training
ORGANIZER;CN="Brent Gariby":MAILTO:brent.garibay@gmail.com
END:VEVENT
BEGIN:VEVENT
DTSTART;TZID=UTC:20230520T080000
DTEND;TZID=UTC:20230520T120000
DTSTAMP:20260421T150415
CREATED:20221228T100244Z
LAST-MODIFIED:20221228T100244Z
UID:10000501-1684569600-1684584000@westsidesportsmens.com
SUMMARY:Firearms Training Class
DESCRIPTION:
URL:https://westsidesportsmens.com/calendar/firearms-training-class/2023-05-20/
CATEGORIES:Firearms Training
ORGANIZER;CN="Brent Gariby":MAILTO:brent.garibay@gmail.com
END:VEVENT
BEGIN:VEVENT
DTSTART;TZID=UTC:20230506T080000
DTEND;TZID=UTC:20230506T120000
DTSTAMP:20260421T150415
CREATED:20221228T100244Z
LAST-MODIFIED:20221228T100244Z
UID:10000500-1683360000-1683374400@westsidesportsmens.com
SUMMARY:Firearms Training Class
DESCRIPTION:
URL:https://westsidesportsmens.com/calendar/firearms-training-class/2023-05-06/
CATEGORIES:Firearms Training
ORGANIZER;CN="Brent Gariby":MAILTO:brent.garibay@gmail.com
END:VEVENT
BEGIN:VEVENT
DTSTART;TZID=UTC:20230422T080000
DTEND;TZID=UTC:20230422T120000
DTSTAMP:20260421T150415
CREATED:20221228T100244Z
LAST-MODIFIED:20221228T100244Z
UID:10000499-1682150400-1682164800@westsidesportsmens.com
SUMMARY:Firearms Training Class
DESCRIPTION:
URL:https://westsidesportsmens.com/calendar/firearms-training-class/2023-04-22/
CATEGORIES:Firearms Training
ORGANIZER;CN="Brent Gariby":MAILTO:brent.garibay@gmail.com
END:VEVENT
BEGIN:VEVENT
DTSTART;TZID=UTC:20230325T080000
DTEND;TZID=UTC:20230325T120000
DTSTAMP:20260421T150415
CREATED:20221228T100244Z
LAST-MODIFIED:20221228T100244Z
UID:10000498-1679731200-1679745600@westsidesportsmens.com
SUMMARY:Firearms Training Class
DESCRIPTION:
URL:https://westsidesportsmens.com/calendar/firearms-training-class/2023-03-25/
CATEGORIES:Firearms Training
ORGANIZER;CN="Brent Gariby":MAILTO:brent.garibay@gmail.com
END:VEVENT
BEGIN:VEVENT
DTSTART;TZID=UTC:20230311T080000
DTEND;TZID=UTC:20230311T120000
DTSTAMP:20260421T150415
CREATED:20221228T100244Z
LAST-MODIFIED:20221228T100244Z
UID:10000497-1678521600-1678536000@westsidesportsmens.com
SUMMARY:Firearms Training Class
DESCRIPTION:
URL:https://westsidesportsmens.com/calendar/firearms-training-class/2023-03-11/
CATEGORIES:Firearms Training
ORGANIZER;CN="Brent Gariby":MAILTO:brent.garibay@gmail.com
END:VEVENT
BEGIN:VEVENT
DTSTART;TZID=UTC:20230225T080000
DTEND;TZID=UTC:20230225T140000
DTSTAMP:20260421T150415
CREATED:20221228T100244Z
LAST-MODIFIED:20221228T100244Z
UID:10000496-1677312000-1677333600@westsidesportsmens.com
SUMMARY:Firearms Training Class
DESCRIPTION:
URL:https://westsidesportsmens.com/calendar/firearms-training-class/2023-02-25/
CATEGORIES:Firearms Training
ORGANIZER;CN="Brent Gariby":MAILTO:brent.garibay@gmail.com
END:VEVENT
BEGIN:VEVENT
DTSTART;TZID=UTC:20230211T080000
DTEND;TZID=UTC:20230211T140000
DTSTAMP:20260421T150415
CREATED:20221228T100244Z
LAST-MODIFIED:20221228T100244Z
UID:10000495-1676102400-1676124000@westsidesportsmens.com
SUMMARY:Firearms Training Class
DESCRIPTION:
URL:https://westsidesportsmens.com/calendar/firearms-training-class/2023-02-11/
CATEGORIES:Firearms Training
ORGANIZER;CN="Brent Gariby":MAILTO:brent.garibay@gmail.com
END:VEVENT
BEGIN:VEVENT
DTSTART;TZID=UTC:20230128T100000
DTEND;TZID=UTC:20230128T140000
DTSTAMP:20260421T150415
CREATED:20221228T100244Z
LAST-MODIFIED:20221228T100244Z
UID:10000494-1674900000-1674914400@westsidesportsmens.com
SUMMARY:Firearms Training Class
DESCRIPTION:
URL:https://westsidesportsmens.com/calendar/firearms-training-class/2023-01-28/
CATEGORIES:Firearms Training
ORGANIZER;CN="Brent Gariby":MAILTO:brent.garibay@gmail.com
END:VEVENT
BEGIN:VEVENT
DTSTART;TZID=UTC:20221105T080000
DTEND;TZID=UTC:20221105T130000
DTSTAMP:20260421T150415
CREATED:20211228T100453Z
LAST-MODIFIED:20211228T100453Z
UID:10000358-1667635200-1667653200@westsidesportsmens.com
SUMMARY:Deadly Force Law Seminar
DESCRIPTION:
URL:https://westsidesportsmens.com/calendar/deadly-force-law-seminar-2/
LOCATION:Club House
CATEGORIES:Firearms Training
ORGANIZER;CN="Brent Gariby":MAILTO:brent.garibay@gmail.com
END:VEVENT
BEGIN:VEVENT
DTSTART;TZID=UTC:20221022T080000
DTEND;TZID=UTC:20221022T170000
DTSTAMP:20260421T150415
CREATED:20211228T100346Z
LAST-MODIFIED:20211228T100346Z
UID:10000357-1666425600-1666458000@westsidesportsmens.com
SUMMARY:Women's Only Basic Handgun (Level 1)
DESCRIPTION:
URL:https://westsidesportsmens.com/calendar/womens-only-basic-handgun-level-1-6/
LOCATION:Club House
CATEGORIES:Firearms Training
ORGANIZER;CN="Brent Gariby":MAILTO:brent.garibay@gmail.com
END:VEVENT
BEGIN:VEVENT
DTSTART;VALUE=DATE:20221006
DTEND;VALUE=DATE:20221010
DTSTAMP:20260421T150415
CREATED:20211228T104001Z
LAST-MODIFIED:20211228T104001Z
UID:10000374-1665014400-1665359999@westsidesportsmens.com
SUMMARY:All Ranges Closed for Holiday Havoc
DESCRIPTION:
URL:https://westsidesportsmens.com/calendar/all-ranges-closed-for-holiday-havoc/
CATEGORIES:Archery,Cowboy,Firearms Training,General Event,Practical Action Shooting,Rifle Range,Special Events,Spot Shoot,Trap Range
END:VEVENT
BEGIN:VEVENT
DTSTART;TZID=UTC:20220924T080000
DTEND;TZID=UTC:20220924T170000
DTSTAMP:20260421T150415
CREATED:20211228T100247Z
LAST-MODIFIED:20211228T100247Z
UID:10000448-1664006400-1664038800@westsidesportsmens.com
SUMMARY:Basic Handgun (Level 1)
DESCRIPTION:
URL:https://westsidesportsmens.com/calendar/basic-handgun-level-1-4/
LOCATION:Club House
CATEGORIES:Firearms Training
ORGANIZER;CN="Brent Gariby":MAILTO:brent.garibay@gmail.com
END:VEVENT
BEGIN:VEVENT
DTSTART;TZID=UTC:20220910T080000
DTEND;TZID=UTC:20220910T170000
DTSTAMP:20260421T150415
CREATED:20211228T100155Z
LAST-MODIFIED:20211228T100155Z
UID:10000447-1662796800-1662829200@westsidesportsmens.com
SUMMARY:Women's Only Basic Handgun (Level 1)
DESCRIPTION:
URL:https://westsidesportsmens.com/calendar/womens-only-basic-handgun-level-1-5/
LOCATION:Club House
CATEGORIES:Firearms Training
ORGANIZER;CN="Brent Gariby":MAILTO:brent.garibay@gmail.com
END:VEVENT
BEGIN:VEVENT
DTSTART;TZID=UTC:20220827T080000
DTEND;TZID=UTC:20220827T130000
DTSTAMP:20260421T150415
CREATED:20211228T100059Z
LAST-MODIFIED:20211228T100059Z
UID:10000446-1661587200-1661605200@westsidesportsmens.com
SUMMARY:Basic Handgun (Level 1)
DESCRIPTION:
URL:https://westsidesportsmens.com/calendar/basic-handgun-level-1-3/
LOCATION:Club House
CATEGORIES:Firearms Training
ORGANIZER;CN="Brent Gariby":MAILTO:brent.garibay@gmail.com
END:VEVENT
BEGIN:VEVENT
DTSTART;TZID=UTC:20220813T080000
DTEND;TZID=UTC:20220813T130000
DTSTAMP:20260421T150415
CREATED:20211228T095953Z
LAST-MODIFIED:20211228T095953Z
UID:10000445-1660377600-1660395600@westsidesportsmens.com
SUMMARY:Women's Only Basic Handgun (Level 1)
DESCRIPTION:
URL:https://westsidesportsmens.com/calendar/womens-only-basic-handgun-level-1-4/
LOCATION:Club House
CATEGORIES:Firearms Training
ORGANIZER;CN="Brent Gariby":MAILTO:brent.garibay@gmail.com
END:VEVENT
END:VCALENDAR