BEGIN:VCALENDAR
VERSION:2.0
PRODID:-//West Side Sportsmans Club - ECPv6.15.15//NONSGML v1.0//EN
CALSCALE:GREGORIAN
METHOD:PUBLISH
X-WR-CALNAME:West Side Sportsmans Club
X-ORIGINAL-URL:https://westsidesportsmens.com
X-WR-CALDESC:Events for West Side Sportsmans Club
REFRESH-INTERVAL;VALUE=DURATION:PT1H
X-Robots-Tag:noindex
X-PUBLISHED-TTL:PT1H
BEGIN:VTIMEZONE
TZID:UTC
BEGIN:STANDARD
TZOFFSETFROM:+0000
TZOFFSETTO:+0000
TZNAME:UTC
DTSTART:20210101T000000
END:STANDARD
END:VTIMEZONE
BEGIN:VEVENT
DTSTART;VALUE=DATE:20241006
DTEND;VALUE=DATE:20241013
DTSTAMP:20260421T212300
CREATED:20231231T113836Z
LAST-MODIFIED:20231231T113851Z
UID:10001516-1728172800-1728777599@westsidesportsmens.com
SUMMARY:IDPA Holiday Havoc
DESCRIPTION:
URL:https://westsidesportsmens.com/calendar/holiday-havoc-2/
LOCATION:Club Wide Event
CATEGORIES:Archery,Cowboy,General Event,Practical Action Shooting,Rifle Range,Special Events,Spot Shoot,Trap Range
END:VEVENT
BEGIN:VEVENT
DTSTART;VALUE=DATE:20240712
DTEND;VALUE=DATE:20240714
DTSTAMP:20260421T212300
CREATED:20231231T114047Z
LAST-MODIFIED:20231231T114047Z
UID:10001517-1720742400-1720915199@westsidesportsmens.com
SUMMARY:NRA Youth Day
DESCRIPTION:
URL:https://westsidesportsmens.com/calendar/nra-youth-day-3/
LOCATION:Club Wide Event
CATEGORIES:Archery,Cowboy,General Event,Practical Action Shooting,Rifle Range,Special Events,Spot Shoot,Trap Range,Youth
END:VEVENT
BEGIN:VEVENT
DTSTART;VALUE=DATE:20230928
DTEND;VALUE=DATE:20231001
DTSTAMP:20260421T212300
CREATED:20230222T083102Z
LAST-MODIFIED:20230222T083102Z
UID:10000675-1695859200-1696118399@westsidesportsmens.com
SUMMARY:Holiday Havoc
DESCRIPTION:
URL:https://westsidesportsmens.com/calendar/holiday-havoc/
LOCATION:Event Bays
CATEGORIES:Archery,Cowboy,Practical Action Shooting,Rifle Range,Special Events,Spot Shoot,Trap Range
END:VEVENT
BEGIN:VEVENT
DTSTART;VALUE=DATE:20230715
DTEND;VALUE=DATE:20230716
DTSTAMP:20260421T212300
CREATED:20230222T084852Z
LAST-MODIFIED:20230606T083428Z
UID:10000692-1689379200-1689465599@westsidesportsmens.com
SUMMARY:NRA Youth Day
DESCRIPTION:Advertisement for NRA Youth Day July 16 2022 Rev 9.pdf.docx
URL:https://westsidesportsmens.com/calendar/nra-youth-day-2/
LOCATION:Club Wide Event
CATEGORIES:Archery,Cowboy,Firearms Training,General Event,Practical Action Shooting,Rifle Range,Special Events,Spot Shoot,Trap Range,Youth
END:VEVENT
BEGIN:VEVENT
DTSTART;VALUE=DATE:20221006
DTEND;VALUE=DATE:20221010
DTSTAMP:20260421T212300
CREATED:20211228T104001Z
LAST-MODIFIED:20211228T104001Z
UID:10000374-1665014400-1665359999@westsidesportsmens.com
SUMMARY:All Ranges Closed for Holiday Havoc
DESCRIPTION:
URL:https://westsidesportsmens.com/calendar/all-ranges-closed-for-holiday-havoc/
CATEGORIES:Archery,Cowboy,Firearms Training,General Event,Practical Action Shooting,Rifle Range,Special Events,Spot Shoot,Trap Range
END:VEVENT
END:VCALENDAR